Felt | Verdi |
AlreadyApplied | True |
Aperture | 5.6 |
ApertureValue | 5.6 |
ApproximateFocusDistance | 4294967295 |
Artist | Igor Kostin |
AutoLateralCA | 1 |
BitsPerSample | 8 |
Blacks2012 | +62 |
BlueHue | 0 |
BlueSaturation | +78 |
By-line | Igor Kostin |
CameraProfile | Adobe Standard |
CircGradBasedCorrActive | true |
CircGradBasedCorrAmount | 1.000000 |
CircGradBasedCorrBrightness | 0.000000 |
CircGradBasedCorrClarity2012 | 0.000000 |
CircGradBasedCorrContrast2012 | 0.000000 |
CircGradBasedCorrCorrectionRangeMaskType | 0 |
CircGradBasedCorrDefringe | 0.000000 |
CircGradBasedCorrExposure2012 | 0.000000 |
CircGradBasedCorrHighlights2012 | 0.302210 |
CircGradBasedCorrHue | 0.000000 |
CircGradBasedCorrLocalBlacks2012 | 0.000000 |
CircGradBasedCorrLocalDehaze | 0.000000 |
CircGradBasedCorrLocalWhites2012 | 0.526391 |
CircGradBasedCorrLuminanceNoise | 0.000000 |
CircGradBasedCorrMaskAngle | 5.788880 |
CircGradBasedCorrMaskBottom | 0.994180 |
CircGradBasedCorrMaskFeather | +34 |
CircGradBasedCorrMaskFlipped | true |
CircGradBasedCorrMaskLeft | -0.013879 |
CircGradBasedCorrMaskMidpoint | +50 |
CircGradBasedCorrMaskRight | 0.705319 |
CircGradBasedCorrMaskRoundness | 0 |
CircGradBasedCorrMaskTop | 0.525622 |
CircGradBasedCorrMaskValue | 1.000000 |
CircGradBasedCorrMaskVersion | +2 |
CircGradBasedCorrMoire | 0.000000 |
CircGradBasedCorrSaturation (1) | -0.047732 |
CircGradBasedCorrSaturation | 0.000000 |
CircGradBasedCorrShadows2012 | 0.208365 |
CircGradBasedCorrSharpness | 0.000000 |
CircGradBasedCorrTemperature | 0.000000 |
CircGradBasedCorrTint | 0.000000 |
CircGradBasedCorrWhat | Correction |
CircleOfConfusion | 0.005 mm |
City | Bodø |
Clarity2012 | +22 |
ColorComponents | 3 |
ColorNoiseReduction | 25 |
ColorNoiseReductionDetail | 50 |
ColorNoiseReductionSmoothness | 50 |
ColorSpace | sRGB |
ColorTemperature | 5700 |
ColorTransform | YCbCr |
Contrast2012 | 0 |
ConvertToGrayscale | False |
Copyright | All rights reserved |
CopyrightFlag | True |
CopyrightNotice | All rights reserved |
Country | Norway |
Country-PrimaryLocationCode | NO |
Country-PrimaryLocationName | Norway |
CountryCode | NO |
CreateDate (1) | 2018:04:25 12:47:27.05 |
CreateDate | 2018:04:25 12:47:27 |
Creator | Igor Kostin |
CropAngle | -0.004639 |
CropBottom | 0.909205 |
CropConstrainToWarp | 0 |
CropLeft | 0.2863 |
CropRight | 0.82811 |
CropTop | 0.096621 |
CustomRendered | Normal |
DateCreated (1) | 2018:04:25 |
DateCreated | 2018:04:25 12:47:27.05 |
DateTimeOriginal | 2018:04:25 12:47:27 |
DefringeGreenAmount | 0 |
DefringeGreenHueHi | 60 |
DefringeGreenHueLo | 40 |
DefringePurpleAmount | 0 |
DefringePurpleHueHi | 70 |
DefringePurpleHueLo | 30 |
Dehaze | 0 |
DistortionCorrectionAlreadyApplied | True |
DOF | inf (2041.34 m - inf) |
Exposure2012 | 0.00 |
ExposureCompensation | 0 |
ExposureMode | Auto |
ExposureProgram | Aperture-priority AE |
ExposureTime | 1/4000 |
Firmware | 1.0.4 |
Flash | Off, Did not fire |
FlashCompensation | 0 |
FNumber | 5.6 |
FocalLength | 235.0 mm |
Format | image/jpeg |
FOV | 1.4 deg |
GPSAltitude (1) | 3.7 m |
GPSAltitude | 3.7 m Above Sea Level |
GPSAltitudeRef | Above Sea Level |
GPSDateStamp | 2018:04:25 |
GPSDateTime | 2018:04:25 10:47:21.91Z |
GPSDOP | 1.6 |
GPSImgDirectionRef | Magnetic North |
GPSLatitude (1) | 67 deg 15' 52.99" |
GPSLatitude | 67 deg 15' 52.99" N |
GPSLatitudeRef | North |
GPSLongitude (1) | 14 deg 33' 52.01" |
GPSLongitude | 14 deg 33' 52.01" E |
GPSLongitudeRef | East |
GPSMapDatum | WGS-84 |
GPSMeasureMode | 3-Dimensional Measurement |
GPSSatellites | 26 |
GPSStatus | Measurement Active |
GPSTimeStamp | 10:47:21.91 |
GPSVersionID | 2.3.0.0 |
GradientBasedCorrActive | true |
GradientBasedCorrAmount | 1.000000 |
GradientBasedCorrBrightness | 0.000000 |
GradientBasedCorrClarity2012 | 0.212726 |
GradientBasedCorrContrast2012 | 0.000000 |
GradientBasedCorrCorrectionRangeMaskType | 0 |
GradientBasedCorrDefringe | 0.000000 |
GradientBasedCorrExposure2012 | 0.000000 |
GradientBasedCorrHighlights2012 | -0.715361 |
GradientBasedCorrHue | 0.000000 |
GradientBasedCorrLocalBlacks2012 | 0.000000 |
GradientBasedCorrLocalDehaze | 0.000000 |
GradientBasedCorrLocalWhites2012 | -0.161239 |
GradientBasedCorrLuminanceNoise | 0.000000 |
GradientBasedCorrMaskFullX | 0.503923 |
GradientBasedCorrMaskFullY | 0.216930 |
GradientBasedCorrMaskValue | 1.000000 |
GradientBasedCorrMaskWhat | Mask/Gradient |
GradientBasedCorrMaskZeroX | 0.508200 |
GradientBasedCorrMaskZeroY | 0.480230 |
GradientBasedCorrMoire | 0.000000 |
GradientBasedCorrSaturation | 0.000000 |
GradientBasedCorrShadows2012 | 0.000000 |
GradientBasedCorrSharpness | 0.000000 |
GradientBasedCorrTemperature | 0.000000 |
GradientBasedCorrTint | 0.000000 |
GradientBasedCorrWhat | Correction |
GrainAmount | 0 |
GreenHue | 0 |
GreenSaturation | -14 |
HasCrop | True |
HasSettings | True |
Highlights2012 | -24 |
HueAdjustmentAqua | -24 |
HueAdjustmentBlue | -30 |
HueAdjustmentGreen | -12 |
HueAdjustmentMagenta | 0 |
HueAdjustmentOrange | -18 |
HueAdjustmentPurple | -20 |
HueAdjustmentRed | -18 |
HueAdjustmentYellow | -18 |
HyperfocalDistance | 2041.34 m |
ImageHeight | 1200 |
ImageNumber | 0 |
ImageSize | 1200x1200 |
ImageWidth | 1200 |
ISO | 320 |
Lens | EF28-300mm f/3.5-5.6L IS USM |
LensID (1) | 233 |
LensID | Canon EF 28-300mm f/3.5-5.6L IS USM |
LensInfo | 28-300mm f/? |
LensManualDistortionAmount | 0 |
LensModel | EF28-300mm f/3.5-5.6L IS USM |
LensProfileChromaticAberrationScale | 100 |
LensProfileDistortionScale | 100 |
LensProfileEnable | 1 |
LensProfileSetup | LensDefaults |
LensProfileVignettingScale | 100 |
LensSerialNumber | 000020a680 |
LightValue | 15.3 |
LookName | |
LuminanceAdjustmentAqua | +9 |
LuminanceAdjustmentBlue | +15 |
LuminanceAdjustmentGreen | +14 |
LuminanceAdjustmentMagenta | +5 |
LuminanceAdjustmentOrange | +33 |
LuminanceAdjustmentPurple | +5 |
LuminanceAdjustmentRed | 0 |
LuminanceAdjustmentYellow | +24 |
LuminanceSmoothing | 0 |
Make | Canon |
Marked | True |
MaxApertureValue | 5.7 |
Megapixels | 1.4 |
MeteringMode | Partial |
Model | Canon EOS 7D Mark II |
ModifyDate (1) | 2019:02:15 13:16:41+01:00 |
ModifyDate | 2019:02:15 13:16:41 |
OverrideLookVignette | False |
PaintCorrectionActive | true |
PaintCorrectionAmount | 1.000000 |
PaintCorrectionBrightness | 0.000000 |
PaintCorrectionClarity2012 (1) | 0.662462 |
PaintCorrectionClarity2012 (2) | 0.000000 |
PaintCorrectionClarity2012 | 0.724586 |
PaintCorrectionContrast2012 | 0.000000 |
PaintCorrectionCorrectionRangeMaskType | 0 |
PaintCorrectionCorrectionRangeMaskVersion | +2 |
PaintCorrectionDefringe | 0.000000 |
PaintCorrectionExposure2012 | 0.000000 |
PaintCorrectionHighlights2012 | 0.000000 |
PaintCorrectionHue | 0.000000 |
PaintCorrectionLocalBlacks2012 (2) | 0.000000 |
PaintCorrectionLocalBlacks2012 | -0.040380 |
PaintCorrectionLocalDehaze | 0.000000 |
PaintCorrectionLocalWhites2012 (1) | 0.452654 |
PaintCorrectionLocalWhites2012 (2) | 0.000000 |
PaintCorrectionLocalWhites2012 | 0.480892 |
PaintCorrectionLuminanceNoise | 0.000000 |
PaintCorrectionMaskCenterWeight | 0.024644 |
PaintCorrectionMaskFlow (1) | 0.513804 |
PaintCorrectionMaskFlow (10) | 0.453311 |
PaintCorrectionMaskFlow (11) | 0.561552 |
PaintCorrectionMaskFlow (12) | 0.664228 |
PaintCorrectionMaskFlow (13) | 0.575068 |
PaintCorrectionMaskFlow (14) | 0.448502 |
PaintCorrectionMaskFlow (15) | 0.493446 |
PaintCorrectionMaskFlow (16) | 0.361759 |
PaintCorrectionMaskFlow (17) | 0.556150 |
PaintCorrectionMaskFlow (18) | 0.664847 |
PaintCorrectionMaskFlow (19) | 0.443437 |
PaintCorrectionMaskFlow (2) | 0.557080 |
PaintCorrectionMaskFlow (20) | 0.611109 |
PaintCorrectionMaskFlow (21) | 0.053392 |
PaintCorrectionMaskFlow (22) | 0.377465 |
PaintCorrectionMaskFlow (23) | 0.633626 |
PaintCorrectionMaskFlow (24) | 0.449989 |
PaintCorrectionMaskFlow (25) | 0.609905 |
PaintCorrectionMaskFlow (26) | 0.473980 |
PaintCorrectionMaskFlow (27) | 0.524769 |
PaintCorrectionMaskFlow (28) | 0.255756 |
PaintCorrectionMaskFlow (29) | 0.163453 |
PaintCorrectionMaskFlow (3) | 0.538902 |
PaintCorrectionMaskFlow (30) | 0.124129 |
PaintCorrectionMaskFlow (31) | 0.196012 |
PaintCorrectionMaskFlow (32) | 0.452023 |
PaintCorrectionMaskFlow (33) | 0.074084 |
PaintCorrectionMaskFlow (34) | 0.275086 |
PaintCorrectionMaskFlow (35) | 0.156361 |
PaintCorrectionMaskFlow (36) | 0.262693 |
PaintCorrectionMaskFlow (37) | 0.518658 |
PaintCorrectionMaskFlow (38) | 0.195012 |
PaintCorrectionMaskFlow (39) | 0.553076 |
PaintCorrectionMaskFlow (4) | 0.397520 |
PaintCorrectionMaskFlow (40) | 0.359869 |
PaintCorrectionMaskFlow (41) | 0.587017 |
PaintCorrectionMaskFlow (42) | 0.492794 |
PaintCorrectionMaskFlow (43) | 0.511964 |
PaintCorrectionMaskFlow (44) | 0.384417 |
PaintCorrectionMaskFlow (46) | 0.467876 |
PaintCorrectionMaskFlow (47) | 0.573695 |
PaintCorrectionMaskFlow (48) | 0.673258 |
PaintCorrectionMaskFlow (49) | 0.551053 |
PaintCorrectionMaskFlow (5) | 0.400086 |
PaintCorrectionMaskFlow (6) | 0.599273 |
PaintCorrectionMaskFlow (7) | 0.620024 |
PaintCorrectionMaskFlow (8) | 0.672319 |
PaintCorrectionMaskFlow (9) | 0.277407 |
PaintCorrectionMaskFlow | 0.648506 |
PaintCorrectionMaskRadius (1) | 0.098551 |
PaintCorrectionMaskRadius (10) | 0.098758 |
PaintCorrectionMaskRadius (11) | 0.098468 |
PaintCorrectionMaskRadius (12) | 0.098503 |
PaintCorrectionMaskRadius (13) | 0.099206 |
PaintCorrectionMaskRadius (14) | 0.098679 |
PaintCorrectionMaskRadius (15) | 0.051671 |
PaintCorrectionMaskRadius (16) | 0.051565 |
PaintCorrectionMaskRadius (17) | 0.051550 |
PaintCorrectionMaskRadius (18) | 0.051539 |
PaintCorrectionMaskRadius (19) | 0.051541 |
PaintCorrectionMaskRadius (2) | 0.099138 |
PaintCorrectionMaskRadius (20) | 0.051555 |
PaintCorrectionMaskRadius (21) | 0.051604 |
PaintCorrectionMaskRadius (22) | 0.051617 |
PaintCorrectionMaskRadius (23) | 0.051620 |
PaintCorrectionMaskRadius (24) | 0.051595 |
PaintCorrectionMaskRadius (25) | 0.092358 |
PaintCorrectionMaskRadius (26) | 0.087945 |
PaintCorrectionMaskRadius (27) | 0.088071 |
PaintCorrectionMaskRadius (28) | 0.088022 |
PaintCorrectionMaskRadius (29) | 0.088454 |
PaintCorrectionMaskRadius (3) | 0.098939 |
PaintCorrectionMaskRadius (30) | 0.053725 |
PaintCorrectionMaskRadius (31) | 0.053591 |
PaintCorrectionMaskRadius (32) | 0.043951 |
PaintCorrectionMaskRadius (34) | 0.024132 |
PaintCorrectionMaskRadius (35) | 0.024122 |
PaintCorrectionMaskRadius (36) | 0.019245 |
PaintCorrectionMaskRadius (37) | 0.049129 |
PaintCorrectionMaskRadius (38) | 0.014581 |
PaintCorrectionMaskRadius (39) | 0.054483 |
PaintCorrectionMaskRadius (4) | 0.098507 |
PaintCorrectionMaskRadius (40) | 0.054447 |
PaintCorrectionMaskRadius (41) | 0.054353 |
PaintCorrectionMaskRadius (42) | 0.054356 |
PaintCorrectionMaskRadius (43) | 0.054372 |
PaintCorrectionMaskRadius (44) | 0.054387 |
PaintCorrectionMaskRadius (45) | 0.054385 |
PaintCorrectionMaskRadius (46) | 0.054373 |
PaintCorrectionMaskRadius (47) | 0.130933 |
PaintCorrectionMaskRadius (48) | 0.131047 |
PaintCorrectionMaskRadius (49) | 0.131136 |
PaintCorrectionMaskRadius (5) | 0.098460 |
PaintCorrectionMaskRadius (6) | 0.098547 |
PaintCorrectionMaskRadius (7) | 0.098825 |
PaintCorrectionMaskRadius (8) | 0.099054 |
PaintCorrectionMaskRadius (9) | 0.098908 |
PaintCorrectionMaskRadius | 0.131035 |
PaintCorrectionMaskValue (31) | 0.000000 |
PaintCorrectionMaskValue | 1.000000 |
PaintCorrectionMaskWhat | Mask/Paint |
PaintCorrectionMoire | 0.000000 |
PaintCorrectionSaturation | 0.000000 |
PaintCorrectionShadows2012 (2) | 0.505083 |
PaintCorrectionShadows2012 | 0.000000 |
PaintCorrectionSharpness (2) | 0.596386 |
PaintCorrectionSharpness | 0.000000 |
PaintCorrectionTemperature | 0.000000 |
PaintCorrectionTint | 0.000000 |
PaintCorrectionWhat | Correction |
ParametricDarks | -4 |
ParametricHighlights | -6 |
ParametricHighlightSplit | 75 |
ParametricLights | +8 |
ParametricMidtoneSplit | 50 |
ParametricShadows | +6 |
ParametricShadowSplit | 25 |
PerspectiveAspect | 0 |
PerspectiveHorizontal | 0 |
PerspectiveRotate | 0.0 |
PerspectiveScale | 100 |
PerspectiveUpright | 0 |
PerspectiveVertical | 0 |
PerspectiveX | 0.00 |
PerspectiveY | 0.00 |
PostCropVignetteAmount | -32 |
PostCropVignetteFeather | 80 |
PostCropVignetteHighlightContrast | 100 |
PostCropVignetteMidpoint | 32 |
PostCropVignetteRoundness | 0 |
PostCropVignetteStyle | 1 |
ProcessVersion | 10.0 |
ProfileDescription | sRGB IEC61966-2.1 |
Province-State | Nordland |
Rating | 5 |
RawFileName | 20180425_Nord-1811.CR2 |
RecommendedExposureIndex | 320 |
RedHue | +19 |
RedSaturation | -17 |
Rights | All rights reserved |
Saturation | -11 |
SaturationAdjustmentAqua | -42 |
SaturationAdjustmentBlue | -47 |
SaturationAdjustmentGreen | -36 |
SaturationAdjustmentMagenta | +2 |
SaturationAdjustmentOrange | -15 |
SaturationAdjustmentPurple | -24 |
SaturationAdjustmentRed | +12 |
SaturationAdjustmentYellow | -38 |
ScaleFactor35efl | 6.2 |
SceneCaptureType | Standard |
SensitivityType | Recommended Exposure Index |
SerialNumber | 033021000388 |
Shadows2012 | +67 |
ShadowTint | 0 |
SharpenDetail | 25 |
SharpenEdgeMasking | 0 |
SharpenRadius | +1.0 |
Sharpness | 40 |
ShutterSpeed | 1/4000 |
ShutterSpeedValue | 1/4000 |
SplitToningBalance | 0 |
SplitToningHighlightHue | 57 |
SplitToningHighlightSaturation | 6 |
SplitToningShadowHue | 0 |
SplitToningShadowSaturation | 0 |
State | Nordland |
Tint | +12 |
ToneCurve | 0, 0, 255, 255 |
ToneCurveBlue | 0, 0, 255, 255 |
ToneCurveGreen | 0, 0, 255, 255 |
ToneCurveName | Linear |
ToneCurveName2012 | Custom |
ToneCurvePV2012 | 0, 0, 33, 17, 75, 62, 126, 124, 217, 223, 255, 252 |
ToneCurvePV2012Blue | 7, 31, 56, 65, 96, 101, 120, 124, 213, 208, 255, 243 |
ToneCurvePV2012Green | 0, 0, 255, 255 |
ToneCurvePV2012Red | 0, 7, 51, 49, 132, 133, 255, 255 |
ToneCurveRed | 0, 0, 255, 255 |
ToneMapStrength | 0 |
UsageTerms | Please contact |
Version | 11.2 |
Vibrance | +33 |
VignetteAmount | 0 |
VignetteCorrectionAlreadyApplied | True |
WhiteBalance (1) | As Shot |
WhiteBalance | Auto |
Whites2012 | +41 |