Felt | Verdi |
AlreadyApplied | True |
Aperture | 8.0 |
ApertureValue | 8.0 |
AutoLateralCA | 1 |
BitsPerSample | 8 |
Blacks2012 | +5 |
BlueHue | 0 |
BlueSaturation | 0 |
BrightnessValue | 4.44 |
CameraProfile | Adobe Standard |
CircGradBasedCorrActive | true |
CircGradBasedCorrAmount | 1.000000 |
CircGradBasedCorrBrightness | 0.000000 |
CircGradBasedCorrClarity2012 (1) | 0.225810 |
CircGradBasedCorrClarity2012 | 0.000000 |
CircGradBasedCorrContrast2012 (1) | 0.139780 |
CircGradBasedCorrContrast2012 | 0.000000 |
CircGradBasedCorrCorrectionRangeMaskColorAmount | 0.500000 |
CircGradBasedCorrCorrectionRangeMaskDepthFeather | 0.500000 |
CircGradBasedCorrCorrectionRangeMaskDepthMax | 1.000000 |
CircGradBasedCorrCorrectionRangeMaskDepthMin | 0.000000 |
CircGradBasedCorrCorrectionRangeMaskLumFeather | 0.500000 |
CircGradBasedCorrCorrectionRangeMaskLumMax | 1.000000 |
CircGradBasedCorrCorrectionRangeMaskLumMin | 0.000000 |
CircGradBasedCorrCorrectionRangeMaskType | 0 |
CircGradBasedCorrCorrectionRangeMaskVersion | +2 |
CircGradBasedCorrDefringe | 0.000000 |
CircGradBasedCorrExposure2012 (1) | 0.505500 |
CircGradBasedCorrExposure2012 (2) | 0.527000 |
CircGradBasedCorrExposure2012 (4) | 0.161250 |
CircGradBasedCorrExposure2012 (6) | 0.311750 |
CircGradBasedCorrExposure2012 | 0.397750 |
CircGradBasedCorrHighlights2012 | 0.000000 |
CircGradBasedCorrHue | 0.000000 |
CircGradBasedCorrLocalBlacks2012 | 0.000000 |
CircGradBasedCorrLocalDehaze | 0.000000 |
CircGradBasedCorrLocalWhites2012 | 0.000000 |
CircGradBasedCorrLuminanceNoise | 0.000000 |
CircGradBasedCorrMaskAngle (2) | -0.162111 |
CircGradBasedCorrMaskAngle | 0.000000 |
CircGradBasedCorrMaskBottom (1) | 0.571174 |
CircGradBasedCorrMaskBottom (10) | 0.712631 |
CircGradBasedCorrMaskBottom (2) | 1.043770 |
CircGradBasedCorrMaskBottom (3) | 0.870996 |
CircGradBasedCorrMaskBottom (4) | 0.706405 |
CircGradBasedCorrMaskBottom (5) | 0.790924 |
CircGradBasedCorrMaskBottom (6) | 0.568504 |
CircGradBasedCorrMaskBottom (7) | 0.863877 |
CircGradBasedCorrMaskBottom (8) | 0.375443 |
CircGradBasedCorrMaskBottom (9) | 0.436830 |
CircGradBasedCorrMaskBottom | 0.862097 |
CircGradBasedCorrMaskFeather | +100 |
CircGradBasedCorrMaskFlipped | true |
CircGradBasedCorrMaskLeft (1) | -0.007118 |
CircGradBasedCorrMaskLeft (10) | 0.339858 |
CircGradBasedCorrMaskLeft (2) | 0.532739 |
CircGradBasedCorrMaskLeft (3) | 0.003559 |
CircGradBasedCorrMaskLeft (4) | 0.000000 |
CircGradBasedCorrMaskLeft (5) | 0.285884 |
CircGradBasedCorrMaskLeft (6) | 0.325029 |
CircGradBasedCorrMaskLeft (7) | 0.365362 |
CircGradBasedCorrMaskLeft (8) | 0.048043 |
CircGradBasedCorrMaskLeft (9) | 0.387901 |
CircGradBasedCorrMaskLeft | 0.167260 |
CircGradBasedCorrMaskMidpoint | +50 |
CircGradBasedCorrMaskRight (1) | 0.173191 |
CircGradBasedCorrMaskRight (10) | 0.503559 |
CircGradBasedCorrMaskRight (2) | 0.871770 |
CircGradBasedCorrMaskRight (3) | 0.126928 |
CircGradBasedCorrMaskRight (4) | 0.123369 |
CircGradBasedCorrMaskRight (5) | 0.409253 |
CircGradBasedCorrMaskRight (6) | 0.523132 |
CircGradBasedCorrMaskRight (7) | 0.529063 |
CircGradBasedCorrMaskRight (8) | 0.171412 |
CircGradBasedCorrMaskRight (9) | 0.511270 |
CircGradBasedCorrMaskRight | 0.309609 |
CircGradBasedCorrMaskRoundness | 0 |
CircGradBasedCorrMaskTop (1) | 0.245552 |
CircGradBasedCorrMaskTop (2) | 0.539866 |
CircGradBasedCorrMaskTop (3) | 0.707295 |
CircGradBasedCorrMaskTop (4) | 0.542704 |
CircGradBasedCorrMaskTop (5) | 0.627223 |
CircGradBasedCorrMaskTop (6) | 0.404803 |
CircGradBasedCorrMaskTop (7) | 0.700176 |
CircGradBasedCorrMaskTop (8) | 0.243770 |
CircGradBasedCorrMaskTop (9) | 0.330069 |
CircGradBasedCorrMaskTop | 0.548930 |
CircGradBasedCorrMaskValue | 1.000000 |
CircGradBasedCorrMaskVersion | +2 |
CircGradBasedCorrMaskWhat | Mask/CircularGradient |
CircGradBasedCorrMoire | 0.000000 |
CircGradBasedCorrSaturation | 0.000000 |
CircGradBasedCorrShadows2012 (2) | 0.000000 |
CircGradBasedCorrShadows2012 | 0.526880 |
CircGradBasedCorrSharpness | 0.000000 |
CircGradBasedCorrTemperature | 0.000000 |
CircGradBasedCorrTint | 0.000000 |
CircGradBasedCorrWhat | Correction |
CircleOfConfusion | 0.020 mm |
Clarity2012 | +51 |
ColorComponents | 3 |
ColorNoiseReduction | 25 |
ColorNoiseReductionDetail | 50 |
ColorNoiseReductionSmoothness | 50 |
ColorSpace | sRGB |
ColorTemperature | 4900 |
ColorTransform | YCbCr |
Contrast2012 | +27 |
ConvertToGrayscale | False |
CreateDate | 2019:03:03 00:05:24 |
CreatorTool | Adobe Photoshop Lightroom Classic 8.2 (Windows) |
CropAngle | 0 |
CropBottom | 0.980427 |
CropConstrainToWarp | 0 |
CropLeft | 0.007117 |
CropRight | 0.967972 |
CropTop | 0.062278 |
CustomRendered | Normal |
DateCreated (1) | 2019:03:03 |
DateCreated | 2019:03:03 00:05:24 |
DateTimeOriginal | 2019:03:03 00:05:24 |
DefringeGreenAmount | 0 |
DefringeGreenHueHi | 60 |
DefringeGreenHueLo | 40 |
DefringePurpleAmount | 0 |
DefringePurpleHueHi | 70 |
DefringePurpleHueLo | 30 |
Dehaze | 0 |
DistortionCorrectionAlreadyApplied | True |
Exposure2012 | -1.60 |
ExposureCompensation | -0.67 |
ExposureMode | Auto |
ExposureProgram | Aperture-priority AE |
ExposureTime | 1/60 |
Flash | No Flash |
FNumber | 8.0 |
FocalLength | 27.0 mm |
FocalLength35efl | 27.0 mm (35 mm equivalent: 41.0 mm) |
FocalLengthIn35mmFormat | 41 mm |
Format | image/jpeg |
FOV | 47.4 deg |
GrainAmount | 0 |
GreenHue | 0 |
GreenSaturation | 0 |
HasCrop | True |
HasExtendedXMP | 3E0EAF1E24C706DC57539334AF813FBE |
HasSettings | True |
Highlights2012 | -100 |
HueAdjustmentAqua | 0 |
HueAdjustmentBlue | 0 |
HueAdjustmentGreen | 0 |
HueAdjustmentMagenta | 0 |
HueAdjustmentOrange | 0 |
HueAdjustmentPurple | 0 |
HueAdjustmentRed | 0 |
HueAdjustmentYellow | 0 |
HyperfocalDistance | 4.61 m |
ImageHeight | 764 |
ImageSize | 1200x764 |
ImageWidth | 1200 |
ISO | 320 |
Keywords | 03, 0319 |
LateralChromaticAberrationCorrectionAlreadyApplied | True |
Lens | XF27mmF2.8 |
LensInfo | 27mm f/2.8 |
LensMake | FUJIFILM |
LensManualDistortionAmount | 0 |
LensModel | XF27mmF2.8 |
LensProfileEnable | 0 |
LensProfileSetup | LensDefaults |
LensSerialNumber | 33A03683 |
LightSource | Unknown |
LightValue | 10.2 |
LookAmount | 1.000000 |
LookGroup | Profiles |
LookName | Adobe Color |
LookParametersCameraProfile | Adobe Standard |
LookParametersConvertToGrayscale | False |
LookParametersLookTable | E1095149FDB39D7A057BAB208837E2E1 |
LookParametersProcessVersion | 11.0 |
LookParametersToneCurvePV2012 | 0, 0, 22, 16, 40, 35, 127, 127, 224, 230, 240, 246, 255, 255 |
LookParametersToneCurvePV2012Blue | 0, 0, 255, 255 |
LookParametersToneCurvePV2012Green | 0, 0, 255, 255 |
LookParametersToneCurvePV2012Red | 0, 0, 255, 255 |
LookParametersVersion | 11.2 |
LookSupportsAmount | false |
LookSupportsMonochrome | false |
LookSupportsOutputReferred | false |
LuminanceAdjustmentAqua | 0 |
LuminanceAdjustmentBlue | 0 |
LuminanceAdjustmentGreen | 0 |
LuminanceAdjustmentMagenta | 0 |
LuminanceAdjustmentOrange | 0 |
LuminanceAdjustmentPurple | 0 |
LuminanceAdjustmentRed | 0 |
LuminanceAdjustmentYellow | 0 |
LuminanceSmoothing | 0 |
Make | FUJIFILM |
MaxApertureValue | 2.8 |
Megapixels | 0.917 |
MeteringMode | Multi-segment |
Model | X-T1 |
ModifyDate (1) | 2019:03:14 18:03:07+01:00 |
ModifyDate | 2019:03:14 18:03:07 |
OverrideLookVignette | False |
PaintCorrectionActive | true |
PaintCorrectionAmount | 1.000000 |
PaintCorrectionBrightness | 0.000000 |
PaintCorrectionClarity2012 (3) | 0.225810 |
PaintCorrectionClarity2012 | 0.000000 |
PaintCorrectionContrast2012 (3) | 0.139780 |
PaintCorrectionContrast2012 | 0.000000 |
PaintCorrectionCorrectionRangeMaskColorAmount | 0.500000 |
PaintCorrectionCorrectionRangeMaskDepthFeather | 0.500000 |
PaintCorrectionCorrectionRangeMaskDepthMax | 1.000000 |
PaintCorrectionCorrectionRangeMaskDepthMin | 0.000000 |
PaintCorrectionCorrectionRangeMaskLumFeather | 0.500000 |
PaintCorrectionCorrectionRangeMaskLumMax | 1.000000 |
PaintCorrectionCorrectionRangeMaskLumMin | 0.000000 |
PaintCorrectionCorrectionRangeMaskType | 0 |
PaintCorrectionCorrectionRangeMaskVersion | +2 |
PaintCorrectionDefringe | 0.000000 |
PaintCorrectionExposure2012 (1) | 0.161250 |
PaintCorrectionExposure2012 (2) | 0.000000 |
PaintCorrectionExposure2012 (3) | 0.333250 |
PaintCorrectionExposure2012 (4) | 0.118250 |
PaintCorrectionExposure2012 (5) | 0.096750 |
PaintCorrectionExposure2012 | 0.204250 |
PaintCorrectionHighlights2012 | 0.000000 |
PaintCorrectionHue | 0.000000 |
PaintCorrectionLocalBlacks2012 | 0.000000 |
PaintCorrectionLocalDehaze | 0.000000 |
PaintCorrectionLocalWhites2012 | 0.000000 |
PaintCorrectionLuminanceNoise | 0.000000 |
PaintCorrectionMaskCenterWeight | 0.000000 |
PaintCorrectionMaskFlow | 1.000000 |
PaintCorrectionMaskRadius (17) | 0.111455 |
PaintCorrectionMaskRadius (2) | 0.059847 |
PaintCorrectionMaskRadius (4) | 0.029635 |
PaintCorrectionMaskRadius (45) | 0.136870 |
PaintCorrectionMaskRadius (49) | 0.056614 |
PaintCorrectionMaskRadius (5) | 0.008014 |
PaintCorrectionMaskRadius (54) | 0.079353 |
PaintCorrectionMaskRadius (56) | 0.087187 |
PaintCorrectionMaskRadius (57) | 0.049289 |
PaintCorrectionMaskRadius (6) | 0.014575 |
PaintCorrectionMaskRadius (71) | 0.028078 |
PaintCorrectionMaskRadius (76) | 0.021263 |
PaintCorrectionMaskRadius (78) | 0.027375 |
PaintCorrectionMaskRadius | 0.055196 |
PaintCorrectionMaskValue (1) | 0.737000 |
PaintCorrectionMaskValue | 1.000000 |
PaintCorrectionMaskWhat | Mask/Paint |
PaintCorrectionMoire | 0.000000 |
PaintCorrectionSaturation | 0.000000 |
PaintCorrectionShadows2012 (1) | 0.311830 |
PaintCorrectionShadows2012 (2) | 0.397850 |
PaintCorrectionShadows2012 (4) | 0.526880 |
PaintCorrectionShadows2012 (5) | 0.505380 |
PaintCorrectionShadows2012 (6) | 0.333330 |
PaintCorrectionShadows2012 | 0.000000 |
PaintCorrectionSharpness | 0.000000 |
PaintCorrectionTemperature | 0.000000 |
PaintCorrectionTint | 0.000000 |
PaintCorrectionWhat | Correction |
ParametricDarks | -4 |
ParametricHighlights | +60 |
ParametricHighlightSplit | 75 |
ParametricLights | +43 |
ParametricMidtoneSplit | 50 |
ParametricShadows | +43 |
ParametricShadowSplit | 25 |
PerspectiveAspect | 0 |
PerspectiveHorizontal | 0 |
PerspectiveRotate | 0.0 |
PerspectiveScale | 100 |
PerspectiveUpright | 0 |
PerspectiveVertical | 0 |
PerspectiveX | 0.00 |
PerspectiveY | 0.00 |
PostCropVignetteAmount | 0 |
ProcessVersion | 11.0 |
ProfileDescription | sRGB IEC61966-2.1 |
RawFileName | A. Thingvoll_2019_00128-24.RAF |
RedHue | 0 |
RedSaturation | 0 |
Saturation | +33 |
SaturationAdjustmentAqua | 0 |
SaturationAdjustmentBlue | 0 |
SaturationAdjustmentGreen | 0 |
SaturationAdjustmentMagenta | 0 |
SaturationAdjustmentOrange | 0 |
SaturationAdjustmentPurple | 0 |
SaturationAdjustmentRed | 0 |
SaturationAdjustmentYellow | 0 |
ScaleFactor35efl | 1.5 |
SceneCaptureType | Standard |
SceneType | Directly photographed |
SensingMethod | One-chip color area |
SensitivityType | Standard Output Sensitivity |
Shadows2012 | +70 |
ShadowTint | 0 |
SharpenDetail | 74 |
SharpenEdgeMasking | 58 |
SharpenRadius | +1.1 |
Sharpness (1) | 52 |
Sharpness | Normal |
ShutterSpeed | 1/60 |
ShutterSpeedValue | 1/60 |
Software | Adobe Photoshop Lightroom Classic 8.2 (Windows) |
SplitToningBalance | 0 |
SplitToningHighlightHue | 0 |
SplitToningHighlightSaturation | 0 |
SplitToningShadowHue | 0 |
SplitToningShadowSaturation | 0 |
Subject | 03, 0319 |
SubjectDistanceRange | Unknown |
Tint | +12 |
ToneCurve | 0, 0, 255, 255 |
ToneCurveBlue | 0, 0, 255, 255 |
ToneCurveGreen | 0, 0, 255, 255 |
ToneCurveName | Linear |
ToneCurveName2012 | Linear |
ToneCurvePV2012 | 0, 0, 255, 255 |
ToneCurvePV2012Blue | 0, 0, 255, 255 |
ToneCurvePV2012Green | 0, 0, 255, 255 |
ToneCurvePV2012Red | 0, 0, 255, 255 |
ToneCurveRed | 0, 0, 255, 255 |
ToneMapStrength | 0 |
Version | 11.2 |
Vibrance | +31 |
VignetteAmount | 0 |
VignetteCorrectionAlreadyApplied | True |
WhiteBalance (1) | As Shot |
WhiteBalance | Auto |
Whites2012 | -17 |