Felt | Verdi |
AlreadyApplied | True |
Aperture | 10.0 |
ApertureValue | 10.0 |
Artist | HANS LINDQUIST |
AutoLateralCA | 0 |
AutoWhiteVersion | 134348800 |
BitsPerSample | 8 |
Blacks2012 | 0 |
BlueHue | 0 |
BlueSaturation | 0 |
By-line | HANS LINDQUIST |
CameraProfile | Adobe Standard |
CircGradBasedCorrActive | true |
CircGradBasedCorrAmount | 1.000000 |
CircGradBasedCorrBrightness | 0.000000 |
CircGradBasedCorrClarity2012 (3) | 0.028850 |
CircGradBasedCorrClarity2012 (5) | 0.423080 |
CircGradBasedCorrClarity2012 | 0.067310 |
CircGradBasedCorrContrast2012 (4) | 0.048080 |
CircGradBasedCorrContrast2012 | 0.019230 |
CircGradBasedCorrDefringe | 0.000000 |
CircGradBasedCorrExposure2012 (1) | 0.067250 |
CircGradBasedCorrExposure2012 (2) | 0.423000 |
CircGradBasedCorrExposure2012 (3) | 0.048000 |
CircGradBasedCorrExposure2012 (4) | 0.182750 |
CircGradBasedCorrExposure2012 (5) | 0.009500 |
CircGradBasedCorrExposure2012 (6) | 0.105750 |
CircGradBasedCorrExposure2012 (7) | 0.028750 |
CircGradBasedCorrExposure2012 (9) | 0.019250 |
CircGradBasedCorrExposure2012 | -0.086500 |
CircGradBasedCorrHighlights2012 | 0.028850 |
CircGradBasedCorrHue | 240.000000 |
CircGradBasedCorrLuminanceNoise | 0.009620 |
CircGradBasedCorrMaskAngle (1) | -19.291200 |
CircGradBasedCorrMaskAngle (2) | -37.190800 |
CircGradBasedCorrMaskAngle (4) | 1.859560 |
CircGradBasedCorrMaskAngle (5) | 1.957000 |
CircGradBasedCorrMaskAngle (6) | -20.697600 |
CircGradBasedCorrMaskAngle (7) | 41.298500 |
CircGradBasedCorrMaskAngle | 2.391000 |
CircGradBasedCorrMaskBottom (1) | 0.892292 |
CircGradBasedCorrMaskBottom (2) | 0.924464 |
CircGradBasedCorrMaskBottom (3) | 0.766175 |
CircGradBasedCorrMaskBottom (4) | 0.911942 |
CircGradBasedCorrMaskBottom (5) | 0.332735 |
CircGradBasedCorrMaskBottom (6) | 0.961178 |
CircGradBasedCorrMaskBottom (7) | 1.033580 |
CircGradBasedCorrMaskBottom (8) | 0.608731 |
CircGradBasedCorrMaskBottom (9) | 1.133020 |
CircGradBasedCorrMaskBottom | 0.350132 |
CircGradBasedCorrMaskFeather | +75 |
CircGradBasedCorrMaskFlipped | true |
CircGradBasedCorrMaskLeft (1) | 0.067874 |
CircGradBasedCorrMaskLeft (2) | 0.278132 |
CircGradBasedCorrMaskLeft (3) | 0.095931 |
CircGradBasedCorrMaskLeft (4) | 0.202982 |
CircGradBasedCorrMaskLeft (5) | 0.360865 |
CircGradBasedCorrMaskLeft (6) | 0.417747 |
CircGradBasedCorrMaskLeft (7) | 0.000819 |
CircGradBasedCorrMaskLeft (8) | 0.093530 |
CircGradBasedCorrMaskLeft (9) | 0.472885 |
CircGradBasedCorrMaskLeft | 0.384192 |
CircGradBasedCorrMaskMidpoint | +50 |
CircGradBasedCorrMaskRight (1) | 0.457378 |
CircGradBasedCorrMaskRight (2) | 0.410256 |
CircGradBasedCorrMaskRight (3) | 0.364339 |
CircGradBasedCorrMaskRight (4) | 0.481279 |
CircGradBasedCorrMaskRight (5) | 0.426888 |
CircGradBasedCorrMaskRight (6) | 0.521103 |
CircGradBasedCorrMaskRight (7) | 0.353221 |
CircGradBasedCorrMaskRight (8) | 0.237432 |
CircGradBasedCorrMaskRight (9) | 0.678051 |
CircGradBasedCorrMaskRight | 0.448002 |
CircGradBasedCorrMaskRoundness | 0 |
CircGradBasedCorrMaskTop (1) | 0.320563 |
CircGradBasedCorrMaskTop (2) | 0.799886 |
CircGradBasedCorrMaskTop (3) | 0.040847 |
CircGradBasedCorrMaskTop (4) | -0.057504 |
CircGradBasedCorrMaskTop (5) | 0.077785 |
CircGradBasedCorrMaskTop (6) | 0.804759 |
CircGradBasedCorrMaskTop (7) | 0.335032 |
CircGradBasedCorrMaskTop (8) | 0.198850 |
CircGradBasedCorrMaskTop (9) | -0.142666 |
CircGradBasedCorrMaskTop | -0.014064 |
CircGradBasedCorrMaskValue | 1.000000 |
CircGradBasedCorrMaskVersion | +2 |
CircGradBasedCorrMaskWhat | Mask/CircularGradient |
CircGradBasedCorrMoire | 0.000000 |
CircGradBasedCorrSaturation | 0.000000 |
CircGradBasedCorrShadows2012 | 0.028850 |
CircGradBasedCorrSharpness | 0.038460 |
CircGradBasedCorrTemperature (1) | 0.096150 |
CircGradBasedCorrTemperature (2) | 0.326920 |
CircGradBasedCorrTemperature (3) | -0.250000 |
CircGradBasedCorrTemperature (4) | -0.807690 |
CircGradBasedCorrTemperature (7) | 0.596150 |
CircGradBasedCorrTemperature (9) | 0.182690 |
CircGradBasedCorrTemperature | 0.009620 |
CircGradBasedCorrTint | 0.000000 |
CircGradBasedCorrWhat | Correction |
CircleOfConfusion | 0.026 mm |
Clarity2012 | 0 |
ColorComponents | 3 |
ColorNoiseReduction | 25 |
ColorNoiseReductionDetail | 50 |
ColorNoiseReductionSmoothness | 50 |
ColorTemperature | 8300 |
ColorTransform | YCbCr |
Contrast2012 | +31 |
ConvertToGrayscale | False |
Copyright | 160662HL |
CopyrightNotice | 160662HL |
CreateDate (1) | 2019:04:19 19:28:23.74 |
CreateDate | 2019:04:19 19:28:23 |
Creator | HANS LINDQUIST |
CreatorTool | Adobe Photoshop Lightroom 6.0 (Windows) |
CropAngle | 2.391 |
CropBottom | 1 |
CropConstrainToWarp | 0 |
CropLeft | 0.118813 |
CropRight | 0.933283 |
CropTop | 0 |
CustomRendered | Normal |
DateCreated (1) | 2019:04:19 19:28:23.74 |
DateCreated | 2019:04:19 |
DateTimeOriginal | 2019:04:19 19:28:23 |
DefringeGreenAmount | 0 |
DefringeGreenHueHi | 60 |
DefringeGreenHueLo | 40 |
DefringePurpleAmount | 0 |
DefringePurpleHueHi | 70 |
DefringePurpleHueLo | 30 |
Exposure2012 | -0.70 |
ExposureCompensation | 0 |
ExposureMode | Manual |
ExposureProgram | Manual |
ExposureTime | 1/25 |
Firmware | 1.0.4 |
Flash | Off, Did not fire |
FlashCompensation | 0 |
FNumber | 10.0 |
FocalLength | 15.0 mm |
FocalLength35efl | 15.0 mm (35 mm equivalent: 17.1 mm) |
Format | image/jpeg |
FOV | 92.8 deg |
GradientBasedCorrActive | true |
GradientBasedCorrAmount | 1.000000 |
GradientBasedCorrBrightness | 0.000000 |
GradientBasedCorrClarity2012 (2) | 0.134620 |
GradientBasedCorrClarity2012 (8) | 0.259620 |
GradientBasedCorrClarity2012 | 0.067310 |
GradientBasedCorrContrast2012 (5) | 0.115380 |
GradientBasedCorrContrast2012 | 0.019230 |
GradientBasedCorrDefringe | 0.000000 |
GradientBasedCorrExposure2012 (10) | -0.019250 |
GradientBasedCorrExposure2012 (3) | -0.163500 |
GradientBasedCorrExposure2012 (4) | 0.000000 |
GradientBasedCorrExposure2012 (5) | -0.038500 |
GradientBasedCorrExposure2012 (7) | 0.057750 |
GradientBasedCorrExposure2012 (8) | -0.105750 |
GradientBasedCorrExposure2012 (9) | 0.009500 |
GradientBasedCorrExposure2012 | 0.019250 |
GradientBasedCorrHighlights2012 | 0.028850 |
GradientBasedCorrHue | 240.000000 |
GradientBasedCorrLuminanceNoise | 0.009620 |
GradientBasedCorrMaskFullX (1) | 0.794136 |
GradientBasedCorrMaskFullX (10) | 0.828590 |
GradientBasedCorrMaskFullX (2) | 0.263587 |
GradientBasedCorrMaskFullX (3) | 0.122105 |
GradientBasedCorrMaskFullX (4) | 0.480775 |
GradientBasedCorrMaskFullX (5) | 0.648538 |
GradientBasedCorrMaskFullX (6) | 0.807020 |
GradientBasedCorrMaskFullX (7) | 0.896819 |
GradientBasedCorrMaskFullX (8) | 0.149424 |
GradientBasedCorrMaskFullX (9) | 0.510107 |
GradientBasedCorrMaskFullX | 0.799323 |
GradientBasedCorrMaskFullY (1) | 0.493784 |
GradientBasedCorrMaskFullY (10) | 0.482596 |
GradientBasedCorrMaskFullY (2) | 0.459132 |
GradientBasedCorrMaskFullY (3) | 0.836417 |
GradientBasedCorrMaskFullY (4) | 0.478160 |
GradientBasedCorrMaskFullY (5) | 0.494427 |
GradientBasedCorrMaskFullY (6) | 0.361447 |
GradientBasedCorrMaskFullY (7) | 0.186835 |
GradientBasedCorrMaskFullY (8) | 0.426205 |
GradientBasedCorrMaskFullY (9) | 0.208555 |
GradientBasedCorrMaskFullY | 0.369870 |
GradientBasedCorrMaskValue | 1.000000 |
GradientBasedCorrMaskWhat | Mask/Gradient |
GradientBasedCorrMaskZeroX (1) | 0.595001 |
GradientBasedCorrMaskZeroX (10) | 0.637141 |
GradientBasedCorrMaskZeroX (2) | 0.396943 |
GradientBasedCorrMaskZeroX (3) | 0.176856 |
GradientBasedCorrMaskZeroX (4) | 0.589643 |
GradientBasedCorrMaskZeroX (5) | 0.562782 |
GradientBasedCorrMaskZeroX (6) | 0.660628 |
GradientBasedCorrMaskZeroX (7) | 0.731060 |
GradientBasedCorrMaskZeroX (8) | 0.231586 |
GradientBasedCorrMaskZeroX (9) | 0.495769 |
GradientBasedCorrMaskZeroX | 0.700856 |
GradientBasedCorrMaskZeroY (1) | 0.520284 |
GradientBasedCorrMaskZeroY (10) | 0.469878 |
GradientBasedCorrMaskZeroY (2) | 0.491124 |
GradientBasedCorrMaskZeroY (3) | 0.797894 |
GradientBasedCorrMaskZeroY (4) | 0.483740 |
GradientBasedCorrMaskZeroY (5) | 0.492072 |
GradientBasedCorrMaskZeroY (6) | 0.423780 |
GradientBasedCorrMaskZeroY (7) | 0.321310 |
GradientBasedCorrMaskZeroY (8) | 0.433016 |
GradientBasedCorrMaskZeroY (9) | 0.736134 |
GradientBasedCorrMaskZeroY | 0.409700 |
GradientBasedCorrMoire | 0.000000 |
GradientBasedCorrSaturation | 0.000000 |
GradientBasedCorrShadows2012 | 0.028850 |
GradientBasedCorrSharpness | 0.038460 |
GradientBasedCorrTemperature (1) | -0.673080 |
GradientBasedCorrTemperature | 0.009620 |
GradientBasedCorrTint | 0.000000 |
GradientBasedCorrWhat | Correction |
GrainAmount | 0 |
GreenHue | 0 |
GreenSaturation | 0 |
HasCrop | True |
HasSettings | True |
Highlights2012 | -8 |
HueAdjustmentAqua | 0 |
HueAdjustmentBlue | 0 |
HueAdjustmentGreen | 0 |
HueAdjustmentMagenta | 0 |
HueAdjustmentOrange | 0 |
HueAdjustmentPurple | 0 |
HueAdjustmentRed | 0 |
HueAdjustmentYellow | 0 |
HyperfocalDistance | 0.86 m |
ImageHeight | 5654 |
ImageNumber | 0 |
ImageSize | 4247x5654 |
ImageWidth | 4247 |
ISO | 100 |
Lens | 15mm |
LensID (1) | 60 |
LensID | Irix 11mm f/4 + 1.4x |
LensInfo | 15mm f/? |
LensManualDistortionAmount | 0 |
LensModel | 15mm |
LensProfileEnable | 0 |
LensProfileSetup | LensDefaults |
LensSerialNumber | 0000000000 |
LightValue | 11.3 |
LuminanceAdjustmentAqua | 0 |
LuminanceAdjustmentBlue | +47 |
LuminanceAdjustmentGreen | 0 |
LuminanceAdjustmentMagenta | 0 |
LuminanceAdjustmentOrange | -10 |
LuminanceAdjustmentPurple | 0 |
LuminanceAdjustmentRed | 0 |
LuminanceAdjustmentYellow | -39 |
LuminanceSmoothing | 0 |
Make | Canon |
MaxApertureValue | 2.5 |
Megapixels | 24.0 |
MeteringMode | Spot |
Model | Canon EOS 5D Mark IV |
ModifyDate (1) | 2019:04:20 23:11:23+02:00 |
ModifyDate | 2019:04:20 23:11:23 |
Orientation | Horizontal (normal) |
ParametricDarks | 0 |
ParametricHighlights | 0 |
ParametricHighlightSplit | 75 |
ParametricLights | 0 |
ParametricMidtoneSplit | 50 |
ParametricShadows | 0 |
ParametricShadowSplit | 25 |
PerspectiveAspect | 0 |
PerspectiveHorizontal | 0 |
PerspectiveRotate | +0.2 |
PerspectiveScale | 100 |
PerspectiveUpright | 0 |
PerspectiveVertical | 0 |
PostCropVignetteAmount | 0 |
ProcessVersion | 6.7 |
ProfileDescription | sRGB IEC61966-2.1 |
RawFileName | _43A9079.jpg |
RecommendedExposureIndex | 100 |
RedHue | 0 |
RedSaturation | 0 |
Rights | 160662HL |
Saturation | -7 |
SaturationAdjustmentAqua | 0 |
SaturationAdjustmentBlue | +50 |
SaturationAdjustmentGreen | 0 |
SaturationAdjustmentMagenta | 0 |
SaturationAdjustmentOrange | 0 |
SaturationAdjustmentPurple | 0 |
SaturationAdjustmentRed | 0 |
SaturationAdjustmentYellow | 0 |
ScaleFactor35efl | 1.1 |
SceneCaptureType | Standard |
SensitivityType | Recommended Exposure Index |
SerialNumber | 133055001843 |
Shadows2012 | +62 |
ShadowTint | 0 |
SharpenDetail | 25 |
SharpenEdgeMasking | 0 |
SharpenRadius | +1.0 |
Sharpness | 25 |
ShutterSpeed | 1/25 |
ShutterSpeedValue | 1/25 |
Software | Adobe Photoshop Lightroom 6.0 (Windows) |
SplitToningBalance | 0 |
SplitToningHighlightHue | 0 |
SplitToningHighlightSaturation | 0 |
SplitToningShadowHue | 0 |
SplitToningShadowSaturation | 0 |
Tint | +6 |
ToneCurve | 0, 0, 255, 255 |
ToneCurveBlue | 0, 0, 255, 255 |
ToneCurveGreen | 0, 0, 255, 255 |
ToneCurveName | Linear |
ToneCurveName2012 | Linear |
ToneCurvePV2012 | 0, 0, 255, 255 |
ToneCurvePV2012Blue | 0, 0, 255, 255 |
ToneCurvePV2012Green | 0, 0, 255, 255 |
ToneCurvePV2012Red | 0, 0, 255, 255 |
ToneCurveRed | 0, 0, 255, 255 |
Version | 9.0 |
Vibrance | 0 |
VignetteAmount | +40 |
VignetteMidpoint | 50 |
WhiteBalance (1) | Custom |
WhiteBalance | Auto |
Whites2012 | +25 |