Felt | Verdi |
AlreadyApplied | True |
Aperture | 4.0 |
ApertureValue | 4.0 |
Artist | Picasa |
AutoLateralCA | 0 |
AutoWhiteVersion | 134348800 |
BitsPerSample | 8 |
Blacks2012 | -45 |
BlueHue | 0 |
BlueSaturation | 0 |
BrightnessValue | 6.68125 |
By-line | Picasa |
CameraProfile | Camera Standard |
CircleOfConfusion | 0.011 mm |
Clarity2012 | +12 |
ColorComponents | 3 |
ColorNoiseReduction | 25 |
ColorNoiseReductionDetail | 50 |
ColorNoiseReductionSmoothness | 50 |
ColorSpace | sRGB |
ColorTemperature | 4950 |
Contrast | Normal |
Contrast2012 | +29 |
ConvertToGrayscale | False |
CreateDate | 2017:10:01 11:03:46 |
Creator | Picasa |
CreatorTool | Windows Photo Editor 10.0.10011.16384 |
CropAngle | 0 |
CropBottom | 0.826087 |
CropConstrainToWarp | 0 |
CropLeft | 0.170093 |
CropRight | 0.519626 |
CropTop | 0.451613 |
CustomRendered | Normal |
DateCreated (1) | 2017:10:01 11:03:46 |
DateCreated | 2017:10:01 |
DateTimeOriginal | 2017:10:01 11:03:46 |
DefringeGreenAmount | 0 |
DefringeGreenHueHi | 60 |
DefringeGreenHueLo | 40 |
DefringePurpleAmount | 0 |
DefringePurpleHueHi | 70 |
DefringePurpleHueLo | 30 |
Dehaze | +24 |
DigitalZoomRatio | 1 |
DistortionCorrectionAlreadyApplied | True |
ExifImageHeight | 1700 |
ExifImageWidth | 2332 |
Exposure2012 | +0.48 |
ExposureCompensation | 0 |
ExposureMode | Auto |
ExposureProgram | Program AE |
ExposureTime | 1/125 |
Flash | Off, Did not fire |
FNumber | 4.0 |
FocalLength | 10.9 mm |
FocalLength35efl | 10.9 mm (35 mm equivalent: 30.0 mm) |
FocalLengthIn35mmFormat | 30 mm |
Format | image/jpeg |
FOV | 61.9 deg |
GrainAmount | 0 |
GreenHue | 0 |
GreenSaturation | 0 |
HasCrop | True |
HasSettings | True |
Highlights2012 | -4 |
HueAdjustmentAqua | 0 |
HueAdjustmentBlue | 0 |
HueAdjustmentGreen | 0 |
HueAdjustmentMagenta | 0 |
HueAdjustmentOrange | 0 |
HueAdjustmentPurple | 0 |
HueAdjustmentRed | 0 |
HueAdjustmentYellow | 0 |
HyperfocalDistance | 2.72 m |
ImageHeight | 1700 |
ImageSize | 2332x1700 |
ImageWidth | 2332 |
ISO | 125 |
LateralChromaticAberrationCorrectionAlreadyApplied | True |
Lens | 24-70mm F1.8-2.8 |
LensDistortInfo | 34458/32768 -205765397/1073741824 88091933/1073741824 -14777247/1073741824 |
LensInfo | 8.8-25.7mm f/1.8-2.8 |
LensManualDistortionAmount | 0 |
LensModel | 24-70mm F1.8-2.8 |
LensProfileEnable | 0 |
LensProfileSetup | LensDefaults |
LightSource | Unknown |
LightValue | 10.6 |
LuminanceAdjustmentAqua | 0 |
LuminanceAdjustmentBlue | 0 |
LuminanceAdjustmentGreen | 0 |
LuminanceAdjustmentMagenta | 0 |
LuminanceAdjustmentOrange | 0 |
LuminanceAdjustmentPurple | 0 |
LuminanceAdjustmentRed | 0 |
LuminanceAdjustmentYellow | 0 |
LuminanceNoiseReductionContrast | 0 |
LuminanceNoiseReductionDetail | 50 |
LuminanceSmoothing | 37 |
Make | SONY |
MaxApertureValue | 2.5 |
Megapixels | 4.0 |
MeteringMode | Multi-segment |
Model | DSC-RX100M3 |
ModifyDate (1) | 2019:04:27 16:07:42+02:00 |
ModifyDate | 2019:04:27 16:08:35 |
Orientation | Horizontal (normal) |
ParametricDarks | 0 |
ParametricHighlights | 0 |
ParametricHighlightSplit | 75 |
ParametricLights | 0 |
ParametricMidtoneSplit | 50 |
ParametricShadows | 0 |
ParametricShadowSplit | 25 |
PerspectiveAspect | 0 |
PerspectiveHorizontal | 0 |
PerspectiveRotate | 0.0 |
PerspectiveScale | 100 |
PerspectiveUpright | 0 |
PerspectiveVertical | 0 |
PerspectiveX | 0.00 |
PerspectiveY | 0.00 |
PostCropVignetteAmount | 0 |
ProcessingSoftware | Windows Photo Editor 10.0.10011.16384 |
ProcessVersion | 6.7 |
RecommendedExposureIndex | 125 |
RedHue | 0 |
RedSaturation | 0 |
RelatedImageHeight | 1700 |
RelatedImageWidth | 2380 |
Saturation (1) | 0 |
Saturation | Normal |
SaturationAdjustmentAqua | 0 |
SaturationAdjustmentBlue | 0 |
SaturationAdjustmentGreen | +38 |
SaturationAdjustmentMagenta | 0 |
SaturationAdjustmentOrange | +38 |
SaturationAdjustmentPurple | 0 |
SaturationAdjustmentRed | +38 |
SaturationAdjustmentYellow | +56 |
ScaleFactor35efl | 2.8 |
SceneCaptureType | Standard |
SceneType | Directly photographed |
SensitivityType | Recommended Exposure Index |
Shadows2012 | +81 |
ShadowTint | 0 |
SharpenDetail | 25 |
SharpenEdgeMasking | 30 |
SharpenRadius | +1.0 |
Sharpness (1) | 86 |
Sharpness | Normal |
ShutterSpeed | 1/125 |
ShutterSpeedValue | 1/125 |
Software | Windows Photo Editor 10.0.10011.16384 |
SplitToningBalance | 0 |
SplitToningHighlightHue | 0 |
SplitToningHighlightSaturation | 0 |
SplitToningShadowHue | 0 |
SplitToningShadowSaturation | 0 |
Tint | +10 |
ToneCurve | 0, 0, 255, 255 |
ToneCurveBlue | 0, 0, 255, 255 |
ToneCurveGreen | 0, 0, 255, 255 |
ToneCurveName | Linear |
ToneCurveName2012 | Linear |
ToneCurvePV2012 | 0, 0, 255, 255 |
ToneCurvePV2012Blue | 0, 0, 255, 255 |
ToneCurvePV2012Green | 0, 0, 255, 255 |
ToneCurvePV2012Red | 0, 0, 255, 255 |
ToneCurveRed | 0, 0, 255, 255 |
ToneMapStrength | 0 |
Version | 9.12 |
Vibrance | 0 |
VignetteAmount | 0 |
WhiteBalance (1) | As Shot |
WhiteBalance | Auto |
Whites2012 | +27 |