Felt | Verdi |
AlreadyApplied | True |
Aperture | 10.0 |
ApertureValue | 10.0 |
ApproximateFocusDistance | 0.39 |
AutoLateralCA | 0 |
AutoWhiteVersion | 134348800 |
BitsPerSample | 8 |
Blacks2012 | -20 |
BlueHue | 0 |
BlueSaturation | 0 |
CameraProfile | Adobe Standard |
CircleOfConfusion | 0.019 mm |
Clarity2012 | +57 |
ColorComponents | 3 |
ColorNoiseReduction | 35 |
ColorNoiseReductionDetail | 50 |
ColorNoiseReductionSmoothness | 68 |
ColorSpace | sRGB |
ColorTemperature | 3400 |
ColorTransform | YCbCr |
Contrast2012 | +38 |
ConvertToGrayscale | True |
CreateDate (1) | 2019:05:02 20:51:35.97 |
CreateDate | 2019:05:02 20:51:35 |
CreatorTool | Adobe Photoshop Lightroom 5.7 (Windows) |
CropAngle | 0 |
CropBottom | 0.950287 |
CropConstrainToWarp | 0 |
CropLeft | 0.152866 |
CropRight | 0.898089 |
CropTop | 0 |
CustomRendered | Normal |
DateCreated (1) | 2019:05:02 |
DateCreated | 2019:05:02 20:51:35.97 |
DateTimeOriginal | 2019:05:02 20:51:35 |
DOF | 0.004 m (0.388 - 0.392 m) |
Exposure2012 | -1.35 |
ExposureCompensation | 0 |
ExposureMode | Auto |
ExposureProgram | Shutter speed priority AE |
ExposureTime | 1 |
Firmware | 1.0.9 |
Flash | Off, Did not fire |
FlashCompensation | 0 |
FNumber | 10.0 |
FocalLength | 105.0 mm |
FocalLength35efl | 105.0 mm (35 mm equivalent: 165.1 mm) |
Format | image/jpeg |
FOV | 12.4 deg |
GrainAmount | 0 |
GrayMixerAqua | -20 |
GrayMixerBlue | +3 |
GrayMixerGreen | -20 |
GrayMixerMagenta | +5 |
GrayMixerOrange | -10 |
GrayMixerPurple | +10 |
GrayMixerRed | -3 |
GrayMixerYellow | -13 |
GreenHue | 0 |
GreenSaturation | 0 |
HasCrop | True |
HasSettings | True |
Highlights2012 | +29 |
HyperfocalDistance | 57.71 m |
ImageHeight | 3284 |
ImageNumber | 0 |
ImageSize | 3863x3284 |
ImageWidth | 3863 |
ISO | 400 |
Lens | 105mm |
LensID (1) | 183 |
LensID | Sigma 105mm f/2.8 EX DG OS HSM Macro |
LensInfo | 105mm f/? |
LensManualDistortionAmount | 0 |
LensModel | 105mm |
LensProfileEnable | 0 |
LensProfileSetup | LensDefaults |
LightValue | 4.6 |
LuminanceNoiseReductionContrast | 5 |
LuminanceNoiseReductionDetail | 50 |
LuminanceSmoothing | 55 |
Make | Canon |
MaxApertureValue | 2.8 |
Megapixels | 12.7 |
MeteringMode | Multi-segment |
Model | Canon EOS 550D |
ModifyDate (1) | 2019:05:02 21:29:43+02:00 |
ModifyDate | 2019:05:02 21:29:43 |
ParametricDarks | 0 |
ParametricHighlights | 0 |
ParametricHighlightSplit | 75 |
ParametricLights | 0 |
ParametricMidtoneSplit | 50 |
ParametricShadows | 0 |
ParametricShadowSplit | 25 |
PerspectiveAspect | 0 |
PerspectiveHorizontal | 0 |
PerspectiveRotate | 0.0 |
PerspectiveScale | 100 |
PerspectiveUpright | 0 |
PerspectiveVertical | 0 |
PostCropVignetteAmount | 0 |
ProcessVersion | 6.7 |
ProfileDescription | sRGB IEC61966-2.1 |
RedHue | 0 |
RedSaturation | 0 |
ScaleFactor35efl | 1.6 |
SceneCaptureType | Standard |
SerialNumber | 1935003118 |
Shadows2012 | -12 |
ShadowTint | 0 |
SharpenDetail | 43 |
SharpenEdgeMasking | 23 |
SharpenRadius | +1.0 |
Sharpness | 32 |
ShutterSpeed | 1 |
ShutterSpeedValue | 1 |
Software | Adobe Photoshop Lightroom 5.7 (Windows) |
SplitToningBalance | 0 |
SplitToningHighlightHue | 0 |
SplitToningHighlightSaturation | 0 |
SplitToningShadowHue | 0 |
SplitToningShadowSaturation | 0 |
Tint | +28 |
ToneCurve | 0, 0, 255, 255 |
ToneCurveBlue | 0, 0, 255, 255 |
ToneCurveGreen | 0, 0, 255, 255 |
ToneCurveName | Linear |
ToneCurveName2012 | Linear |
ToneCurvePV2012 | 0, 0, 255, 255 |
ToneCurvePV2012Blue | 0, 0, 255, 255 |
ToneCurvePV2012Green | 0, 0, 255, 255 |
ToneCurvePV2012Red | 0, 0, 255, 255 |
ToneCurveRed | 0, 0, 255, 255 |
Version | 8.7 |
VignetteAmount | 0 |
WhiteBalance (1) | As Shot |
WhiteBalance | Auto |
Whites2012 | +21 |