Felt | Verdi |
AlreadyApplied | True |
Aperture | 1.8 |
ApertureValue | 1.8 |
ApproximateFocusDistance | 1.3 |
Artist | IROBERT |
AutoLateralCA | 0 |
BitsPerSample | 8 |
Blacks2012 | -24 |
BlueHue | 0 |
BlueSaturation | 0 |
By-line | IROBERT |
CameraProfile | Adobe Standard |
CircleOfConfusion | 0.019 mm |
Clarity2012 | +33 |
ColorComponents | 3 |
ColorNoiseReduction | 25 |
ColorNoiseReductionDetail | 50 |
ColorNoiseReductionSmoothness | 50 |
ColorSpace | sRGB |
ColorTemperature | 3071 |
ColorTransform | YCbCr |
Contrast2012 | -14 |
ConvertToGrayscale | True |
CreateDate (1) | 2019:05:11 12:57:33.00 |
CreateDate | 2019:05:11 12:57:33 |
Creator | IROBERT |
CreatorTool | Adobe Photoshop Lightroom Classic 8.2.1 (Windows) |
CustomRendered | Normal |
DateCreated (1) | 2019:05:11 |
DateCreated | 2019:05:11 12:57:33.00 |
DateTimeOriginal | 2019:05:11 12:57:33 |
Dehaze | -14 |
DOF | 0.13 m (1.24 - 1.37 m) |
Exposure2012 | -0.41 |
ExposureCompensation | 0 |
ExposureMode | Manual |
ExposureProgram | Manual |
ExposureTime | 1/80 |
Firmware | 1.0.2 |
Flash | Off, Did not fire |
FlashCompensation | 0 |
FNumber | 1.8 |
FocalLength | 29.0 mm |
FocalLength35efl | 29.0 mm (35 mm equivalent: 46.8 mm) |
Format | image/jpeg |
FOV | 42.1 deg |
GrainAmount | 0 |
GrayMixerAqua | 0 |
GrayMixerBlue | 0 |
GrayMixerGreen | 0 |
GrayMixerMagenta | 0 |
GrayMixerOrange | 0 |
GrayMixerPurple | 0 |
GrayMixerRed | 0 |
GrayMixerYellow | 0 |
GreenHue | 0 |
GreenSaturation | 0 |
HasCrop | False |
HasSettings | True |
Highlights2012 | -67 |
HyperfocalDistance | 25.09 m |
ImageHeight | 6000 |
ImageNumber | 0 |
ImageSize | 4000x6000 |
ImageWidth | 4000 |
ISO | 200 |
Lens | 18-35mm F1.8 DC HSM | Art 013 |
LensID (1) | 368 |
LensID | Unknown (368) 18-35mm |
LensInfo | 18-35mm f/? |
LensManualDistortionAmount | 0 |
LensModel | 18-35mm F1.8 DC HSM | Art 013 |
LensProfileEnable | 0 |
LensProfileSetup | LensDefaults |
LensSerialNumber | 0000000000 |
LightValue | 7.0 |
LookAmount | 1.000000 |
LookGroup | Profiles |
LookName | Adobe Monochrome |
LookParametersCameraProfile | Adobe Standard |
LookParametersClarity2012 | +8 |
LookParametersConvertToGrayscale | True |
LookParametersLookTable | 73ED6C18DDE909DD7EA2D771F5AC282D |
LookParametersProcessVersion | 11.0 |
LookParametersToneCurvePV2012 | 0, 0, 64, 56, 128, 128, 192, 197, 255, 255 |
LookParametersToneCurvePV2012Blue | 0, 0, 255, 255 |
LookParametersToneCurvePV2012Green | 0, 0, 255, 255 |
LookParametersToneCurvePV2012Red | 0, 0, 255, 255 |
LookParametersVersion | 11.2.1 |
LookSupportsAmount | false |
LookSupportsMonochrome | false |
LookSupportsOutputReferred | false |
LuminanceSmoothing | 0 |
Make | Canon |
MaxApertureValue | 1.8 |
Megapixels | 24.0 |
MeteringMode | Multi-segment |
Model | Canon EOS 80D |
ModifyDate (1) | 2019:05:11 20:42:39+02:00 |
ModifyDate | 2019:05:11 20:42:39 |
OverrideLookVignette | False |
ParametricDarks | 0 |
ParametricHighlights | 0 |
ParametricHighlightSplit | 75 |
ParametricLights | 0 |
ParametricMidtoneSplit | 50 |
ParametricShadows | 0 |
ParametricShadowSplit | 25 |
PerspectiveAspect | 0 |
PerspectiveHorizontal | 0 |
PerspectiveRotate | 0.0 |
PerspectiveScale | 100 |
PerspectiveUpright | 0 |
PerspectiveVertical | 0 |
PerspectiveX | 0.00 |
PerspectiveY | 0.00 |
PostCropVignetteAmount | 0 |
ProcessVersion | 11.0 |
ProfileDescription | sRGB IEC61966-2.1 |
RawFileName | IMG_0900.CR2 |
RecommendedExposureIndex | 200 |
RedHue | 0 |
RedSaturation | 0 |
ScaleFactor35efl | 1.6 |
SceneCaptureType | Standard |
SensitivityType | Recommended Exposure Index |
SerialNumber | 243024006326 |
Shadows2012 | +24 |
ShadowTint | 0 |
SharpenDetail | 25 |
SharpenEdgeMasking | 0 |
SharpenRadius | +1.0 |
Sharpness | 40 |
ShutterSpeed | 1/80 |
ShutterSpeedValue | 1/80 |
Software | Adobe Photoshop Lightroom Classic 8.2.1 (Windows) |
SplitToningBalance | 0 |
SplitToningHighlightHue | 0 |
SplitToningHighlightSaturation | 0 |
SplitToningShadowHue | 0 |
SplitToningShadowSaturation | 0 |
Tint | -18 |
ToneCurve | 0, 0, 255, 255 |
ToneCurveBlue | 0, 0, 255, 255 |
ToneCurveGreen | 0, 0, 255, 255 |
ToneCurveName | Linear |
ToneCurveName2012 | Linear |
ToneCurvePV2012 | 0, 0, 255, 255 |
ToneCurvePV2012Blue | 0, 0, 255, 255 |
ToneCurvePV2012Green | 0, 0, 255, 255 |
ToneCurvePV2012Red | 0, 0, 255, 255 |
ToneCurveRed | 0, 0, 255, 255 |
ToneMapStrength | 0 |
Version | 11.2.1 |
VignetteAmount | 0 |
WhiteBalance (1) | Custom |
WhiteBalance | Manual |
Whites2012 | -48 |