Felt | Verdi |
AlreadyApplied | True |
Aperture | 11.0 |
ApertureValue | 11.0 |
ApproximateFocusDistance | 39.8 |
Artist | Sindre Nedrevag |
AutoLateralCA | 1 |
BitsPerSample | 8 |
Blacks2012 | -10 |
BlueHue | 0 |
BlueSaturation | 0 |
By-line | Sindre Nedrevag |
CameraProfile | Adobe Standard |
CFAPattern | [Red,Green][Green,Blue] |
CircleOfConfusion | 0.030 mm |
Clarity2012 | +25 |
ColorComponents | 3 |
ColorNoiseReduction | 50 |
ColorNoiseReductionDetail | 50 |
ColorNoiseReductionSmoothness | 50 |
ColorSpace | sRGB |
ColorTemperature | 5000 |
ColorTransform | YCbCr |
Contrast | Normal |
Contrast2012 | +22 |
ConvertToGrayscale | False |
CreateDate (1) | 2019:07:30 08:09:07.60 |
CreateDate | 2019:07:30 08:09:07 |
Creator | Sindre Nedrevag |
CreatorTool | Adobe Photoshop Lightroom Classic 7.0 (Windows) |
CropAngle | 0.527211 |
CropBottom | 0.914485 |
CropConstrainToWarp | 0 |
CropLeft | 0.012809 |
CropRight | 0.994768 |
CropTop | 0.046498 |
CustomRendered | Normal |
DateCreated (1) | 2019:07:30 |
DateCreated | 2019:07:30 08:09:07.60 |
DateTimeOriginal | 2019:07:30 08:09:07 |
DefringeGreenAmount | 0 |
DefringeGreenHueHi | 60 |
DefringeGreenHueLo | 40 |
DefringePurpleAmount | 0 |
DefringePurpleHueHi | 70 |
DefringePurpleHueLo | 30 |
Dehaze | 0 |
DigitalZoomRatio | 1 |
DistortionCorrectionAlreadyApplied | True |
DOF | 29.17 m (29.99 - 59.16 m) |
Exposure2012 | +0.20 |
ExposureCompensation | 0 |
ExposureMode | Manual |
ExposureProgram | Manual |
ExposureTime | 1/500 |
Flash | No Flash |
FNumber | 11.0 |
FocalLength | 200.0 mm |
FocalLength35efl | 200.0 mm (35 mm equivalent: 200.0 mm) |
FocalLengthIn35mmFormat | 200 mm |
Format | image/jpeg |
FOV | 10.3 deg |
GainControl | Low gain up |
GradientBasedCorrActive | true |
GradientBasedCorrAmount | 1.000000 |
GradientBasedCorrBrightness | 0.000000 |
GradientBasedCorrClarity2012 | 0.000000 |
GradientBasedCorrContrast2012 | 0.000000 |
GradientBasedCorrCorrectionRangeMaskColorAmount | 0.500000 |
GradientBasedCorrCorrectionRangeMaskLumFeather | 0.500000 |
GradientBasedCorrCorrectionRangeMaskLumMax | 1.000000 |
GradientBasedCorrCorrectionRangeMaskLumMin | 0.000000 |
GradientBasedCorrCorrectionRangeMaskType | 0 |
GradientBasedCorrDefringe | 0.000000 |
GradientBasedCorrExposure2012 | 0.000000 |
GradientBasedCorrHighlights2012 | 0.000000 |
GradientBasedCorrHue | 240.000000 |
GradientBasedCorrLocalBlacks2012 | 0.000000 |
GradientBasedCorrLocalDehaze | 0.000000 |
GradientBasedCorrLocalWhites2012 | 0.000000 |
GradientBasedCorrLuminanceNoise | 0.217390 |
GradientBasedCorrMaskFullX | 0.500616 |
GradientBasedCorrMaskFullY | 0.960059 |
GradientBasedCorrMaskValue | 1.000000 |
GradientBasedCorrMaskWhat | Mask/Gradient |
GradientBasedCorrMaskZeroX | 0.502167 |
GradientBasedCorrMaskZeroY | 0.709903 |
GradientBasedCorrMoire | 0.000000 |
GradientBasedCorrSaturation | 0.000000 |
GradientBasedCorrShadows2012 | 0.000000 |
GradientBasedCorrSharpness | -0.586960 |
GradientBasedCorrTemperature | 0.000000 |
GradientBasedCorrTint | 0.000000 |
GradientBasedCorrWhat | Correction |
GrainAmount | 0 |
GreenHue | 0 |
GreenSaturation | 0 |
HasCrop | True |
HasExtendedXMP | E30E3DFE6213689B957CDC6A6C8DBDA9 |
HasSettings | True |
Highlights2012 | 0 |
HueAdjustmentAqua | 0 |
HueAdjustmentBlue | 0 |
HueAdjustmentGreen | 0 |
HueAdjustmentMagenta | 0 |
HueAdjustmentOrange | 0 |
HueAdjustmentPurple | 0 |
HueAdjustmentRed | 0 |
HueAdjustmentYellow | 0 |
HyperfocalDistance | 121.03 m |
ImageHeight | 2802 |
ImageNumber | 64816 |
ImageSize | 4864x2802 |
ImageWidth | 4864 |
ISO | 640 |
LateralChromaticAberrationCorrectionAlreadyApplied | True |
Lens | 200.0-500.0 mm f/5.6 |
LensID (1) | 174 |
LensID | AF-S Nikkor 200-500mm f/5.6E ED VR |
LensInfo | 200-500mm f/5.6 |
LensManualDistortionAmount | 0 |
LensModel | 200.0-500.0 mm f/5.6 |
LensProfileChromaticAberrationScale | 100 |
LensProfileDistortionScale | 100 |
LensProfileEnable | 1 |
LensProfileFilename | NIKON D3 (Nikon AF-S NIKKOR 200-500mm f5.6E ED VR) - RAW.lcp |
LensProfileName | Adobe (Nikon AF-S NIKKOR 200-500mm f/5.6E ED VR) |
LensProfileSetup | LensDefaults |
LensProfileVignettingScale | 100 |
LightSource | Fine Weather |
LightValue | 13.2 |
LuminanceAdjustmentAqua | 0 |
LuminanceAdjustmentBlue | 0 |
LuminanceAdjustmentGreen | 0 |
LuminanceAdjustmentMagenta | 0 |
LuminanceAdjustmentOrange | 0 |
LuminanceAdjustmentPurple | 0 |
LuminanceAdjustmentRed | 0 |
LuminanceAdjustmentYellow | 0 |
LuminanceSmoothing | 0 |
Make | NIKON CORPORATION |
MaxApertureValue | 5.7 |
Megapixels | 13.6 |
MeteringMode | Center-weighted average |
Model | NIKON D4 |
ModifyDate (1) | 2019:08:12 21:24:46+02:00 |
ModifyDate | 2019:08:12 21:24:46 |
PaintCorrectionActive | true |
PaintCorrectionAmount | 1.000000 |
PaintCorrectionBrightness | 0.000000 |
PaintCorrectionClarity2012 | 0.020000 |
PaintCorrectionContrast2012 | 0.000000 |
PaintCorrectionCorrectionRangeMaskColorAmount | 0.500000 |
PaintCorrectionCorrectionRangeMaskLumFeather | 0.500000 |
PaintCorrectionCorrectionRangeMaskLumMax | 1.000000 |
PaintCorrectionCorrectionRangeMaskLumMin | 0.000000 |
PaintCorrectionCorrectionRangeMaskType | 0 |
PaintCorrectionDefringe | 0.000000 |
PaintCorrectionExposure2012 | 0.012500 |
PaintCorrectionHighlights2012 | 0.000000 |
PaintCorrectionHue | 240.000000 |
PaintCorrectionLocalBlacks2012 | -0.050000 |
PaintCorrectionLocalDehaze | 0.000000 |
PaintCorrectionLocalWhites2012 | 0.000000 |
PaintCorrectionLuminanceNoise | 0.000000 |
PaintCorrectionMaskCenterWeight (15) | 0.291876 |
PaintCorrectionMaskCenterWeight | 0.245331 |
PaintCorrectionMaskFlow (46) | 1.000000 |
PaintCorrectionMaskFlow | 0.547000 |
PaintCorrectionMaskRadius (1) | 0.032294 |
PaintCorrectionMaskRadius (10) | 0.003856 |
PaintCorrectionMaskRadius (11) | 0.005523 |
PaintCorrectionMaskRadius (12) | 0.008942 |
PaintCorrectionMaskRadius (13) | 0.021874 |
PaintCorrectionMaskRadius (14) | 0.008846 |
PaintCorrectionMaskRadius (15) | 0.016741 |
PaintCorrectionMaskRadius (16) | 0.016690 |
PaintCorrectionMaskRadius (17) | 0.016782 |
PaintCorrectionMaskRadius (18) | 0.008916 |
PaintCorrectionMaskRadius (19) | 0.008935 |
PaintCorrectionMaskRadius (2) | 0.016144 |
PaintCorrectionMaskRadius (20) | 0.008948 |
PaintCorrectionMaskRadius (21) | 0.008973 |
PaintCorrectionMaskRadius (22) | 0.007245 |
PaintCorrectionMaskRadius (23) | 0.007172 |
PaintCorrectionMaskRadius (24) | 0.007176 |
PaintCorrectionMaskRadius (25) | 0.007175 |
PaintCorrectionMaskRadius (26) | 0.007185 |
PaintCorrectionMaskRadius (27) | 0.007186 |
PaintCorrectionMaskRadius (28) | 0.007181 |
PaintCorrectionMaskRadius (29) | 0.016771 |
PaintCorrectionMaskRadius (3) | 0.040779 |
PaintCorrectionMaskRadius (30) | 0.016676 |
PaintCorrectionMaskRadius (31) | 0.007195 |
PaintCorrectionMaskRadius (33) | 0.007173 |
PaintCorrectionMaskRadius (34) | 0.007162 |
PaintCorrectionMaskRadius (35) | 0.021870 |
PaintCorrectionMaskRadius (36) | 0.014239 |
PaintCorrectionMaskRadius (37) | 0.014172 |
PaintCorrectionMaskRadius (38) | 0.014170 |
PaintCorrectionMaskRadius (39) | 0.014173 |
PaintCorrectionMaskRadius (4) | 0.012396 |
PaintCorrectionMaskRadius (40) | 0.011495 |
PaintCorrectionMaskRadius (41) | 0.011579 |
PaintCorrectionMaskRadius (42) | 0.010589 |
PaintCorrectionMaskRadius (43) | 0.010596 |
PaintCorrectionMaskRadius (44) | 0.008881 |
PaintCorrectionMaskRadius (45) | 0.008876 |
PaintCorrectionMaskRadius (46) | 0.008220 |
PaintCorrectionMaskRadius (47) | 0.008840 |
PaintCorrectionMaskRadius (48) | 0.008839 |
PaintCorrectionMaskRadius (49) | 0.009137 |
PaintCorrectionMaskRadius (5) | 0.014891 |
PaintCorrectionMaskRadius (6) | 0.014913 |
PaintCorrectionMaskRadius (7) | 0.025673 |
PaintCorrectionMaskRadius (8) | 0.049704 |
PaintCorrectionMaskRadius (9) | 0.036618 |
PaintCorrectionMaskRadius | 0.009009 |
PaintCorrectionMaskValue (6) | 0.000000 |
PaintCorrectionMaskValue | 1.000000 |
PaintCorrectionMaskWhat | Mask/Paint |
PaintCorrectionMoire | 0.000000 |
PaintCorrectionSaturation | 0.000000 |
PaintCorrectionShadows2012 | 0.100000 |
PaintCorrectionSharpness | 0.150000 |
PaintCorrectionTemperature | 0.000000 |
PaintCorrectionTint | 0.000000 |
PaintCorrectionWhat | Correction |
ParametricDarks | 0 |
ParametricHighlights | +5 |
ParametricHighlightSplit | 75 |
ParametricLights | +5 |
ParametricMidtoneSplit | 50 |
ParametricShadows | 0 |
ParametricShadowSplit | 25 |
PerspectiveAspect | 0 |
PerspectiveHorizontal | 0 |
PerspectiveRotate | 0.0 |
PerspectiveScale | 100 |
PerspectiveUpright | 0 |
PerspectiveVertical | 0 |
PerspectiveX | 0.00 |
PerspectiveY | 0.00 |
PostCropVignetteAmount | 0 |
ProcessVersion | 10.0 |
ProfileDescription | sRGB IEC61966-2.1 |
RedHue | 0 |
RedSaturation | 0 |
Saturation (1) | +6 |
Saturation | Normal |
SaturationAdjustmentAqua | 0 |
SaturationAdjustmentBlue | 0 |
SaturationAdjustmentGreen | 0 |
SaturationAdjustmentMagenta | 0 |
SaturationAdjustmentOrange | 0 |
SaturationAdjustmentPurple | 0 |
SaturationAdjustmentRed | 0 |
SaturationAdjustmentYellow | 0 |
ScaleFactor35efl | 1.0 |
SceneCaptureType | Standard |
SceneType | Directly photographed |
SensingMethod | One-chip color area |
SensitivityType | Recommended Exposure Index |
SerialNumber | 2055090 |
Shadows2012 | -10 |
ShadowTint | 0 |
SharpenDetail | 27 |
SharpenEdgeMasking | 76 |
SharpenRadius | +1.0 |
Sharpness (1) | 27 |
Sharpness | Normal |
ShutterSpeed | 1/500 |
ShutterSpeedValue | 1/500 |
Software | Adobe Photoshop Lightroom Classic 7.0 (Windows) |
SplitToningBalance | 0 |
SplitToningHighlightHue | 0 |
SplitToningHighlightSaturation | 0 |
SplitToningShadowHue | 0 |
SplitToningShadowSaturation | 0 |
SubjectDistanceRange | Unknown |
Tint | 0 |
ToneCurve | 0, 0, 255, 255 |
ToneCurveBlue | 0, 0, 255, 255 |
ToneCurveGreen | 0, 0, 255, 255 |
ToneCurveName | Linear |
ToneCurveName2012 | Linear |
ToneCurvePV2012 | 0, 0, 255, 255 |
ToneCurvePV2012Blue | 0, 0, 255, 255 |
ToneCurvePV2012Green | 0, 0, 255, 255 |
ToneCurvePV2012Red | 0, 0, 255, 255 |
ToneCurveRed | 0, 0, 255, 255 |
Version | 10.0 |
Vibrance | +17 |
VignetteAmount | 0 |
VignetteCorrectionAlreadyApplied | True |
WhiteBalance (1) | Custom |
WhiteBalance | Manual |
Whites2012 | +10 |