Felt | Verdi |
AlreadyApplied | True |
Aperture | 9.5 |
ApertureValue | 9.5 |
ApproximateFocusDistance | 4294967295 |
Artist | Sindre Nedrevag |
AutoLateralCA | 1 |
BitsPerSample | 8 |
Blacks2012 | -10 |
BlueHue | 0 |
BlueSaturation | 0 |
By-line | Sindre Nedrevag |
CameraProfile | Adobe Standard |
CFAPattern | [Red,Green][Green,Blue] |
CircleOfConfusion | 0.030 mm |
Clarity2012 | +4 |
ColorComponents | 3 |
ColorNoiseReduction | 50 |
ColorNoiseReductionDetail | 50 |
ColorNoiseReductionSmoothness | 50 |
ColorSpace | sRGB |
ColorTemperature | 5400 |
Contrast | Normal |
Contrast2012 | +18 |
ConvertToGrayscale | False |
CreateDate (1) | 2019:07:31 07:22:08.30 |
CreateDate | 2019:07:31 07:22:08 |
Creator | Sindre Nedrevag |
CreatorTool | Adobe Photoshop Lightroom Classic 7.0 (Windows) |
CropAngle | -0.719109 |
CropBottom | 0.905521 |
CropConstrainToWarp | 0 |
CropLeft | 0.090537 |
CropRight | 0.991666 |
CropTop | 0.019144 |
CustomRendered | Normal |
DateCreated (1) | 2019:07:31 |
DateCreated | 2019:07:31 07:22:08.30 |
DateTimeOriginal | 2019:07:31 07:22:08 |
DefringeGreenAmount | 0 |
DefringeGreenHueHi | 60 |
DefringeGreenHueLo | 40 |
DefringePurpleAmount | 0 |
DefringePurpleHueHi | 70 |
DefringePurpleHueLo | 30 |
Dehaze | 0 |
DigitalZoomRatio | 1 |
DistortionCorrectionAlreadyApplied | True |
DOF | inf (2531.18 m - inf) |
Exposure2012 | +0.60 |
ExposureCompensation | 0 |
ExposureMode | Manual |
ExposureProgram | Manual |
ExposureTime | 1/640 |
Flash | No Flash |
FNumber | 9.5 |
FocalLength | 850.0 mm |
FocalLength35efl | 850.0 mm (35 mm equivalent: 850.0 mm) |
FocalLengthIn35mmFormat | 850 mm |
Format | image/jpeg |
FOV | 2.4 deg |
GainControl | High gain up |
GrainAmount | 0 |
GreenHue | 0 |
GreenSaturation | 0 |
HasCrop | True |
HasExtendedXMP | 40AED82EBB7C3E87767AC547F6BF11D6 |
HasSettings | True |
Highlights2012 | -25 |
HueAdjustmentAqua | 0 |
HueAdjustmentBlue | 0 |
HueAdjustmentGreen | 0 |
HueAdjustmentMagenta | 0 |
HueAdjustmentOrange | 0 |
HueAdjustmentPurple | 0 |
HueAdjustmentRed | 0 |
HueAdjustmentYellow | 0 |
HyperfocalDistance | 2531.18 m |
ImageHeight | 1722 |
ImageNumber | 65630 |
ImageSize | 2560x1722 |
ImageWidth | 2560 |
ISO | 3200 |
LateralChromaticAberrationCorrectionAlreadyApplied | True |
Lens | 200.0-500.0 mm f/5.6 |
LensID (1) | 174 |
LensID | AF-S Nikkor 200-500mm f/5.6E ED VR |
LensInfo | 200-500mm f/5.6 |
LensManualDistortionAmount | 0 |
LensModel | 200.0-500.0 mm f/5.6 |
LensProfileChromaticAberrationScale | 100 |
LensProfileDistortionScale | 100 |
LensProfileEnable | 1 |
LensProfileFilename | NIKON D3 (Nikon AF-S NIKKOR 200-500mm f5.6E ED VR) - RAW.lcp |
LensProfileName | Adobe (Nikon AF-S NIKKOR 200-500mm f/5.6E ED VR) |
LensProfileSetup | LensDefaults |
LensProfileVignettingScale | 100 |
LightSource | Cloudy |
LightValue | 10.8 |
LuminanceAdjustmentAqua | 0 |
LuminanceAdjustmentBlue | 0 |
LuminanceAdjustmentGreen | 0 |
LuminanceAdjustmentMagenta | 0 |
LuminanceAdjustmentOrange | 0 |
LuminanceAdjustmentPurple | 0 |
LuminanceAdjustmentRed | 0 |
LuminanceAdjustmentYellow | 0 |
LuminanceNoiseReductionContrast | 0 |
LuminanceNoiseReductionDetail | 60 |
LuminanceSmoothing | 12 |
Make | NIKON CORPORATION |
MaxApertureValue | 9.5 |
Megapixels | 4.4 |
MeteringMode | Center-weighted average |
Model | NIKON D4 |
ModifyDate (1) | 2019:08:23 20:24:18+02:00 |
ModifyDate | 2019:08:23 20:24:18 |
PaintCorrectionActive | true |
PaintCorrectionAmount | 1.000000 |
PaintCorrectionBrightness | 0.000000 |
PaintCorrectionClarity2012 (2) | 0.050000 |
PaintCorrectionClarity2012 | 0.000000 |
PaintCorrectionContrast2012 (1) | 0.050000 |
PaintCorrectionContrast2012 | 0.000000 |
PaintCorrectionCorrectionRangeMaskColorAmount | 0.500000 |
PaintCorrectionCorrectionRangeMaskLumFeather | 0.500000 |
PaintCorrectionCorrectionRangeMaskLumMax | 1.000000 |
PaintCorrectionCorrectionRangeMaskLumMin | 0.000000 |
PaintCorrectionCorrectionRangeMaskType | 0 |
PaintCorrectionDefringe | 0.000000 |
PaintCorrectionExposure2012 (1) | 0.015000 |
PaintCorrectionExposure2012 | 0.000000 |
PaintCorrectionHighlights2012 | 0.000000 |
PaintCorrectionHue | 240.000000 |
PaintCorrectionLocalBlacks2012 (1) | 0.000000 |
PaintCorrectionLocalBlacks2012 | -0.020000 |
PaintCorrectionLocalDehaze (2) | 0.030000 |
PaintCorrectionLocalDehaze | 0.000000 |
PaintCorrectionLocalWhites2012 | 0.000000 |
PaintCorrectionLuminanceNoise (1) | 0.100000 |
PaintCorrectionLuminanceNoise | 0.000000 |
PaintCorrectionMaskCenterWeight (31) | 0.291876 |
PaintCorrectionMaskCenterWeight (86) | 0.245331 |
PaintCorrectionMaskCenterWeight | 1.000000 |
PaintCorrectionMaskFlow (1) | 0.100000 |
PaintCorrectionMaskFlow (57) | 0.842000 |
PaintCorrectionMaskFlow (90) | 0.652000 |
PaintCorrectionMaskFlow | 1.000000 |
PaintCorrectionMaskRadius (1) | 0.013203 |
PaintCorrectionMaskRadius (10) | 0.002544 |
PaintCorrectionMaskRadius (11) | 0.001471 |
PaintCorrectionMaskRadius (12) | 0.002541 |
PaintCorrectionMaskRadius (14) | 0.003634 |
PaintCorrectionMaskRadius (15) | 0.003632 |
PaintCorrectionMaskRadius (18) | 0.004743 |
PaintCorrectionMaskRadius (19) | 0.003631 |
PaintCorrectionMaskRadius (2) | 0.005877 |
PaintCorrectionMaskRadius (24) | 0.001469 |
PaintCorrectionMaskRadius (26) | 0.002543 |
PaintCorrectionMaskRadius (27) | 0.002542 |
PaintCorrectionMaskRadius (29) | 0.002540 |
PaintCorrectionMaskRadius (3) | 0.010617 |
PaintCorrectionMaskRadius (30) | 0.006185 |
PaintCorrectionMaskRadius (32) | 0.006186 |
PaintCorrectionMaskRadius (33) | 0.006192 |
PaintCorrectionMaskRadius (35) | 0.006191 |
PaintCorrectionMaskRadius (39) | 0.005357 |
PaintCorrectionMaskRadius (4) | 0.004749 |
PaintCorrectionMaskRadius (40) | 0.003328 |
PaintCorrectionMaskRadius (42) | 0.003332 |
PaintCorrectionMaskRadius (43) | 0.003333 |
PaintCorrectionMaskRadius (44) | 0.003331 |
PaintCorrectionMaskRadius (45) | 0.005353 |
PaintCorrectionMaskRadius (46) | 0.005352 |
PaintCorrectionMaskRadius (51) | 0.002939 |
PaintCorrectionMaskRadius (59) | 0.002938 |
PaintCorrectionMaskRadius (6) | 0.003633 |
PaintCorrectionMaskRadius (62) | 0.002372 |
PaintCorrectionMaskRadius (64) | 0.002376 |
PaintCorrectionMaskRadius (65) | 0.002375 |
PaintCorrectionMaskRadius (67) | 0.002374 |
PaintCorrectionMaskRadius (68) | 0.003096 |
PaintCorrectionMaskRadius (69) | 0.003094 |
PaintCorrectionMaskRadius (7) | 0.003636 |
PaintCorrectionMaskRadius (71) | 0.003093 |
PaintCorrectionMaskRadius (72) | 0.001816 |
PaintCorrectionMaskRadius (74) | 0.033461 |
PaintCorrectionMaskRadius (75) | 0.035431 |
PaintCorrectionMaskRadius (76) | 0.031756 |
PaintCorrectionMaskRadius (77) | 0.017572 |
PaintCorrectionMaskRadius (78) | 0.013174 |
PaintCorrectionMaskRadius (79) | 0.013178 |
PaintCorrectionMaskRadius (80) | 0.014270 |
PaintCorrectionMaskRadius (81) | 0.013231 |
PaintCorrectionMaskRadius (82) | 0.017762 |
PaintCorrectionMaskRadius (83) | 0.013305 |
PaintCorrectionMaskRadius (84) | 0.021255 |
PaintCorrectionMaskRadius (85) | 0.021135 |
PaintCorrectionMaskRadius (86) | 0.021028 |
PaintCorrectionMaskRadius (87) | 0.010967 |
PaintCorrectionMaskRadius (88) | 0.010891 |
PaintCorrectionMaskRadius (89) | 0.014183 |
PaintCorrectionMaskRadius (90) | 0.014408 |
PaintCorrectionMaskRadius (91) | 0.014333 |
PaintCorrectionMaskRadius (92) | 0.017682 |
PaintCorrectionMaskRadius (93) | 0.017731 |
PaintCorrectionMaskRadius (94) | 0.017706 |
PaintCorrectionMaskRadius (95) | 0.017557 |
PaintCorrectionMaskRadius (96) | 0.017591 |
PaintCorrectionMaskRadius (97) | 0.017579 |
PaintCorrectionMaskRadius (98) | 0.017574 |
PaintCorrectionMaskRadius | 0.002052 |
PaintCorrectionMaskValue (39) | 0.000000 |
PaintCorrectionMaskValue | 1.000000 |
PaintCorrectionMaskWhat | Mask/Paint |
PaintCorrectionMoire | 0.000000 |
PaintCorrectionSaturation | 0.000000 |
PaintCorrectionShadows2012 | 0.000000 |
PaintCorrectionSharpness | 0.000000 |
PaintCorrectionTemperature (1) | 0.010000 |
PaintCorrectionTemperature (2) | -0.050000 |
PaintCorrectionTemperature | 0.000000 |
PaintCorrectionTint | 0.000000 |
PaintCorrectionWhat | Correction |
ParametricDarks | 0 |
ParametricHighlights | 0 |
ParametricHighlightSplit | 75 |
ParametricLights | +6 |
ParametricMidtoneSplit | 50 |
ParametricShadows | 0 |
ParametricShadowSplit | 25 |
PerspectiveAspect | 0 |
PerspectiveHorizontal | 0 |
PerspectiveRotate | 0.0 |
PerspectiveScale | 100 |
PerspectiveUpright | 0 |
PerspectiveVertical | 0 |
PerspectiveX | 0.00 |
PerspectiveY | 0.00 |
PostCropVignetteAmount | 0 |
ProcessVersion | 10.0 |
ProfileDescription | sRGB IEC61966-2.1 |
RedHue | 0 |
RedSaturation | 0 |
Saturation (1) | +10 |
Saturation | Normal |
SaturationAdjustmentAqua | 0 |
SaturationAdjustmentBlue | 0 |
SaturationAdjustmentGreen | 0 |
SaturationAdjustmentMagenta | 0 |
SaturationAdjustmentOrange | +9 |
SaturationAdjustmentPurple | 0 |
SaturationAdjustmentRed | 0 |
SaturationAdjustmentYellow | +8 |
ScaleFactor35efl | 1.0 |
SceneCaptureType | Standard |
SceneType | Directly photographed |
SensingMethod | One-chip color area |
SensitivityType | Recommended Exposure Index |
SerialNumber | 2055090 |
Shadows2012 | +30 |
ShadowTint | 0 |
SharpenDetail | 29 |
SharpenEdgeMasking | 77 |
SharpenRadius | +1.0 |
Sharpness (1) | 29 |
Sharpness | Normal |
ShutterSpeed | 1/640 |
ShutterSpeedValue | 1/640 |
Software | Adobe Photoshop Lightroom Classic 7.0 (Windows) |
SplitToningBalance | 0 |
SplitToningHighlightHue | 0 |
SplitToningHighlightSaturation | 0 |
SplitToningShadowHue | 0 |
SplitToningShadowSaturation | 0 |
SubjectDistanceRange | Unknown |
Tint | -2 |
ToneCurve | 0, 0, 255, 255 |
ToneCurveBlue | 0, 0, 255, 255 |
ToneCurveGreen | 0, 0, 255, 255 |
ToneCurveName | Linear |
ToneCurveName2012 | Linear |
ToneCurvePV2012 | 0, 0, 255, 255 |
ToneCurvePV2012Blue | 0, 0, 255, 255 |
ToneCurvePV2012Green | 0, 0, 255, 255 |
ToneCurvePV2012Red | 0, 0, 255, 255 |
ToneCurveRed | 0, 0, 255, 255 |
Version | 10.0 |
Vibrance | +14 |
VignetteAmount | 0 |
VignetteCorrectionAlreadyApplied | True |
WhiteBalance (1) | Custom |
WhiteBalance | Manual |
Whites2012 | +5 |