Felt | Verdi |
AlreadyApplied | True |
Aperture | 11.0 |
ApertureValue | 11.0 |
Artist | ARILD THINGVOLL |
AutoLateralCA | 0 |
BitsPerSample | 8 |
Blacks2012 | 0 |
BlueHue | 0 |
BlueSaturation | 0 |
BrightnessValue | 6.64 |
By-line | ARILD THINGVOLL |
CameraProfile | Embedded |
CircGradBasedCorrActive | true |
CircGradBasedCorrAmount | 1.000000 |
CircGradBasedCorrBrightness | 0.000000 |
CircGradBasedCorrClarity2012 | 0.000000 |
CircGradBasedCorrContrast2012 | 0.000000 |
CircGradBasedCorrCorrectionRangeMaskColorAmount | 0.500000 |
CircGradBasedCorrCorrectionRangeMaskDepthFeather | 0.500000 |
CircGradBasedCorrCorrectionRangeMaskDepthMax | 1.000000 |
CircGradBasedCorrCorrectionRangeMaskDepthMin | 0.000000 |
CircGradBasedCorrCorrectionRangeMaskLumFeather | 0.500000 |
CircGradBasedCorrCorrectionRangeMaskLumMax | 1.000000 |
CircGradBasedCorrCorrectionRangeMaskLumMin | 0.000000 |
CircGradBasedCorrCorrectionRangeMaskType | 0 |
CircGradBasedCorrCorrectionRangeMaskVersion | +2 |
CircGradBasedCorrDefringe | 0.000000 |
CircGradBasedCorrExposure2012 (10) | 0.174000 |
CircGradBasedCorrExposure2012 (2) | 0.217500 |
CircGradBasedCorrExposure2012 (6) | 0.152250 |
CircGradBasedCorrExposure2012 | 0.087000 |
CircGradBasedCorrHighlights2012 | 0.000000 |
CircGradBasedCorrHue | 101.000000 |
CircGradBasedCorrLocalBlacks2012 | 0.000000 |
CircGradBasedCorrLocalDehaze | 0.000000 |
CircGradBasedCorrLocalTexture | 0.000000 |
CircGradBasedCorrLocalWhites2012 | 0.000000 |
CircGradBasedCorrLuminanceNoise | 0.000000 |
CircGradBasedCorrMaskAngle | 0.000000 |
CircGradBasedCorrMaskBottom (1) | 0.786773 |
CircGradBasedCorrMaskBottom (10) | 0.433163 |
CircGradBasedCorrMaskBottom (2) | 0.786068 |
CircGradBasedCorrMaskBottom (3) | 0.718446 |
CircGradBasedCorrMaskBottom (4) | 0.755075 |
CircGradBasedCorrMaskBottom (5) | 0.505717 |
CircGradBasedCorrMaskBottom (6) | 0.502899 |
CircGradBasedCorrMaskBottom (7) | 0.507830 |
CircGradBasedCorrMaskBottom (8) | 0.631805 |
CircGradBasedCorrMaskBottom (9) | 0.605742 |
CircGradBasedCorrMaskBottom | 0.399352 |
CircGradBasedCorrMaskFeather | +100 |
CircGradBasedCorrMaskFlipped | true |
CircGradBasedCorrMaskLeft (1) | -0.018318 |
CircGradBasedCorrMaskLeft (10) | 0.740254 |
CircGradBasedCorrMaskLeft (2) | 0.176140 |
CircGradBasedCorrMaskLeft (3) | 0.283233 |
CircGradBasedCorrMaskLeft (4) | 0.589010 |
CircGradBasedCorrMaskLeft (5) | 0.893376 |
CircGradBasedCorrMaskLeft (6) | 0.796617 |
CircGradBasedCorrMaskLeft (7) | 0.714888 |
CircGradBasedCorrMaskLeft (8) | 0.865663 |
CircGradBasedCorrMaskLeft (9) | 0.384216 |
CircGradBasedCorrMaskLeft | 0.573979 |
CircGradBasedCorrMaskMidpoint | +50 |
CircGradBasedCorrMaskRight (1) | 0.359324 |
CircGradBasedCorrMaskRight (10) | 0.790042 |
CircGradBasedCorrMaskRight (2) | 0.553782 |
CircGradBasedCorrMaskRight (3) | 0.599813 |
CircGradBasedCorrMaskRight (4) | 1.007990 |
CircGradBasedCorrMaskRight (5) | 0.970408 |
CircGradBasedCorrMaskRight (6) | 0.873649 |
CircGradBasedCorrMaskRight (7) | 0.791920 |
CircGradBasedCorrMaskRight (8) | 0.983089 |
CircGradBasedCorrMaskRight (9) | 0.501642 |
CircGradBasedCorrMaskRight | 0.623767 |
CircGradBasedCorrMaskRoundness | 0 |
CircGradBasedCorrMaskTop (1) | 0.658572 |
CircGradBasedCorrMaskTop (10) | 0.395125 |
CircGradBasedCorrMaskTop (2) | 0.612785 |
CircGradBasedCorrMaskTop (3) | 0.545163 |
CircGradBasedCorrMaskTop (4) | 0.581792 |
CircGradBasedCorrMaskTop (5) | 0.463453 |
CircGradBasedCorrMaskTop (6) | 0.460635 |
CircGradBasedCorrMaskTop (7) | 0.465566 |
CircGradBasedCorrMaskTop (8) | 0.589541 |
CircGradBasedCorrMaskTop (9) | 0.563478 |
CircGradBasedCorrMaskTop | 0.361314 |
CircGradBasedCorrMaskValue | 1.000000 |
CircGradBasedCorrMaskVersion | +2 |
CircGradBasedCorrMaskWhat | Mask/CircularGradient |
CircGradBasedCorrMoire | 0.000000 |
CircGradBasedCorrSaturation | 0.000000 |
CircGradBasedCorrShadows2012 (4) | 0.000000 |
CircGradBasedCorrShadows2012 | 0.304350 |
CircGradBasedCorrSharpness | 0.000000 |
CircGradBasedCorrTemperature | 0.000000 |
CircGradBasedCorrTint | 0.000000 |
CircGradBasedCorrWhat | Correction |
CircleOfConfusion | 0.020 mm |
Clarity2012 | 0 |
ColorComponents | 3 |
ColorNoiseReduction | 0 |
ColorSpace | sRGB |
ColorTransform | YCbCr |
Contrast2012 | +21 |
ConvertToGrayscale | False |
CreateDate | 2019:09:23 17:55:30 |
Creator | ARILD THINGVOLL |
CreatorTool | Adobe Photoshop Lightroom Classic 9.0 (Windows) |
CropAngle | 0 |
CropBottom | 0.966192 |
CropConstrainToWarp | 0 |
CropLeft | 0 |
CropRight | 0.964148 |
CropTop | 0.152693 |
CustomRendered | Normal |
DateCreated (1) | 2019:09:23 |
DateCreated | 2019:09:23 17:55:30 |
DateTimeOriginal | 2019:09:23 17:55:30 |
DefringeGreenAmount | 0 |
DefringeGreenHueHi | 60 |
DefringeGreenHueLo | 40 |
DefringePurpleAmount | 0 |
DefringePurpleHueHi | 70 |
DefringePurpleHueLo | 30 |
Dehaze | 0 |
Exposure2012 | 0.00 |
ExposureCompensation | -0.67 |
ExposureMode | Auto |
ExposureProgram | Aperture-priority AE |
ExposureTime | 1/60 |
Flash | No Flash |
FNumber | 11.0 |
FocalLength | 16.0 mm |
FocalLength35efl | 16.0 mm (35 mm equivalent: 24.0 mm) |
FocalLengthIn35mmFormat | 24 mm |
Format | image/jpeg |
FOV | 73.7 deg |
GrainAmount | 0 |
GreenHue | 0 |
GreenSaturation | 0 |
HasCrop | True |
HasSettings | True |
Highlights2012 | 0 |
HueAdjustmentAqua | 0 |
HueAdjustmentBlue | 0 |
HueAdjustmentGreen | 0 |
HueAdjustmentMagenta | 0 |
HueAdjustmentOrange | 0 |
HueAdjustmentPurple | 0 |
HueAdjustmentRed | 0 |
HueAdjustmentYellow | 0 |
HyperfocalDistance | 1.16 m |
ImageHeight | 675 |
ImageSize | 1200x675 |
ImageWidth | 1200 |
IncrementalTemperature | -7 |
IncrementalTint | +10 |
ISO | 250 |
Keywords | 0919 |
LateralChromaticAberrationCorrectionAlreadyApplied | True |
Lens | XF16mmF1.4 R WR |
LensInfo | 16mm f/1.4 |
LensMake | FUJIFILM |
LensManualDistortionAmount | 0 |
LensModel | XF16mmF1.4 R WR |
LensProfileEnable | 0 |
LensProfileSetup | LensDefaults |
LensSerialNumber | 76A00436 |
LightSource | Unknown |
LightValue | 11.5 |
LookName | |
LuminanceAdjustmentAqua | 0 |
LuminanceAdjustmentBlue | 0 |
LuminanceAdjustmentGreen | +44 |
LuminanceAdjustmentMagenta | +1 |
LuminanceAdjustmentOrange | -2 |
LuminanceAdjustmentPurple | 0 |
LuminanceAdjustmentRed | +7 |
LuminanceAdjustmentYellow | +19 |
LuminanceSmoothing | 0 |
Make | FUJIFILM |
MaxApertureValue | 1.4 |
Megapixels | 0.810 |
MeteringMode | Multi-segment |
Model | X-H1 |
ModifyDate (1) | 2019:11:08 21:15:02+01:00 |
ModifyDate | 2019:11:08 21:15:02 |
OverrideLookVignette | False |
PaintCorrectionActive | true |
PaintCorrectionAmount | 1.000000 |
PaintCorrectionBrightness | 0.000000 |
PaintCorrectionClarity2012 (2) | 0.000000 |
PaintCorrectionClarity2012 | 0.086960 |
PaintCorrectionContrast2012 (1) | 0.000000 |
PaintCorrectionContrast2012 | 0.086960 |
PaintCorrectionCorrectionRangeMaskColorAmount | 0.500000 |
PaintCorrectionCorrectionRangeMaskDepthFeather | 0.500000 |
PaintCorrectionCorrectionRangeMaskDepthMax | 1.000000 |
PaintCorrectionCorrectionRangeMaskDepthMin | 0.000000 |
PaintCorrectionCorrectionRangeMaskLumFeather | 0.500000 |
PaintCorrectionCorrectionRangeMaskLumMax | 1.000000 |
PaintCorrectionCorrectionRangeMaskLumMin | 0.000000 |
PaintCorrectionCorrectionRangeMaskType | 0 |
PaintCorrectionCorrectionRangeMaskVersion | +2 |
PaintCorrectionDefringe | 0.000000 |
PaintCorrectionExposure2012 (2) | 0.043500 |
PaintCorrectionExposure2012 | 0.000000 |
PaintCorrectionHighlights2012 (1) | 0.282610 |
PaintCorrectionHighlights2012 | 0.000000 |
PaintCorrectionHue | 101.000000 |
PaintCorrectionLocalBlacks2012 | 0.000000 |
PaintCorrectionLocalDehaze | 0.000000 |
PaintCorrectionLocalTexture (3) | 0.065220 |
PaintCorrectionLocalTexture | 0.000000 |
PaintCorrectionLocalWhites2012 | 0.000000 |
PaintCorrectionLuminanceNoise | 0.000000 |
PaintCorrectionMaskCenterWeight | 0.000000 |
PaintCorrectionMaskFlow | 1.000000 |
PaintCorrectionMaskRadius (1) | 0.112976 |
PaintCorrectionMaskRadius (32) | 0.049727 |
PaintCorrectionMaskRadius (4) | 0.086490 |
PaintCorrectionMaskRadius (45) | 0.027194 |
PaintCorrectionMaskRadius (5) | 0.067664 |
PaintCorrectionMaskRadius (51) | 0.043945 |
PaintCorrectionMaskRadius (9) | 0.032679 |
PaintCorrectionMaskRadius | 0.038263 |
PaintCorrectionMaskValue | 1.000000 |
PaintCorrectionMaskWhat | Mask/Paint |
PaintCorrectionMoire | 0.000000 |
PaintCorrectionSaturation (1) | 0.260870 |
PaintCorrectionSaturation | 0.000000 |
PaintCorrectionShadows2012 (2) | 0.304350 |
PaintCorrectionShadows2012 | 0.000000 |
PaintCorrectionSharpness (1) | 0.195650 |
PaintCorrectionSharpness | 0.000000 |
PaintCorrectionTemperature | 0.000000 |
PaintCorrectionTint (3) | 0.000000 |
PaintCorrectionTint | 0.043480 |
PaintCorrectionWhat | Correction |
ParametricDarks | 0 |
ParametricHighlights | 0 |
ParametricHighlightSplit | 75 |
ParametricLights | +13 |
ParametricMidtoneSplit | 50 |
ParametricShadows | +42 |
ParametricShadowSplit | 25 |
PerspectiveAspect | 0 |
PerspectiveHorizontal | 0 |
PerspectiveRotate | 0.0 |
PerspectiveScale | 100 |
PerspectiveUpright | 0 |
PerspectiveVertical | 0 |
PerspectiveX | 0.00 |
PerspectiveY | 0.00 |
PostCropVignetteAmount | 0 |
PreservedFileName | XH109285.RAF |
ProcessVersion | 11.0 |
ProfileDescription | sRGB IEC61966-2.1 |
Rating | 3 |
RawFileName | |
RedHue | 0 |
RedSaturation | 0 |
Saturation | 0 |
SaturationAdjustmentAqua | 0 |
SaturationAdjustmentBlue | 0 |
SaturationAdjustmentGreen | 0 |
SaturationAdjustmentMagenta | 0 |
SaturationAdjustmentOrange | 0 |
SaturationAdjustmentPurple | 0 |
SaturationAdjustmentRed | 0 |
SaturationAdjustmentYellow | 0 |
ScaleFactor35efl | 1.5 |
SceneCaptureType | Standard |
SensingMethod | One-chip color area |
SerialNumber | 81A55422 |
Shadows2012 | 0 |
ShadowTint | 0 |
SharpenDetail | 25 |
SharpenEdgeMasking | 79 |
SharpenRadius | +1.0 |
Sharpness (1) | 38 |
Sharpness | Normal |
ShutterSpeed | 1/60 |
ShutterSpeedValue | 1/60 |
Software | Adobe Photoshop Lightroom Classic 9.0 (Windows) |
SplitToningBalance | 0 |
SplitToningHighlightHue | 0 |
SplitToningHighlightSaturation | 0 |
SplitToningShadowHue | 0 |
SplitToningShadowSaturation | 0 |
Subject | 0919 |
SubjectDistanceRange | Unknown |
Texture | 0 |
ToneCurve | 0, 0, 255, 255 |
ToneCurveBlue | 0, 0, 255, 255 |
ToneCurveGreen | 0, 0, 255, 255 |
ToneCurveName | Linear |
ToneCurveName2012 | Linear |
ToneCurvePV2012 | 0, 0, 255, 255 |
ToneCurvePV2012Blue | 0, 0, 255, 255 |
ToneCurvePV2012Green | 0, 0, 255, 255 |
ToneCurvePV2012Red | 0, 0, 255, 255 |
ToneCurveRed | 0, 0, 255, 255 |
ToneMapStrength | 0 |
Version | 12.0 |
Vibrance | +33 |
VignetteAmount | 0 |
VignetteCorrectionAlreadyApplied | True |
WhiteBalance (1) | Custom |
WhiteBalance | Auto |
Whites2012 | 0 |