Felt | Verdi |
AlreadyApplied | True |
Aperture | 7.1 |
ApertureValue | 7.1 |
ApproximateFocusDistance | 2.66 |
AutoLateralCA | 1 |
BitsPerSample | 8 |
Blacks2012 | +100 |
BlueHue | 0 |
BlueSaturation | 0 |
CameraProfile | Adobe Standard |
CFAPattern | [Red,Green][Green,Blue] |
CircleOfConfusion | 0.020 mm |
Clarity2012 | -5 |
ColorComponents | 3 |
ColorNoiseReduction | 35 |
ColorNoiseReductionDetail | 50 |
ColorNoiseReductionSmoothness | 50 |
ColorSpace | sRGB |
ColorTemperature | 5750 |
ColorTransform | YCbCr |
Contrast | Normal |
Contrast2012 | +100 |
ConvertToGrayscale | False |
CreateDate (1) | 2019:10:30 15:57:41.47 |
CreateDate | 2019:10:30 15:57:41 |
CreatorTool | Adobe Photoshop Lightroom Classic 9.0 (Windows) |
CropAngle | 0 |
CropBottom | 1 |
CropConstrainToWarp | 0 |
CropLeft | 0.007477 |
CropRight | 1 |
CropTop | 0.014025 |
CustomRendered | Normal |
DateCreated (1) | 2019:10:30 |
DateCreated | 2019:10:30 15:57:41.47 |
DateTimeOriginal | 2019:10:30 15:57:41 |
DefringeGreenAmount | 0 |
DefringeGreenHueHi | 60 |
DefringeGreenHueLo | 40 |
DefringePurpleAmount | 0 |
DefringePurpleHueHi | 70 |
DefringePurpleHueLo | 30 |
Dehaze | +20 |
DigitalZoomRatio | 1 |
DistortionCorrectionAlreadyApplied | True |
DOF | inf (1.23 m - inf) |
Exposure2012 | +0.20 |
ExposureCompensation | 0 |
ExposureMode | Manual |
ExposureProgram | Manual |
ExposureTime | 1/50 |
Flash | Off, Did not fire |
FNumber | 7.1 |
FocalLength | 18.0 mm |
FocalLength35efl | 18.0 mm (35 mm equivalent: 27.0 mm) |
FocalLengthIn35mmFormat | 27 mm |
Format | image/jpeg |
FOV | 67.4 deg |
GainControl | Low gain up |
GrainAmount | 0 |
GreenHue | 0 |
GreenSaturation | 0 |
HasCrop | True |
HasSettings | True |
Highlights2012 | -100 |
HueAdjustmentAqua | 0 |
HueAdjustmentBlue | 0 |
HueAdjustmentGreen | 0 |
HueAdjustmentMagenta | 0 |
HueAdjustmentOrange | 0 |
HueAdjustmentPurple | 0 |
HueAdjustmentRed | 0 |
HueAdjustmentYellow | 0 |
HyperfocalDistance | 2.28 m |
ImageHeight | 1200 |
ImageNumber | 31309 |
ImageSize | 1812x1200 |
ImageWidth | 1812 |
ISO | 400 |
LateralChromaticAberrationCorrectionAlreadyApplied | True |
Lens | 18.0-35.0 mm f/1.8 |
LensID (1) | 139 |
LensID | Sigma 18-35mm F1.8 DC HSM |
LensInfo | 18-35mm f/1.8 |
LensManualDistortionAmount | 0 |
LensModel | 18.0-35.0 mm f/1.8 |
LensProfileChromaticAberrationScale | 100 |
LensProfileDistortionScale | 100 |
LensProfileEnable | 1 |
LensProfileFilename | NIKON CORPORATION (SIGMA 18-35mm F1.8 DC HSM A013) - RAW.lcp |
LensProfileName | Adobe (SIGMA 18-35mm F1.8 DC HSM A013, NIKON CORPORATION) |
LensProfileSetup | LensDefaults |
LensProfileVignettingScale | 100 |
LightSource | Unknown |
LightValue | 9.3 |
LookName | |
LuminanceAdjustmentAqua | 0 |
LuminanceAdjustmentBlue | 0 |
LuminanceAdjustmentGreen | 0 |
LuminanceAdjustmentMagenta | 0 |
LuminanceAdjustmentOrange | 0 |
LuminanceAdjustmentPurple | 0 |
LuminanceAdjustmentRed | 0 |
LuminanceAdjustmentYellow | 0 |
LuminanceNoiseReductionContrast | 20 |
LuminanceNoiseReductionDetail | 50 |
LuminanceSmoothing | 30 |
Make | NIKON CORPORATION |
MaxApertureValue | 1.7 |
Megapixels | 2.2 |
MeteringMode | Multi-segment |
Model | NIKON D7200 |
ModifyDate (1) | 2019:11:24 20:29:54+01:00 |
ModifyDate | 2019:11:24 20:29:54 |
OverrideLookVignette | False |
PaintCorrectionActive | true |
PaintCorrectionAmount | 1.000000 |
PaintCorrectionBrightness | 0.000000 |
PaintCorrectionClarity2012 | 0.000000 |
PaintCorrectionContrast2012 | 0.152170 |
PaintCorrectionCorrectionRangeMaskColorAmount | 0.500000 |
PaintCorrectionCorrectionRangeMaskDepthFeather | 0.500000 |
PaintCorrectionCorrectionRangeMaskDepthMax | 1.000000 |
PaintCorrectionCorrectionRangeMaskDepthMin | 0.000000 |
PaintCorrectionCorrectionRangeMaskLumFeather | 0.500000 |
PaintCorrectionCorrectionRangeMaskLumMax | 1.000000 |
PaintCorrectionCorrectionRangeMaskLumMin | 0.000000 |
PaintCorrectionCorrectionRangeMaskType | 0 |
PaintCorrectionCorrectionRangeMaskVersion | +2 |
PaintCorrectionDefringe | 0.000000 |
PaintCorrectionExposure2012 | 0.225000 |
PaintCorrectionHighlights2012 | 0.000000 |
PaintCorrectionHue | 0.000000 |
PaintCorrectionLocalBlacks2012 | -0.043480 |
PaintCorrectionLocalDehaze | 0.043480 |
PaintCorrectionLocalTexture | 0.108700 |
PaintCorrectionLocalWhites2012 | 0.152170 |
PaintCorrectionLuminanceNoise | 0.000000 |
PaintCorrectionMaskCenterWeight | 0.000000 |
PaintCorrectionMaskFlow | 1.000000 |
PaintCorrectionMaskRadius (1) | 0.021326 |
PaintCorrectionMaskRadius (10) | 0.021134 |
PaintCorrectionMaskRadius (11) | 0.021129 |
PaintCorrectionMaskRadius (13) | 0.021132 |
PaintCorrectionMaskRadius (14) | 0.021082 |
PaintCorrectionMaskRadius (15) | 0.021069 |
PaintCorrectionMaskRadius (16) | 0.021301 |
PaintCorrectionMaskRadius (17) | 0.021320 |
PaintCorrectionMaskRadius (18) | 0.021315 |
PaintCorrectionMaskRadius (19) | 0.021072 |
PaintCorrectionMaskRadius (2) | 0.021354 |
PaintCorrectionMaskRadius (20) | 0.021627 |
PaintCorrectionMaskRadius (21) | 0.021460 |
PaintCorrectionMaskRadius (22) | 0.021817 |
PaintCorrectionMaskRadius (23) | 0.021810 |
PaintCorrectionMaskRadius (24) | 0.021822 |
PaintCorrectionMaskRadius (25) | 0.021779 |
PaintCorrectionMaskRadius (26) | 0.021719 |
PaintCorrectionMaskRadius (27) | 0.021636 |
PaintCorrectionMaskRadius (28) | 0.021114 |
PaintCorrectionMaskRadius (3) | 0.021085 |
PaintCorrectionMaskRadius (30) | 0.021091 |
PaintCorrectionMaskRadius (31) | 0.021198 |
PaintCorrectionMaskRadius (32) | 0.021133 |
PaintCorrectionMaskRadius (33) | 0.021316 |
PaintCorrectionMaskRadius (34) | 0.021512 |
PaintCorrectionMaskRadius (35) | 0.021411 |
PaintCorrectionMaskRadius (36) | 0.021478 |
PaintCorrectionMaskRadius (37) | 0.021451 |
PaintCorrectionMaskRadius (38) | 0.021474 |
PaintCorrectionMaskRadius (39) | 0.021504 |
PaintCorrectionMaskRadius (4) | 0.021077 |
PaintCorrectionMaskRadius (40) | 0.021216 |
PaintCorrectionMaskRadius (41) | 0.021057 |
PaintCorrectionMaskRadius (5) | 0.021587 |
PaintCorrectionMaskRadius (6) | 0.021708 |
PaintCorrectionMaskRadius (7) | 0.021753 |
PaintCorrectionMaskRadius (9) | 0.021051 |
PaintCorrectionMaskRadius | 0.021061 |
PaintCorrectionMaskValue | 1.000000 |
PaintCorrectionMaskWhat | Mask/Paint |
PaintCorrectionMoire | 0.000000 |
PaintCorrectionSaturation | 0.000000 |
PaintCorrectionShadows2012 | 0.413040 |
PaintCorrectionSharpness | 0.000000 |
PaintCorrectionTemperature | 0.000000 |
PaintCorrectionTint | 0.000000 |
PaintCorrectionWhat | Correction |
ParametricDarks | 0 |
ParametricHighlights | 0 |
ParametricHighlightSplit | 75 |
ParametricLights | 0 |
ParametricMidtoneSplit | 50 |
ParametricShadows | 0 |
ParametricShadowSplit | 25 |
PerspectiveAspect | 0 |
PerspectiveHorizontal | 0 |
PerspectiveRotate | 0.0 |
PerspectiveScale | 100 |
PerspectiveUpright | 0 |
PerspectiveVertical | 0 |
PerspectiveX | 0.00 |
PerspectiveY | 0.00 |
PostCropVignetteAmount | 0 |
PreservedFileName | DSC_5705.NEF |
ProcessVersion | 11.0 |
ProfileDescription | sRGB IEC61966-2.1 |
RawFileName | DSC_5705.NEF |
RedHue | 0 |
RedSaturation | 0 |
Saturation (1) | +7 |
Saturation | Normal |
SaturationAdjustmentAqua | 0 |
SaturationAdjustmentBlue | 0 |
SaturationAdjustmentGreen | 0 |
SaturationAdjustmentMagenta | 0 |
SaturationAdjustmentOrange | 0 |
SaturationAdjustmentPurple | 0 |
SaturationAdjustmentRed | 0 |
SaturationAdjustmentYellow | 0 |
ScaleFactor35efl | 1.5 |
SceneCaptureType | Standard |
SceneType | Directly photographed |
SensingMethod | One-chip color area |
SensitivityType | Recommended Exposure Index |
SerialNumber | 4452707 |
Shadows2012 | +100 |
ShadowTint | 0 |
SharpenDetail | 25 |
SharpenEdgeMasking | 20 |
SharpenRadius | +1.0 |
Sharpness (1) | 40 |
Sharpness | Normal |
ShutterSpeed | 1/50 |
ShutterSpeedValue | 1/50 |
Software | Adobe Photoshop Lightroom Classic 9.0 (Windows) |
SplitToningBalance | +76 |
SplitToningHighlightHue | 319 |
SplitToningHighlightSaturation | 16 |
SplitToningShadowHue | 13 |
SplitToningShadowSaturation | 13 |
SubjectDistanceRange | Unknown |
Texture | +25 |
Tint | +1 |
ToneCurve | 0, 0, 255, 255 |
ToneCurveBlue | 0, 0, 255, 255 |
ToneCurveGreen | 0, 0, 255, 255 |
ToneCurveName | Linear |
ToneCurveName2012 | Linear |
ToneCurvePV2012 | 0, 0, 255, 255 |
ToneCurvePV2012Blue | 0, 0, 255, 255 |
ToneCurvePV2012Green | 0, 0, 255, 255 |
ToneCurvePV2012Red | 0, 0, 255, 255 |
ToneCurveRed | 0, 0, 255, 255 |
ToneMapStrength | 0 |
Version | 12.0 |
Vibrance | +21 |
VignetteAmount | 0 |
VignetteCorrectionAlreadyApplied | True |
WhiteBalance (1) | Custom |
WhiteBalance | Auto |
Whites2012 | -100 |