Felt | Verdi |
AlreadyApplied | True |
Aperture | 11.0 |
ApertureValue | 11.0 |
Artist | ARILD THINGVOLL |
AutoLateralCA | 1 |
BitsPerSample | 8 |
Blacks2012 | 0 |
BlueHue | 0 |
BlueSaturation | 0 |
BrightnessValue | 7.21 |
By-line | ARILD THINGVOLL |
CameraProfile | Embedded |
CircleOfConfusion | 0.020 mm |
Clarity2012 | 0 |
ColorComponents | 3 |
ColorNoiseReduction | 0 |
ColorSpace | sRGB |
ColorTransform | YCbCr |
Contrast2012 | 0 |
ConvertToGrayscale | False |
CreateDate | 2019:09:22 11:21:47 |
Creator | ARILD THINGVOLL |
CreatorTool | Adobe Photoshop Lightroom Classic 9.0 (Windows) |
CustomRendered | Normal |
DateCreated (1) | 2019:09:22 |
DateCreated | 2019:09:22 11:21:47 |
DateTimeOriginal | 2019:09:22 11:21:47 |
DefringeGreenAmount | 0 |
DefringeGreenHueHi | 60 |
DefringeGreenHueLo | 40 |
DefringePurpleAmount | 0 |
DefringePurpleHueHi | 70 |
DefringePurpleHueLo | 30 |
Dehaze | +19 |
Exposure2012 | +0.12 |
ExposureCompensation | -0.33 |
ExposureMode | Auto |
ExposureProgram | Aperture-priority AE |
ExposureTime | 1/70 |
Flash | No Flash |
FNumber | 11.0 |
FocalLength | 16.0 mm |
FocalLength35efl | 16.0 mm (35 mm equivalent: 24.0 mm) |
FocalLengthIn35mmFormat | 24 mm |
Format | image/jpeg |
FOV | 73.7 deg |
GrainAmount | 0 |
GreenHue | 0 |
GreenSaturation | 0 |
HasCrop | False |
HasSettings | True |
Highlights2012 | 0 |
HueAdjustmentAqua | 0 |
HueAdjustmentBlue | 0 |
HueAdjustmentGreen | 0 |
HueAdjustmentMagenta | 0 |
HueAdjustmentOrange | 0 |
HueAdjustmentPurple | 0 |
HueAdjustmentRed | 0 |
HueAdjustmentYellow | 0 |
HyperfocalDistance | 1.16 m |
ImageHeight | 718 |
ImageSize | 1200x718 |
ImageWidth | 1200 |
IncrementalTemperature | 0 |
IncrementalTint | 0 |
ISO | 200 |
Keywords | 0919, landskap |
LateralChromaticAberrationCorrectionAlreadyApplied | True |
Lens | XF16mmF1.4 R WR |
LensInfo | 16mm f/1.4 |
LensMake | FUJIFILM |
LensManualDistortionAmount | 0 |
LensModel | XF16mmF1.4 R WR |
LensProfileEnable | 0 |
LensProfileSetup | LensDefaults |
LensSerialNumber | 76A00436 |
LightSource | Unknown |
LightValue | 12.0 |
LookName | |
LuminanceAdjustmentAqua | 0 |
LuminanceAdjustmentBlue | 0 |
LuminanceAdjustmentGreen | +71 |
LuminanceAdjustmentMagenta | 0 |
LuminanceAdjustmentOrange | +18 |
LuminanceAdjustmentPurple | 0 |
LuminanceAdjustmentRed | 0 |
LuminanceAdjustmentYellow | -2 |
LuminanceSmoothing | 0 |
Make | FUJIFILM |
MaxApertureValue | 1.4 |
Megapixels | 0.862 |
MeteringMode | Multi-segment |
Model | X-H1 |
ModifyDate (1) | 2019:12:10 21:08:11+01:00 |
ModifyDate | 2019:12:10 21:08:11 |
OverrideLookVignette | False |
ParametricDarks | 0 |
ParametricHighlights | +24 |
ParametricHighlightSplit | 75 |
ParametricLights | 0 |
ParametricMidtoneSplit | 50 |
ParametricShadows | 0 |
ParametricShadowSplit | 25 |
PerspectiveAspect | 0 |
PerspectiveHorizontal | 0 |
PerspectiveRotate | 0.0 |
PerspectiveScale | 100 |
PerspectiveUpright | 1 |
PerspectiveVertical | 0 |
PerspectiveX | 0.00 |
PerspectiveY | 0.00 |
PostCropVignetteAmount | 0 |
PreservedFileName | XH109210.RAF |
ProcessVersion | 11.0 |
ProfileDescription | sRGB IEC61966-2.1 |
Rating | 2 |
RawFileName | |
RedHue | 0 |
RedSaturation | 0 |
Saturation | 0 |
SaturationAdjustmentAqua | 0 |
SaturationAdjustmentBlue | 0 |
SaturationAdjustmentGreen | 0 |
SaturationAdjustmentMagenta | 0 |
SaturationAdjustmentOrange | 0 |
SaturationAdjustmentPurple | 0 |
SaturationAdjustmentRed | 0 |
SaturationAdjustmentYellow | 0 |
ScaleFactor35efl | 1.5 |
SceneCaptureType | Standard |
SceneType | Directly photographed |
SensingMethod | One-chip color area |
SensitivityType | Standard Output Sensitivity |
SerialNumber | 81A55422 |
Shadows2012 | 0 |
ShadowTint | 0 |
SharpenDetail | 25 |
SharpenEdgeMasking | 0 |
SharpenRadius | +1.0 |
Sharpness (1) | 0 |
Sharpness | Normal |
ShutterSpeed | 1/70 |
ShutterSpeedValue | 1/70 |
Software | Adobe Photoshop Lightroom Classic 9.0 (Windows) |
SplitToningBalance | -12 |
SplitToningHighlightHue | 107 |
SplitToningHighlightSaturation | 13 |
SplitToningShadowHue | 47 |
SplitToningShadowSaturation | 25 |
Subject | 0919, landskap |
SubjectDistanceRange | Unknown |
Texture | 0 |
ToneCurve | 0, 0, 255, 255 |
ToneCurveBlue | 0, 0, 255, 255 |
ToneCurveGreen | 0, 0, 255, 255 |
ToneCurveName | Linear |
ToneCurveName2012 | Linear |
ToneCurvePV2012 | 0, 0, 255, 255 |
ToneCurvePV2012Blue | 0, 0, 255, 255 |
ToneCurvePV2012Green | 0, 0, 255, 255 |
ToneCurvePV2012Red | 0, 0, 255, 255 |
ToneCurveRed | 0, 0, 255, 255 |
ToneMapStrength | 0 |
Version | 12.0 |
Vibrance | +5 |
VignetteAmount | 0 |
VignetteCorrectionAlreadyApplied | True |
WhiteBalance (1) | As Shot |
WhiteBalance | Auto |
Whites2012 | 0 |