Felt | Verdi |
# Brightness and Contrast
# ClearSelection
# Contract Selection
# Crop
# FillLight
# Freehand Selection
# Inpaint
# LayerSetVisibility
# Local Tone Mapping
# Magic Wand
# Motion Blur
# PerspectiveCorrection
# PrepareForTool
# SelectInvert
# SelectNone
# Smart Selection Brush
# Vector Selection Update
# White Balance
'Angle': 142
'Antialias': False,
'AntialiasType': App.Constants.AntialiasType.Outside
'AntialiasType': App.Constants.AntialiasType.Outside,
'Art': None
'AutoFit': False
'BackgroundMaterial':
'Block Size': 36
'Brightness': 1,
'BrightnessContrast':
'BrightnessNew': 0,
'Clarity': -19,
'Clarity': 24,
'Color': (17,9,169),
'Command': App.Constants.ShowCommands.Hide,
'Command': App.Constants.ShowCommands.Show,
'Contiguous': True,
'ContractAmount': 6
'Contrast': -4,
'ContrastNew': 0,
'CropAsNewImage': False,
'CropImage': True,
'CropRect': ((89,62), 3850, 2987),
'DesiredTemperature': 6334,
'DesiredTint': 4,
'EnableSegmentation': True,
'Feather': 4,
'FillLight': 0,
'FillLight': 15,
'FillLightClarity':
'FreehandSelectionType': App.Constants.FreehandSelectionType.PointToPoint,
'General':
'Gradient': None,
'Handle1': (0.2,0.2),
'Handle2': (0.766968,0.200551),
'Handle3': (0.8,0.8),
'Handle4': (0.224243,0.794909),
'MatchMode': App.Constants.MatchMode.RGBValue,
'Mode': App.Constants.CropMode.Custom,
'Mode': App.Constants.SelectionOperation.Add,
'Mode': App.Constants.SelectionOperation.Remove,
'OriginalTemperature': 4069,
'OriginalTemperature': 4928,
'OriginalTint': 0,
'OriginalTint': 4,
'Path': (0,-1,[],False),
'Path': (0,1,[],False),
'Path': None,
'Pattern': None,
'Point': (2311.5,1968.5),
'Point': (3461.5,1531.5),
'Point': (585.5,2711.5),
'Point': (665.5,541.5),
'Point': (865.5,1225.5),
'PrintHeight': -1,
'PrintWidth': -1,
'Range': 10,
'RotationAngle': -0,
'SampleMerged': False,
'SelectedArea': False,
'Selection': [((1446,848),),((2242,966),),((2028,1212),),((1886,1212),),((1406,1196),),((1416,872),),(
'Selection': [((1456,1238),),((1458,1198),),((2036,1218),)],
'Selection': [((1458,1196),),((1466,1312),),((1676,1298),),((1676,1258),),((1652,1202),),((1628,1196),
'Selection': [((1532,2528),),((1542,2432),),((1568,2388),),((1566,2312),),((1566,2242),),((1518,2182),
'Selection': [((1702,1212),),((1702,1318),),((1856,1332),),((1856,1292),),((1786,1216),),((1716,1206),
'Selection': [((1872,1262),),((1892,1256),),((1882,1206),),((1836,1206),),((1876,1276),)],
'Selection': [((1896,1218),),((1908,1222),),((1918,1338),),((1862,1302),),((1848,1288),),((1868,1266),
'Selection': [((3846,28),),((3446,32),),((3478,132),),((3832,162),),((3938,58),),((3832,16),)],
'Selection': [((3852,236),),((3342,182),),((3348,18),),((3858,28),),((3846,258),)],
'Selection': [((4048,-10),),((822,-704),),((-578,306),),((-578,292),)],
'Sharpen': 0
'Size': 160,
'Size': 555,
'SmartSelect': False
'Smoothing': 6
'StepList': [
'Strength': 13,
'Strength': 36.29,
'Strength': 72.55,
'Texture': None,
'Tolerance': 186,
'Tolerance': 29,
'Tool': u'SmartSelection'
'TraceDistance': 3,
'Type': App.Constants.ObjectSelection.Select
'Units': App.Constants.CropUnits.Inches,
'UseLinearBC': True
'WorkingMode': 0
'WorkingMode': 1
(1448,848),)],
(App.Constants.PathEntryInterpretation.Absolute,App.Constants.PointRelativeBasis.Canvas,(0.19,0.157851)
(App.Constants.PathEntryInterpretation.Absolute,App.Constants.PointRelativeBasis.Canvas,(0.23,0.893371)
(App.Constants.PathEntryInterpretation.Absolute,App.Constants.PointRelativeBasis.Canvas,(0.28013,0.858889)
(App.Constants.PathEntryInterpretation.Absolute,App.Constants.PointRelativeBasis.Canvas,(0.295714,0.84081)
(App.Constants.PathEntryInterpretation.Absolute,App.Constants.PointRelativeBasis.Canvas,(0.313896,0.74841)
(App.Constants.PathEntryInterpretation.Absolute,App.Constants.PointRelativeBasis.Canvas,(0.783247,0.57767)
(App.Constants.PathEntryInterpretation.Absolute,App.Constants.PointRelativeBasis.Canvas,(0.79,0.5462)
(App.Constants.PathEntryInterpretation.Absolute,App.Constants.PointRelativeBasis.Canvas,(0.84974,0.535152)
(App.Constants.PathEntryInterpretation.Absolute,App.Constants.PointRelativeBasis.Canvas,(0.873117,0.5385)
(App.Constants.PathEntryInterpretation.Absolute,App.Constants.PointRelativeBasis.Canvas,(0.88974,0.492635)
(App.Constants.PathEntryInterpretation.Absolute,App.Constants.PointRelativeBasis.Canvas,(0.88974,0.547539)
(App.Constants.PathEntryInterpretation.Absolute,App.Constants.PointRelativeBasis.Canvas,(0.897532,0.50067)
(App.Constants.PathEntryInterpretation.Absolute,App.Constants.PointRelativeBasis.Canvas,(0.934675,0.57767)
(App.Constants.PathEntryInterpretation.Absolute,App.Constants.PointRelativeBasis.Canvas,(0.947662,0.63224)
(App.Constants.PathEntryInterpretation.Absolute,App.Constants.PointRelativeBasis.Canvas,(0.95026,0.645631)
),((1472,1202),)],
),((1538,2122),),((1542,2056),),((1606,2106),),((1636,2506),),((1546,2552),)],
),((1898,1212),)],
)],
,1233122015),
,1233122156),
,1233122187),
,1233122203),
,1233122250),
,1233122343),
,1233122375),
,1233122390),
,1233122406),
,1233122421),
,1233122437),
,1233122453),
,1233122953),
,1233123531),
,1233124015),
,1233124031),
,1233124171),
,1233124437),
,1233124500),
,1233124546),
,1233124562),
,1233124578),
,1233124609),
,1233124656),
,1233124796)
,1233132234),
,1233132796),
,1233132828),
,1233132859),
,1233132890),
,1233132906),
,1233132937),
,1233132953),
,1233132984),
,1233133015),
,1233133031),
,1233133062),
,1233133078),
,1233133109),
,1233133125),
,1233133140),
,1233133171),
,1233133593),
,1233134125)
,1233144625),
,1233145250),
,1233145296),
,1233145406),
,1233145484),
,1233145515),
,1233145546),
,1233145687),
,1233145750),
,1233145765),
,1233145781),
,1233145796),
,1233145812),
,1233146218),
,1233146546),
,1233146968),
,1233147718),
,1233148375),
,1233150125),
,1233150234),
,1233150250),
,1233150328),
,1233150343),
,1233150359),
,1233150375),
,1233150390),
,1233150406),
,1233150437),
,1233150500),
,1233150515),
,1233150546),
,1233150578),
,1233150640),
,1233150671),
,1233150703),
,1233150718),
,1233150734),
,1233150921),
,1233150984),
,1233151000),
,1233151031),
,1233151046),
,1233151078),
,1233151109),
,1233151125),
,1233151140),
,1233151156),
,1233151187),
,1233151265),
,1233151296),
,1233151390),
,1233151406),
,1233151421),
,1233151437),
,1233151453),
,1233151515),
,1233151531),
,1233151546),
,1233151562),
,1233151578),
,1233151609),
,1233151656),
,1233151734),
,1233151875)
,1233159609),
,1233160218),
,1233160265),
,1233160296),
,1233160343),
,1233160390),
,1233160406),
,1233160437),
,1233160453),
,1233160484),
,1233160500),
,1233160531),
,1233160562),
,1233160609),
,1233160625),
,1233160656),
,1233160671),
,1233160703),
,1233160718),
,1233160750),
,1233160765),
,1233160796),
,1233160812),
,1233160843),
,1233160859),
,1233160890),
,1233160906),
,1233160937),
,1233160953),
,1233160984),
,1233161031),
,1233161046),
,1233161062),
,1233161328),
,1233161515)
26.12.2019 22.34.28 # File 'fossefall.pspimage' saved.
26.12.2019 22.37.42 # File 'fossefall_II.pspimage' saved.
]
AlreadyApplied | True |
Aperture | 11.0 |
ApertureValue | 11.0 |
AutoLateralCA | 0 |
AutoWhiteVersion | 134348800 |
BitsPerSample | 8 |
Blacks2012 | 0 |
BlueHue | 0 |
BlueSaturation | 0 |
CameraProfile | Embedded |
Caption-Abstract | OLYMPUS DIGITAL CAMERA |
CFAPattern | [Blue,Green][Green,Red] |
CFAPatternColumns | 2 |
CFAPatternRows | 2 |
CFAPatternValues | 2, 1, 1, 0 |
CircGradBasedCorrActive | true |
CircGradBasedCorrAmount | 1.000000 |
CircGradBasedCorrBrightness | 0.000000 |
CircGradBasedCorrClarity2012 (1) | 0.380950 |
CircGradBasedCorrClarity2012 | 0.000000 |
CircGradBasedCorrContrast2012 (1) | -0.190480 |
CircGradBasedCorrContrast2012 | 0.000000 |
CircGradBasedCorrDefringe | 0.000000 |
CircGradBasedCorrExposure2012 (1) | -0.190500 |
CircGradBasedCorrExposure2012 | -0.214250 |
CircGradBasedCorrHighlights2012 | 0.000000 |
CircGradBasedCorrHue | 240.000000 |
CircGradBasedCorrLocalBlacks2012 | 0.000000 |
CircGradBasedCorrLocalDehaze | 0.000000 |
CircGradBasedCorrLocalWhites2012 | 0.000000 |
CircGradBasedCorrLuminanceNoise | 0.000000 |
CircGradBasedCorrMaskAngle | 0.000000 |
CircGradBasedCorrMaskBottom (1) | 0.620101 |
CircGradBasedCorrMaskBottom | 1.064320 |
CircGradBasedCorrMaskFeather | +50 |
CircGradBasedCorrMaskFlipped | false |
CircGradBasedCorrMaskLeft (1) | -0.357254 |
CircGradBasedCorrMaskLeft | 0.039001 |
CircGradBasedCorrMaskMidpoint | +50 |
CircGradBasedCorrMaskRight (1) | 0.650546 |
CircGradBasedCorrMaskRight | 0.987520 |
CircGradBasedCorrMaskRoundness | 0 |
CircGradBasedCorrMaskTop (1) | -0.220101 |
CircGradBasedCorrMaskTop | -0.013066 |
CircGradBasedCorrMaskValue | 1.000000 |
CircGradBasedCorrMaskVersion | +2 |
CircGradBasedCorrMaskWhat | Mask/CircularGradient |
CircGradBasedCorrMoire | 0.000000 |
CircGradBasedCorrSaturation | 0.000000 |
CircGradBasedCorrShadows2012 | 0.000000 |
CircGradBasedCorrSharpness | 0.000000 |
CircGradBasedCorrTemperature | 0.000000 |
CircGradBasedCorrTint | 0.000000 |
CircGradBasedCorrWhat | Correction |
Clarity2012 | 0 |
ColorComponents | 3 |
ColorNoiseReduction | 0 |
ColorSpace | sRGB |
ColorTransform | YCbCr |
Contrast | Normal |
Contrast2012 | +7 |
ConvertToGrayscale | False |
CreateDate (1) | 2010:05:17 16:17:58+01:00 |
CreateDate | 2010:05:17 16:17:58 |
CreatorTool | Adobe Photoshop Lightroom 6.12 (Windows) |
CustomRendered | Normal |
DateCreated (1) | 2010:05:17 |
DateCreated | 2010:05:17 16:17:58+01:00 |
DateTimeOriginal | 2010:05:17 16:17:58 |
DefringeGreenAmount | 0 |
DefringeGreenHueHi | 60 |
DefringeGreenHueLo | 40 |
DefringePurpleAmount | 0 |
DefringePurpleHueHi | 70 |
DefringePurpleHueLo | 30 |
Dehaze | 0 |
Description | OLYMPUS DIGITAL CAMERA |
DigitalZoomRatio | 1 |
Exposure2012 | -0.24 |
ExposureCompensation | 0 |
ExposureMode | Auto bracket |
ExposureProgram | Aperture-priority AE |
ExposureTime | 1/50 |
Flash | On, Did not fire |
FNumber | 11.0 |
FocalLength | 8.0 mm |
FocalLength35efl | 8.0 mm |
Format | image/jpeg |
GainControl | Low gain up |
GrainAmount | 0 |
GreenHue | 0 |
GreenSaturation | 0 |
HasCrop | False |
HasExtendedXMP | 5A387C0009B760CB215CEC15C5FA3A4D |
HasSettings | True |
Highlights2012 | 0 |
HueAdjustmentAqua | 0 |
HueAdjustmentBlue | 0 |
HueAdjustmentGreen | 0 |
HueAdjustmentMagenta | 0 |
HueAdjustmentOrange | 0 |
HueAdjustmentPurple | 0 |
HueAdjustmentRed | 0 |
HueAdjustmentYellow | 0 |
ImageDescription | OLYMPUS DIGITAL CAMERA |
ImageHeight | 1303 |
ImageSize | 1680x1303 |
ImageWidth | 1680 |
IncrementalTemperature | 0 |
IncrementalTint | 0 |
ISO | 200 |
LensManualDistortionAmount | 0 |
LensProfileEnable | 0 |
LensProfileSetup | LensDefaults |
LightSource | Unknown |
LightValue | 11.6 |
LuminanceAdjustmentAqua | 0 |
LuminanceAdjustmentBlue | 0 |
LuminanceAdjustmentGreen | 0 |
LuminanceAdjustmentMagenta | 0 |
LuminanceAdjustmentOrange | 0 |
LuminanceAdjustmentPurple | 0 |
LuminanceAdjustmentRed | 0 |
LuminanceAdjustmentYellow | 0 |
LuminanceSmoothing | 0 |
Make | OLYMPUS IMAGING CORP. |
MaxApertureValue | 4.0 |
Megapixels | 2.2 |
MeteringMode | Multi-segment |
Model | E-30 |
ModifyDate (1) | 2019:12:26 23:03:43+01:00 |
ModifyDate | 2019:12:26 23:03:43 |
PaintCorrectionActive | true |
PaintCorrectionAmount | 1.000000 |
PaintCorrectionBrightness | 0.000000 |
PaintCorrectionClarity2012 | 0.380950 |
PaintCorrectionContrast2012 | -0.190480 |
PaintCorrectionDefringe | 0.000000 |
PaintCorrectionExposure2012 | -0.166750 |
PaintCorrectionHighlights2012 | 0.000000 |
PaintCorrectionHue | 240.000000 |
PaintCorrectionLocalBlacks2012 | 0.000000 |
PaintCorrectionLocalDehaze | 0.000000 |
PaintCorrectionLocalWhites2012 | 0.000000 |
PaintCorrectionLuminanceNoise | 0.000000 |
PaintCorrectionMaskCenterWeight (2) | 0.758996 |
PaintCorrectionMaskCenterWeight | 0.821224 |
PaintCorrectionMaskFlow (2) | 0.839000 |
PaintCorrectionMaskFlow | 0.919000 |
PaintCorrectionMaskRadius (4) | 0.007454 |
PaintCorrectionMaskRadius | 0.006276 |
PaintCorrectionMaskValue (5) | 0.000000 |
PaintCorrectionMaskValue | 0.721000 |
PaintCorrectionMaskWhat | Mask/Paint |
PaintCorrectionMoire | 0.000000 |
PaintCorrectionSaturation | 0.000000 |
PaintCorrectionShadows2012 | 0.000000 |
PaintCorrectionSharpness | 0.000000 |
PaintCorrectionTemperature | 0.000000 |
PaintCorrectionTint | 0.000000 |
PaintCorrectionWhat | Correction |
ParametricDarks | 0 |
ParametricHighlights | 0 |
ParametricHighlightSplit | 75 |
ParametricLights | 0 |
ParametricMidtoneSplit | 50 |
ParametricShadows | 0 |
ParametricShadowSplit | 25 |
PerspectiveAspect | 0 |
PerspectiveHorizontal | 0 |
PerspectiveRotate | 0.0 |
PerspectiveScale | 100 |
PerspectiveUpright | 0 |
PerspectiveVertical | 0 |
PerspectiveX | 0.00 |
PerspectiveY | 0.00 |
PostCropVignetteAmount | 0 |
ProcessVersion | 6.7 |
ProfileDescription | sRGB IEC61966-2.1 |
RedHue | 0 |
RedSaturation | 0 |
Saturation (1) | 0 |
Saturation | Normal |
SaturationAdjustmentAqua | 0 |
SaturationAdjustmentBlue | 0 |
SaturationAdjustmentGreen | 0 |
SaturationAdjustmentMagenta | 0 |
SaturationAdjustmentOrange | 0 |
SaturationAdjustmentPurple | 0 |
SaturationAdjustmentRed | 0 |
SaturationAdjustmentYellow | 0 |
SceneCaptureType | Standard |
Shadows2012 | 0 |
ShadowTint | 0 |
SharpenDetail | 25 |
SharpenEdgeMasking | 0 |
SharpenRadius | +1.0 |
Sharpness (1) | 0 |
Sharpness | Normal |
ShutterSpeed | 1/50 |
ShutterSpeedValue | 1/50 |
Software | Adobe Photoshop Lightroom 6.12 (Windows) |
SplitToningBalance | 0 |
SplitToningHighlightHue | 0 |
SplitToningHighlightSaturation | 0 |
SplitToningShadowHue | 0 |
SplitToningShadowSaturation | 0 |
ToneCurve | 0, 0, 255, 255 |
ToneCurveBlue | 0, 0, 255, 255 |
ToneCurveGreen | 0, 0, 255, 255 |
ToneCurveName | Linear |
ToneCurveName2012 | Linear |
ToneCurvePV2012 | 0, 0, 255, 255 |
ToneCurvePV2012Blue | 0, 0, 255, 255 |
ToneCurvePV2012Green | 0, 0, 255, 255 |
ToneCurvePV2012Red | 0, 0, 255, 255 |
ToneCurveRed | 0, 0, 255, 255 |
ToneMapStrength | 0 |
Version | 9.12 |
Vibrance | 0 |
VignetteAmount | 0 |
WhiteBalance (1) | As Shot |
WhiteBalance | Auto |
Whites2012 | 0 |