Felt | Verdi |
AlreadyApplied | True |
Aperture | 8.0 |
ApertureValue | 8.0 |
Artist | ARILD THINGVOLL |
AutoLateralCA | 0 |
BitsPerSample | 8 |
Blacks2012 | 0 |
BlueHue | 0 |
BlueSaturation | 0 |
BrightnessValue | 1.65 |
By-line | ARILD THINGVOLL |
CameraProfile | Embedded |
CircGradBasedCorrActive | true |
CircGradBasedCorrAmount | 1.000000 |
CircGradBasedCorrBrightness | 0.000000 |
CircGradBasedCorrClarity2012 (4) | 0.000000 |
CircGradBasedCorrClarity2012 | 0.152170 |
CircGradBasedCorrContrast2012 (9) | 0.173910 |
CircGradBasedCorrContrast2012 | 0.000000 |
CircGradBasedCorrCorrectionRangeMaskColorAmount | 0.500000 |
CircGradBasedCorrCorrectionRangeMaskDepthFeather | 0.500000 |
CircGradBasedCorrCorrectionRangeMaskDepthMax | 1.000000 |
CircGradBasedCorrCorrectionRangeMaskDepthMin | 0.000000 |
CircGradBasedCorrCorrectionRangeMaskLumFeather | 0.500000 |
CircGradBasedCorrCorrectionRangeMaskLumMax | 1.000000 |
CircGradBasedCorrCorrectionRangeMaskLumMin | 0.000000 |
CircGradBasedCorrCorrectionRangeMaskType | 0 |
CircGradBasedCorrCorrectionRangeMaskVersion | +2 |
CircGradBasedCorrDefringe | 0.000000 |
CircGradBasedCorrExposure2012 (1) | 0.195750 |
CircGradBasedCorrExposure2012 (2) | 0.217500 |
CircGradBasedCorrExposure2012 (4) | 0.347750 |
CircGradBasedCorrExposure2012 (6) | 0.174000 |
CircGradBasedCorrExposure2012 (7) | 0.087000 |
CircGradBasedCorrExposure2012 | 0.130500 |
CircGradBasedCorrHighlights2012 (1) | 0.130430 |
CircGradBasedCorrHighlights2012 (10) | 0.239130 |
CircGradBasedCorrHighlights2012 (2) | 0.065220 |
CircGradBasedCorrHighlights2012 | 0.000000 |
CircGradBasedCorrHue | 101.000000 |
CircGradBasedCorrLocalBlacks2012 | 0.000000 |
CircGradBasedCorrLocalDehaze | 0.000000 |
CircGradBasedCorrLocalTexture (5) | 0.000000 |
CircGradBasedCorrLocalTexture | 0.152170 |
CircGradBasedCorrLocalWhites2012 | 0.000000 |
CircGradBasedCorrLuminanceNoise | 0.000000 |
CircGradBasedCorrMaskAngle (4) | -24.956300 |
CircGradBasedCorrMaskAngle | 0.000000 |
CircGradBasedCorrMaskBottom (1) | 0.340747 |
CircGradBasedCorrMaskBottom (10) | 0.601275 |
CircGradBasedCorrMaskBottom (2) | 0.616548 |
CircGradBasedCorrMaskBottom (3) | 0.812911 |
CircGradBasedCorrMaskBottom (4) | 0.838689 |
CircGradBasedCorrMaskBottom (5) | 0.989324 |
CircGradBasedCorrMaskBottom (6) | 1.007120 |
CircGradBasedCorrMaskBottom (7) | 0.479537 |
CircGradBasedCorrMaskBottom (8) | 0.458171 |
CircGradBasedCorrMaskBottom (9) | 0.578776 |
CircGradBasedCorrMaskBottom | 0.443475 |
CircGradBasedCorrMaskFeather | +100 |
CircGradBasedCorrMaskFlipped | true |
CircGradBasedCorrMaskLeft (1) | 0.813167 |
CircGradBasedCorrMaskLeft (10) | 0.600785 |
CircGradBasedCorrMaskLeft (2) | 0.815539 |
CircGradBasedCorrMaskLeft (3) | 0.090395 |
CircGradBasedCorrMaskLeft (4) | 0.030603 |
CircGradBasedCorrMaskLeft (5) | 0.651839 |
CircGradBasedCorrMaskLeft (6) | 0.352907 |
CircGradBasedCorrMaskLeft (7) | 0.526690 |
CircGradBasedCorrMaskLeft (8) | 0.351135 |
CircGradBasedCorrMaskLeft (9) | 0.147574 |
CircGradBasedCorrMaskLeft | 0.510987 |
CircGradBasedCorrMaskMidpoint | +50 |
CircGradBasedCorrMaskRight (1) | 0.906880 |
CircGradBasedCorrMaskRight (10) | 0.737616 |
CircGradBasedCorrMaskRight (2) | 0.909252 |
CircGradBasedCorrMaskRight (3) | 0.227226 |
CircGradBasedCorrMaskRight (4) | 0.529302 |
CircGradBasedCorrMaskRight (5) | 0.980427 |
CircGradBasedCorrMaskRight (6) | 0.681495 |
CircGradBasedCorrMaskRight (7) | 0.613286 |
CircGradBasedCorrMaskRight (8) | 0.437731 |
CircGradBasedCorrMaskRight (9) | 0.284405 |
CircGradBasedCorrMaskRight | 0.570978 |
CircGradBasedCorrMaskRoundness | 0 |
CircGradBasedCorrMaskTop (1) | 0.193060 |
CircGradBasedCorrMaskTop (10) | 0.154656 |
CircGradBasedCorrMaskTop (2) | 0.468861 |
CircGradBasedCorrMaskTop (3) | 0.366292 |
CircGradBasedCorrMaskTop (4) | 0.913982 |
CircGradBasedCorrMaskTop (5) | 0.861210 |
CircGradBasedCorrMaskTop (6) | 0.879004 |
CircGradBasedCorrMaskTop (7) | 0.385231 |
CircGradBasedCorrMaskTop (8) | 0.240117 |
CircGradBasedCorrMaskTop (9) | 0.132157 |
CircGradBasedCorrMaskTop | 0.301445 |
CircGradBasedCorrMaskValue | 1.000000 |
CircGradBasedCorrMaskVersion | +2 |
CircGradBasedCorrMaskWhat | Mask/CircularGradient |
CircGradBasedCorrMoire | 0.000000 |
CircGradBasedCorrSaturation (1) | 0.217390 |
CircGradBasedCorrSaturation (15) | 0.108700 |
CircGradBasedCorrSaturation (17) | 0.086960 |
CircGradBasedCorrSaturation (21) | 0.673910 |
CircGradBasedCorrSaturation | 0.000000 |
CircGradBasedCorrShadows2012 | 0.000000 |
CircGradBasedCorrSharpness | 0.000000 |
CircGradBasedCorrTemperature (2) | 0.304350 |
CircGradBasedCorrTemperature (4) | 0.239130 |
CircGradBasedCorrTemperature (5) | 0.000000 |
CircGradBasedCorrTemperature (8) | 0.326090 |
CircGradBasedCorrTemperature (9) | 0.369570 |
CircGradBasedCorrTemperature | 0.456520 |
CircGradBasedCorrTint (9) | 0.065220 |
CircGradBasedCorrTint | 0.000000 |
CircGradBasedCorrWhat | Correction |
CircleOfConfusion | 0.020 mm |
Clarity2012 | +14 |
ColorComponents | 3 |
ColorNoiseReduction | 0 |
ColorSpace | sRGB |
ColorTransform | YCbCr |
Contrast2012 | 0 |
ConvertToGrayscale | False |
CreateDate | 2019:09:21 17:06:37 |
Creator | ARILD THINGVOLL |
CreatorTool | Adobe Photoshop Lightroom Classic 9.1 (Windows) |
CropAngle | 0 |
CropBottom | 0.941274 |
CropConstrainToWarp | 0 |
CropLeft | 0.100426 |
CropRight | 0.994662 |
CropTop | 0.18684 |
DateCreated (1) | 2019:09:21 |
DateCreated | 2019:09:21 17:06:37 |
DateTimeOriginal | 2019:09:21 17:06:37 |
DefringeGreenAmount | 0 |
DefringeGreenHueHi | 60 |
DefringeGreenHueLo | 40 |
DefringePurpleAmount | 0 |
DefringePurpleHueHi | 70 |
DefringePurpleHueLo | 30 |
Dehaze | 0 |
Exposure2012 | 0.00 |
ExposureCompensation | -3.33 |
ExposureMode | Auto |
ExposureProgram | Aperture-priority AE |
ExposureTime | 1/240 |
Flash | No Flash |
FNumber | 8.0 |
FocalLength | 16.0 mm |
FocalLength35efl | 16.0 mm (35 mm equivalent: 24.0 mm) |
FocalLengthIn35mmFormat | 24 mm |
Format | image/jpeg |
FOV | 73.7 deg |
GrainAmount | 0 |
GreenHue | 0 |
GreenSaturation | 0 |
HasCrop | True |
HasSettings | True |
Highlights2012 | 0 |
HueAdjustmentAqua | 0 |
HueAdjustmentBlue | 0 |
HueAdjustmentGreen | 0 |
HueAdjustmentMagenta | 0 |
HueAdjustmentOrange | 0 |
HueAdjustmentPurple | 0 |
HueAdjustmentRed | 0 |
HueAdjustmentYellow | 0 |
HyperfocalDistance | 1.60 m |
ImageHeight | 675 |
ImageSize | 1200x675 |
ImageWidth | 1200 |
IncrementalTemperature | 0 |
IncrementalTint | 0 |
ISO | 4000 |
Keywords | 0919, landskap, skog |
LateralChromaticAberrationCorrectionAlreadyApplied | True |
Lens | XF16mmF1.4 R WR |
LensInfo | 16mm f/1.4 |
LensManualDistortionAmount | 0 |
LensModel | XF16mmF1.4 R WR |
LensProfileEnable | 0 |
LensProfileSetup | LensDefaults |
LensSerialNumber | 76A00436 |
LightSource | Unknown |
LightValue | 8.6 |
LookName | |
LuminanceAdjustmentAqua | 0 |
LuminanceAdjustmentBlue | 0 |
LuminanceAdjustmentGreen | 0 |
LuminanceAdjustmentMagenta | 0 |
LuminanceAdjustmentOrange | 0 |
LuminanceAdjustmentPurple | 0 |
LuminanceAdjustmentRed | 0 |
LuminanceAdjustmentYellow | 0 |
LuminanceSmoothing | 0 |
Make | FUJIFILM |
MaxApertureValue | 1.4 |
Megapixels | 0.810 |
MeteringMode | Multi-segment |
Model | X-H1 |
ModifyDate (1) | 2020:01:18 21:00:23+01:00 |
ModifyDate | 2020:01:18 21:00:23 |
OverrideLookVignette | False |
ParametricDarks | 0 |
ParametricHighlights | 0 |
ParametricHighlightSplit | 75 |
ParametricLights | 0 |
ParametricMidtoneSplit | 50 |
ParametricShadows | 0 |
ParametricShadowSplit | 25 |
PerspectiveAspect | 0 |
PerspectiveHorizontal | 0 |
PerspectiveRotate | 0.0 |
PerspectiveScale | 100 |
PerspectiveUpright | 0 |
PerspectiveVertical | 0 |
PerspectiveX | 0.00 |
PerspectiveY | 0.00 |
PostCropVignetteAmount | 0 |
PreservedFileName | XH109177.RAF |
ProcessVersion | 11.0 |
ProfileDescription | sRGB IEC61966-2.1 |
Rating | 3 |
RawFileName | |
RedHue | 0 |
RedSaturation | 0 |
Saturation | 0 |
SaturationAdjustmentAqua | 0 |
SaturationAdjustmentBlue | 0 |
SaturationAdjustmentGreen | 0 |
SaturationAdjustmentMagenta | 0 |
SaturationAdjustmentOrange | 0 |
SaturationAdjustmentPurple | 0 |
SaturationAdjustmentRed | 0 |
SaturationAdjustmentYellow | 0 |
ScaleFactor35efl | 1.5 |
SceneCaptureType | Standard |
SceneType | Directly photographed |
SensingMethod | One-chip color area |
SerialNumber | 81A55422 |
Shadows2012 | 0 |
ShadowTint | 0 |
SharpenDetail | 25 |
SharpenEdgeMasking | 0 |
SharpenRadius | +1.0 |
Sharpness (1) | 0 |
Sharpness | Normal |
ShutterSpeed | 1/240 |
ShutterSpeedValue | 1/240 |
Software | Adobe Photoshop Lightroom Classic 9.1 (Windows) |
SplitToningBalance | 0 |
SplitToningHighlightHue | 0 |
SplitToningHighlightSaturation | 0 |
SplitToningShadowHue | 0 |
SplitToningShadowSaturation | 0 |
Subject | 0919, landskap, skog |
SubjectDistanceRange | Unknown |
Texture | 0 |
ToneCurve | 0, 0, 255, 255 |
ToneCurveBlue | 0, 0, 255, 255 |
ToneCurveGreen | 0, 0, 255, 255 |
ToneCurveName | Linear |
ToneCurveName2012 | Linear |
ToneCurvePV2012 | 0, 0, 255, 255 |
ToneCurvePV2012Blue | 0, 0, 255, 255 |
ToneCurvePV2012Green | 0, 0, 255, 255 |
ToneCurvePV2012Red | 0, 0, 255, 255 |
ToneCurveRed | 0, 0, 255, 255 |
ToneMapStrength | 0 |
Version | 12.1 |
Vibrance | +14 |
VignetteAmount | 0 |
VignetteCorrectionAlreadyApplied | True |
WhiteBalance (1) | Custom |
WhiteBalance | Auto |
Whites2012 | 0 |