Felt | Verdi |
2019-10-22T11:53:39+02:00 File _20191017-6X6A5505543E4DDD76FFED759B3AEC0E1D00218F.psb saved
2019-10-22T11:56:56+02:00 File 20191017-6X6A5505-Edit.psd saved
2019-10-22T11:56:56+02:00 File 20191017-6X6A5505.CR2 closed
2019-10-22T12:42:39+02:00 File 20191017-6X6A5505-Edit.psd opened
2019-10-22T12:52:40+02:00 File _20191017-6X6A5505-Edit5E0EC1D794442021C15B909A7DF455A7.psb saved
2019-10-22T13:02:40+02:00 File _20191017-6X6A5505-Edit5E0EC1D794442021C15B909A7DF455A7.psb saved
2019-10-22T13:10:40+02:00 File 20191017-6X6A5505-Edit.psd saved
2019-10-22T13:13:11+02:00 File 20191017-6X6A5505-Edit.psb saved
2019-10-24T16:16:11+02:00 File 20191017-6X6A5505-Edit.psb opened
2019-10-24T16:26:11+02:00 File _20191017-6X6A5505-EditADC5E76456996416B772D4EEE85A4F0F.psb saved
2019-10-24T16:36:12+02:00 File _20191017-6X6A5505-EditADC5E76456996416B772D4EEE85A4F0F.psb saved
2019-10-24T16:46:12+02:00 File _20191017-6X6A5505-EditADC5E76456996416B772D4EEE85A4F0F.psb saved
2019-10-24T16:47:38+02:00 File 20191017-6X6A5505-Edit.psb saved
2019-10-24T16:56:12+02:00 File _20191017-6X6A5505-EditADC5E76456996416B772D4EEE85A4F0F.psb saved
2019-10-24T20:02:30+02:00 File _20191017-6X6A5505-EditADC5E76456996416B772D4EEE85A4F0F.psb saved
2019-10-24T20:32:30+02:00 File _20191017-6X6A5505-EditADC5E76456996416B772D4EEE85A4F0F.psb saved
2019-10-24T20:42:30+02:00 File _20191017-6X6A5505-EditADC5E76456996416B772D4EEE85A4F0F.psb saved
2019-10-24T20:43:11+02:00 File båt.jpg saved
2019-10-24T20:43:59+02:00 File båt.psb saved
2020-01-24T11:13:58+01:00 File båt.psb opened
2020-01-24T11:14:20+01:00 File båt.jpg saved
AlreadyApplied | True |
Aperture | 16.0 |
ApertureValue | 16.0 |
ApproximateFocusDistance | 4294967295 |
Artist | OYVIND LUDVIGSEN |
AutoLateralCA | 1 |
BitsPerSample | 8 |
Blacks2012 | +17 |
BlueHue | 0 |
BlueSaturation | 0 |
By-line | OYVIND LUDVIGSEN |
CameraProfile | Adobe Standard |
CircleOfConfusion | 0.048 mm |
Clarity2012 | +10 |
ColorComponents | 3 |
ColorMode | RGB |
ColorNoiseReduction | 25 |
ColorNoiseReductionDetail | 50 |
ColorNoiseReductionSmoothness | 50 |
ColorSpace | Uncalibrated |
ColorTemperature | 5500 |
ColorTransform | YCbCr |
Contrast2012 | +6 |
ConvertToGrayscale | False |
CreateDate | 2019:10:17 09:17:24 |
Creator | OYVIND LUDVIGSEN |
CreatorTool | Adobe Photoshop CC 2019 (Macintosh) |
CropAngle | 0 |
CropBottom | 0.952768 |
CropConstrainToWarp | 0 |
CropLeft | 0.055506 |
CropRight | 0.944494 |
CropTop | 0 |
CustomRendered | Normal |
DateCreated (1) | 2019:10:17 |
DateCreated | 2019:10:17 09:17:24.075+01:00 |
DateTimeOriginal | 2019:10:17 09:17:24 |
DefringeGreenAmount | 0 |
DefringeGreenHueHi | 60 |
DefringeGreenHueLo | 40 |
DefringePurpleAmount | 0 |
DefringePurpleHueHi | 70 |
DefringePurpleHueLo | 30 |
Dehaze | 0 |
DistortionCorrectionAlreadyApplied | True |
DOF | inf (6.44 m - inf) |
ExifImageHeight | 9037 |
ExifImageWidth | 9037 |
Exposure2012 | +1.36 |
ExposureCompensation | 0 |
ExposureMode | Auto |
ExposureProgram | Bulb |
ExposureTime | 101 |
Firmware | 1.1.2 |
Flash | Off, Did not fire |
FlashCompensation | 0 |
FNumber | 16.0 |
FocalLength | 70.0 mm |
FocalLength35efl | 70.0 mm (35 mm equivalent: 44.2 mm) |
Format | image/jpeg |
FOV | 44.3 deg |
GrainAmount | 0 |
GreenHue | 0 |
GreenSaturation | 0 |
HasCrop | True |
HasSettings | True |
Highlights2012 | -82 |
HueAdjustmentAqua | 0 |
HueAdjustmentBlue | 0 |
HueAdjustmentGreen | 0 |
HueAdjustmentMagenta | 0 |
HueAdjustmentOrange | 0 |
HueAdjustmentPurple | 0 |
HueAdjustmentRed | 0 |
HueAdjustmentYellow | 0 |
HyperfocalDistance | 6.44 m |
ICCProfileName | Adobe RGB (1998) |
ImageHeight | 9037 |
ImageNumber | 0 |
ImageSize | 9037x9037 |
ImageWidth | 9037 |
ISO | 100 |
Label | |
LateralChromaticAberrationCorrectionAlreadyApplied | True |
Lens | EF24-70mm f/2.8L II USM |
LensID (1) | 495 |
LensID | Canon EF 24-70mm f/2.8L II USM |
LensInfo | 24-70mm f/? |
LensManualDistortionAmount | 0 |
LensModel | EF24-70mm f/2.8L II USM |
LensProfileChromaticAberrationScale | 100 |
LensProfileDistortionScale | 100 |
LensProfileEnable | 1 |
LensProfileFilename | Canon EOS 5D Mark II (Canon EF 24-70mm f2.8 L II USM) - RAW.lcp |
LensProfileName | Adobe (Canon EF 24-70mm f/2.8 L II USM) |
LensProfileSetup | LensDefaults |
LensProfileVignettingScale | 100 |
LensSerialNumber | 5465001707 |
LightValue | 1.3 |
LookAmount | 1.000000 |
LookGroup | Profiles |
LookName | Adobe Vivid |
LookParametersCameraProfile | Adobe Standard |
LookParametersClarity2012 | +10 |
LookParametersConvertToGrayscale | False |
LookParametersLookTable | 2FE663AB0D3CE5DA7B9F657BBCD66DFE |
LookParametersProcessVersion | 11.0 |
LookParametersToneCurvePV2012 | 0, 0, 32, 22, 64, 56, 128, 128, 224, 232, 240, 246, 255, 255 |
LookParametersVersion | 11.4.1 |
LookSupportsAmount | false |
LookSupportsMonochrome | false |
LookSupportsOutputReferred | false |
LuminanceAdjustmentAqua | 0 |
LuminanceAdjustmentBlue | 0 |
LuminanceAdjustmentGreen | 0 |
LuminanceAdjustmentMagenta | 0 |
LuminanceAdjustmentOrange | 0 |
LuminanceAdjustmentPurple | 0 |
LuminanceAdjustmentRed | 0 |
LuminanceAdjustmentYellow | 0 |
LuminanceSmoothing | 0 |
Make | Canon |
MaxApertureValue | 2.8 |
Megapixels | 81.7 |
MeteringMode | Multi-segment |
Model | Canon EOS 5D Mark IV |
ModifyDate (1) | 2020:01:24 11:14:20+01:00 |
ModifyDate | 2020:01:24 11:14:20 |
Orientation | Horizontal (normal) |
OverrideLookVignette | False |
ParametricDarks | 0 |
ParametricHighlights | 0 |
ParametricHighlightSplit | 75 |
ParametricLights | 0 |
ParametricMidtoneSplit | 50 |
ParametricShadows | 0 |
ParametricShadowSplit | 25 |
PerspectiveAspect | 0 |
PerspectiveHorizontal | 0 |
PerspectiveRotate | 0.0 |
PerspectiveScale | 100 |
PerspectiveUpright | 0 |
PerspectiveVertical | 0 |
PerspectiveX | 0.00 |
PerspectiveY | 0.00 |
PostCropVignetteAmount | 0 |
PreservedFileName | 20191017-6X6A5505.CR2 |
ProcessVersion | 11.0 |
ProfileDescription | Adobe RGB (1998) |
Rating | 0 |
RawFileName | 20191017-6X6A5505.CR2 |
RecommendedExposureIndex | 100 |
RedHue | 0 |
RedSaturation | 0 |
Saturation | +3 |
SaturationAdjustmentAqua | 0 |
SaturationAdjustmentBlue | 0 |
SaturationAdjustmentGreen | 0 |
SaturationAdjustmentMagenta | 0 |
SaturationAdjustmentOrange | 0 |
SaturationAdjustmentPurple | 0 |
SaturationAdjustmentRed | 0 |
SaturationAdjustmentYellow | 0 |
ScaleFactor35efl | 0.6 |
SceneCaptureType | Standard |
SensitivityType | Recommended Exposure Index |
SerialNumber | 103055002496 |
Shadows2012 | +59 |
ShadowTint | 0 |
SharpenDetail | 25 |
SharpenEdgeMasking | 0 |
SharpenRadius | +1.0 |
Sharpness | 40 |
ShutterSpeed | 101 |
ShutterSpeedValue | 101 |
Software | Adobe Photoshop 21.0 (Macintosh) |
SplitToningBalance | 0 |
SplitToningHighlightHue | 0 |
SplitToningHighlightSaturation | 0 |
SplitToningShadowHue | 0 |
SplitToningShadowSaturation | 0 |
Texture | +20 |
Tint | +10 |
ToneCurve | 0, 0, 32, 22, 64, 56, 128, 128, 192, 196, 255, 255 |
ToneCurveBlue | 0, 0, 255, 255 |
ToneCurveGreen | 0, 0, 255, 255 |
ToneCurveName | Medium Contrast |
ToneCurveName2012 | Linear |
ToneCurvePV2012 | 0, 0, 255, 255 |
ToneCurvePV2012Blue | 0, 0, 255, 255 |
ToneCurvePV2012Green | 0, 0, 255, 255 |
ToneCurvePV2012Red | 0, 0, 255, 255 |
ToneCurveRed | 0, 0, 255, 255 |
ToneMapStrength | 0 |
URL_List | |
Version | 11.4.1 |
Vibrance | +15 |
VignetteAmount | 0 |
VignetteCorrectionAlreadyApplied | True |
WhiteBalance (1) | Daylight |
WhiteBalance | Auto |
Whites2012 | +17 |