Felt | Verdi |
Aperture | 8.0 |
ApertureValue | 8.0 |
ApproximateFocusDistance | 4294967295 |
Artist | YngveSPhoto Mob 90642102 |
AutoWhiteVersion | 134348800 |
BitsPerSample | 8 |
BlueHue | 0 |
BlueSaturation | 0 |
By-line | YngveSPhoto Mob 90642102 |
CircleOfConfusion | 0.005 mm |
Clarity2012 | +17 |
ColorComponents | 3 |
ColorMode | RGB |
ColorNoiseReductionDetail | 50 |
ColorNoiseReductionSmoothness | 50 |
ColorSpace | Uncalibrated |
ColorTemperature | 6400 |
Contrast2012 | 0 |
ConvertToGrayscale | False |
CopyrightNotice | Mail:yngves@me.com |
CreateDate (1) | 2020:02:08 12:28:14+01:00 |
CreateDate | 2020:02:08 12:28:14 |
CreatorTool | Elements Organizer 15.0 |
CustomRendered | Normal |
DateCreated | 2020:02:08 |
DateTimeOriginal (1) | 2020:02:08 12:28:14+01:00 |
DateTimeOriginal | 2020:02:08 12:28:14 |
DefringeGreenAmount | 0 |
DefringeGreenHueHi | 60 |
DefringeGreenHueLo | 40 |
DefringePurpleAmount | 0 |
DOF | inf (70.62 m - inf) |
ExifImageHeight | 688 |
Exposure2012 | 0.00 |
ExposureCompensation | -2/3 |
ExposureMode | Auto |
ExposureProgram | Aperture-priority AE |
ExposureTime | 1/200 |
Flash | Off, Did not fire |
FlashFired | False |
FlashMode | Off |
FlashRedEyeMode | False |
FNumber | 8.0 |
FocalLength35efl | 55.0 mm (35 mm equivalent: 308.6 mm) |
GrainAmount | 0 |
GreenSaturation | 0 |
Highlights2012 | 0 |
HueAdjustmentAqua | 0 |
HueAdjustmentBlue | 0 |
HueAdjustmentGreen | 0 |
HueAdjustmentMagenta | 0 |
HueAdjustmentYellow | 0 |
HyperfocalDistance | 70.62 m |
ICCProfileName | sRGB IEC61966-2.1 |
ImageSize | 1024x688 |
ImageWidth | 1024 |
ISO (1) | 200 |
Lens | EF24-105mm f/4L IS USM |
LensInfo | 24-105mm f/? |
LensProfileSetup | LensDefaults |
LensSerialNumber | 000051f422 |
LightValue | 12.6 |
LuminanceAdjustmentAqua | 0 |
LuminanceAdjustmentBlue | 0 |
LuminanceAdjustmentGreen | 0 |
LuminanceAdjustmentMagenta | 0 |
LuminanceAdjustmentOrange | 0 |
LuminanceAdjustmentPurple | 0 |
LuminanceAdjustmentRed | 0 |
LuminanceAdjustmentYellow | 0 |
Make (1) | Canon |
MaxApertureValue | 4.0 |
Megapixels | 0.705 |
MeteringMode | Multi-segment |
Model | Canon EOS 5D Mark III |
ModifyDate (1) | 2020:02:12 13:08:34+01:00 |
ParametricDarks | 0 |
ParametricHighlightSplit | 75 |
ParametricMidtoneSplit | 50 |
ParametricShadowSplit | 25 |
PerspectiveHorizontal | 0 |
PerspectiveScale | 100 |
PerspectiveUpright | 0 |
PerspectiveVertical | 0 |
PostCropVignetteAmount | 0 |
ProcessVersion | 6.7 |
ProfileDescription | sRGB IEC61966-2.1 |
RawFileName | _MG_3465.CR2 |
RedSaturation | 0 |
Rights | Mail:yngves@me.com |
Saturation | 0 |
SaturationAdjustmentBlue | 0 |
SaturationAdjustmentGreen | 0 |
SaturationAdjustmentOrange | 0 |
SaturationAdjustmentPurple | 0 |
SaturationAdjustmentYellow | 0 |
ScaleFactor35efl | 5.6 |
SceneCaptureType | Standard |
SensitivityType | Recommended Exposure Index |
SerialNumber | 053024009708 |
ShadowTint | 0 |
SharpenEdgeMasking | 51 |
SharpenRadius | +1.0 |
ShutterSpeedValue (1) | 1/200 |
Software | Elements Organizer 15.0 |
SplitToningBalance | 0 |
SplitToningHighlightHue | 0 |
SplitToningHighlightSaturation | 0 |
SplitToningShadowSaturation | 0 |
Tint | +23 |
ToneCurveGreen | 0, 0, 255, 255 |
ToneCurveName | Medium Contrast |
ToneCurvePV2012Blue | 0, 0, 255, 255 |
ToneCurvePV2012Green | 0, 0, 255, 255 |
ToneCurveRed | 0, 0, 255, 255 |
ToneMapStrength | 0 |
URL_List | |
VignetteAmount | 0 |
WhiteBalance (1) | As Shot |
WhiteBalance | Auto |
Whites2012 | 0 |