Felt | Verdi |
AlreadyApplied | True |
Aperture | 5.0 |
ApertureValue | 5.0 |
ApproximateFocusDistance | 4294967295 |
Artist | Oyvind Hallgren |
AutoLateralCA | 0 |
AutoWhiteVersion | 134348800 |
BitsPerSample | 8 |
Blacks2012 | +41 |
BlueHue | 0 |
BlueSaturation | 0 |
By-line | Oyvind Hallgren |
CameraProfile | Adobe Standard |
CircGradBasedCorrActive | true |
CircGradBasedCorrAmount | 1.000000 |
CircGradBasedCorrBrightness | 0.000000 |
CircGradBasedCorrClarity2012 | 0.516261 |
CircGradBasedCorrContrast2012 | 0.559019 |
CircGradBasedCorrDefringe | 0.000000 |
CircGradBasedCorrExposure2012 | -0.452326 |
CircGradBasedCorrHighlights2012 | 0.294967 |
CircGradBasedCorrHue | 240.000000 |
CircGradBasedCorrLocalBlacks2012 | -0.161548 |
CircGradBasedCorrLocalWhites2012 | 0.597111 |
CircGradBasedCorrLuminanceNoise | 0.000000 |
CircGradBasedCorrMaskAngle | 15.064600 |
CircGradBasedCorrMaskBottom | 0.760697 |
CircGradBasedCorrMaskFeather | +55 |
CircGradBasedCorrMaskFlipped | false |
CircGradBasedCorrMaskLeft | 0.384689 |
CircGradBasedCorrMaskMidpoint | +50 |
CircGradBasedCorrMaskRight | 0.708376 |
CircGradBasedCorrMaskRoundness | 0 |
CircGradBasedCorrMaskTop | 0.338287 |
CircGradBasedCorrMaskValue | 1.000000 |
CircGradBasedCorrMaskVersion | +2 |
CircGradBasedCorrMaskWhat | Mask/CircularGradient |
CircGradBasedCorrMoire | 0.000000 |
CircGradBasedCorrSaturation (1) | 0.110193 |
CircGradBasedCorrSaturation | 0.000000 |
CircGradBasedCorrShadows2012 | 0.430240 |
CircGradBasedCorrSharpness | 0.030000 |
CircGradBasedCorrTemperature | 0.000000 |
CircGradBasedCorrTint | 0.000000 |
CircGradBasedCorrWhat | Correction |
CircleOfConfusion | 0.019 mm |
Clarity2012 | +61 |
ColorComponents | 3 |
ColorNoiseReduction | 25 |
ColorNoiseReductionDetail | 50 |
ColorNoiseReductionSmoothness | 50 |
ColorSpace | sRGB |
ColorTemperature | 4200 |
ColorTransform | YCbCr |
Contrast2012 | +41 |
ConvertToGrayscale | True |
CreateDate (1) | 2015:09:30 18:23:48.82 |
CreateDate | 2015:09:30 18:23:48 |
Creator | Oyvind Hallgren |
CreatorTool | Adobe Photoshop Lightroom 6.8 (Macintosh) |
CropAngle | 0 |
CropBottom | 0.714609 |
CropConstrainToWarp | 0 |
CropLeft | 0.404608 |
CropRight | 0.729349 |
CropTop | 0.389868 |
CustomRendered | Normal |
DateCreated (1) | 2015:09:30 |
DateCreated | 2015:09:30 18:23:48.82 |
DateTimeOriginal | 2015:09:30 18:23:48 |
Dehaze | 0 |
DOF | inf (418.11 m - inf) |
Exposure2012 | 0.00 |
ExposureCompensation | 0 |
ExposureMode | Manual |
ExposureProgram | Manual |
ExposureTime | 1/320 |
Firmware | 2.0.5 |
Flash | Off, Did not fire |
FlashCompensation | 0 |
FNumber | 5.0 |
FocalLength | 200.0 mm |
FocalLength35efl | 200.0 mm (35 mm equivalent: 314.1 mm) |
Format | image/jpeg |
FOV | 6.6 deg |
GradientBasedCorrActive | true |
GradientBasedCorrAmount | 1.000000 |
GradientBasedCorrBrightness | 0.000000 |
GradientBasedCorrClarity2012 | 0.516261 |
GradientBasedCorrContrast2012 | 0.110828 |
GradientBasedCorrDefringe | 0.000000 |
GradientBasedCorrExposure2012 | -0.451126 |
GradientBasedCorrHighlights2012 | -0.326853 |
GradientBasedCorrHue | 240.000000 |
GradientBasedCorrLocalBlacks2012 | -0.161548 |
GradientBasedCorrLocalWhites2012 | 0.017805 |
GradientBasedCorrLuminanceNoise | 0.000000 |
GradientBasedCorrMaskFullX | 0.565806 |
GradientBasedCorrMaskFullY | 0.702644 |
GradientBasedCorrMaskValue | 1.000000 |
GradientBasedCorrMaskWhat | Mask/Gradient |
GradientBasedCorrMaskZeroX | 0.565848 |
GradientBasedCorrMaskZeroY | 0.640067 |
GradientBasedCorrMoire | 0.000000 |
GradientBasedCorrSaturation (1) | 0.110193 |
GradientBasedCorrSaturation | 0.000000 |
GradientBasedCorrShadows2012 | -0.082304 |
GradientBasedCorrSharpness | 0.030000 |
GradientBasedCorrTemperature | 0.000000 |
GradientBasedCorrTint | 0.000000 |
GradientBasedCorrWhat | Correction |
GrainAmount | 0 |
GrayMixerAqua | -19 |
GrayMixerBlue | +9 |
GrayMixerGreen | -71 |
GrayMixerMagenta | +7 |
GrayMixerOrange | -49 |
GrayMixerPurple | +17 |
GrayMixerRed | -6 |
GrayMixerYellow | -39 |
GreenHue | 0 |
GreenSaturation | 0 |
HasCrop | True |
HasSettings | True |
Highlights2012 | +30 |
HyperfocalDistance | 418.11 m |
ImageHeight | 3667 |
ImageNumber | 0 |
ImageSize | 5500x3667 |
ImageWidth | 5500 |
ISO | 800 |
Lens | EF70-200mm f/4L IS USM |
LensID (1) | 242 |
LensID | Canon EF 70-200mm f/4L IS USM |
LensInfo | 70-200mm f/? |
LensManualDistortionAmount | 0 |
LensModel | EF70-200mm f/4L IS USM |
LensProfileEnable | 0 |
LensProfileSetup | LensDefaults |
LightValue | 10.0 |
LuminanceNoiseReductionContrast | 0 |
LuminanceNoiseReductionDetail | 50 |
LuminanceSmoothing | 40 |
Make | Canon |
MaxApertureValue | 4.0 |
Megapixels | 20.2 |
MeteringMode | Spot |
Model | Canon EOS 7D |
ModifyDate (1) | 2017:01:29 12:18:41+01:00 |
ModifyDate | 2017:01:29 12:18:41 |
ParametricDarks | -41 |
ParametricHighlights | -27 |
ParametricHighlightSplit | 75 |
ParametricLights | +34 |
ParametricMidtoneSplit | 50 |
ParametricShadows | +6 |
ParametricShadowSplit | 25 |
PerspectiveAspect | 0 |
PerspectiveHorizontal | 0 |
PerspectiveRotate | 0.0 |
PerspectiveScale | 100 |
PerspectiveUpright | 0 |
PerspectiveVertical | 0 |
PerspectiveX | 0.00 |
PerspectiveY | 0.00 |
PostCropVignetteAmount | 0 |
ProcessVersion | 6.7 |
ProfileDescription | sRGB IEC61966-2.1 |
RecommendedExposureIndex | 800 |
RedHue | 0 |
RedSaturation | 0 |
ScaleFactor35efl | 1.6 |
SceneCaptureType | Standard |
SensitivityType | Recommended Exposure Index |
SerialNumber | 1280810112 |
Shadows2012 | +4 |
ShadowTint | 0 |
SharpenDetail | 25 |
SharpenEdgeMasking | 81 |
SharpenRadius | +1.0 |
Sharpness | 30 |
ShutterSpeed | 1/320 |
ShutterSpeedValue | 1/320 |
Software | Adobe Photoshop Lightroom 6.8 (Macintosh) |
SplitToningBalance | 0 |
SplitToningHighlightHue | 0 |
SplitToningHighlightSaturation | 0 |
SplitToningShadowHue | 0 |
SplitToningShadowSaturation | 0 |
Tint | +29 |
ToneCurve | 0, 0, 255, 255 |
ToneCurveBlue | 0, 0, 255, 255 |
ToneCurveGreen | 0, 0, 255, 255 |
ToneCurveName | Linear |
ToneCurveName2012 | Linear |
ToneCurvePV2012 | 0, 0, 255, 255 |
ToneCurvePV2012Blue | 0, 0, 255, 255 |
ToneCurvePV2012Green | 0, 0, 255, 255 |
ToneCurvePV2012Red | 0, 0, 255, 255 |
ToneCurveRed | 0, 0, 255, 255 |
ToneMapStrength | 0 |
Version | 9.8 |
VignetteAmount | 0 |
WhiteBalance (1) | As Shot |
WhiteBalance | Auto |
Whites2012 | +46 |