Felt | Verdi |
AlreadyApplied | True |
Aperture | 4.4 |
ApertureValue | 4.4 |
AutoLateralCA | 0 |
AutoWhiteVersion | 134348800 |
BitsPerSample | 8 |
Blacks2012 | -12 |
BlueHue | 0 |
BlueSaturation | 0 |
BrightnessValue | 5.32 |
CameraProfile | Adobe Standard |
CircleOfConfusion | 0.020 mm |
Clarity2012 | 0 |
ColorComponents | 3 |
ColorNoiseReduction | 25 |
ColorNoiseReductionDetail | 16 |
ColorNoiseReductionSmoothness | 12 |
ColorSpace | sRGB |
ColorTemperature | 6100 |
ColorTransform | YCbCr |
Contrast2012 | 0 |
ConvertToGrayscale | False |
CreateDate | 2020:03:24 19:00:18 |
CreatorTool | Adobe Photoshop Lightroom 5.6 (Macintosh) |
CustomRendered | Normal |
DateCreated (1) | 2020:03:24 |
DateCreated | 2020:03:24 19:00:18 |
DateTimeOriginal | 2020:03:24 19:00:18 |
DefringeGreenAmount | 0 |
DefringeGreenHueHi | 60 |
DefringeGreenHueLo | 40 |
DefringePurpleAmount | 0 |
DefringePurpleHueHi | 70 |
DefringePurpleHueLo | 30 |
Exposure2012 | 0.00 |
ExposureCompensation | -1 |
ExposureMode | Auto |
ExposureProgram | Program AE |
ExposureTime | 1/250 |
Flash | No Flash |
FNumber | 4.4 |
FocalLength | 141.3 mm |
FocalLength35efl | 141.3 mm (35 mm equivalent: 212.0 mm) |
FocalLengthIn35mmFormat | 212 mm |
Format | image/jpeg |
FOV | 9.7 deg |
GrainAmount | 0 |
GreenHue | 0 |
GreenSaturation | 0 |
HasCrop | False |
HasSettings | True |
Highlights2012 | -55 |
HueAdjustmentAqua | 0 |
HueAdjustmentBlue | 0 |
HueAdjustmentGreen | 0 |
HueAdjustmentMagenta | 0 |
HueAdjustmentOrange | 0 |
HueAdjustmentPurple | 0 |
HueAdjustmentRed | 0 |
HueAdjustmentYellow | 0 |
HyperfocalDistance | 226.59 m |
ImageHeight | 4000 |
ImageSize | 6000x4000 |
ImageWidth | 6000 |
ISO | 250 |
Lens | XF55-200mmF3.5-4.8 R LM OIS |
LensInfo | 55-200mm f/3.5-4.8 |
LensMake | FUJIFILM |
LensManualDistortionAmount | 0 |
LensModel | XF55-200mmF3.5-4.8 R LM OIS |
LensProfileEnable | 0 |
LensProfileSetup | LensDefaults |
LensSerialNumber | 9GB02121 |
LightSource | Unknown |
LightValue | 10.9 |
LuminanceAdjustmentAqua | 0 |
LuminanceAdjustmentBlue | 0 |
LuminanceAdjustmentGreen | 0 |
LuminanceAdjustmentMagenta | 0 |
LuminanceAdjustmentOrange | 0 |
LuminanceAdjustmentPurple | 0 |
LuminanceAdjustmentRed | 0 |
LuminanceAdjustmentYellow | 0 |
LuminanceSmoothing | 0 |
Make | FUJIFILM |
MaxApertureValue | 3.5 |
Megapixels | 24.0 |
MeteringMode | Multi-segment |
Model | X-T20 |
ModifyDate (1) | 2020:03:24 18:29:12+01:00 |
ModifyDate | 2020:03:24 18:29:12 |
ParametricDarks | 0 |
ParametricHighlights | 0 |
ParametricHighlightSplit | 75 |
ParametricLights | 0 |
ParametricMidtoneSplit | 50 |
ParametricShadows | 0 |
ParametricShadowSplit | 25 |
PerspectiveAspect | 0 |
PerspectiveHorizontal | 0 |
PerspectiveRotate | 0.0 |
PerspectiveScale | 100 |
PerspectiveUpright | 0 |
PerspectiveVertical | 0 |
PostCropVignetteAmount | 0 |
ProcessVersion | 6.7 |
ProfileDescription | sRGB IEC61966-2.1 |
RedHue | 0 |
RedSaturation | 0 |
Saturation | 0 |
SaturationAdjustmentAqua | 0 |
SaturationAdjustmentBlue | 0 |
SaturationAdjustmentGreen | 0 |
SaturationAdjustmentMagenta | 0 |
SaturationAdjustmentOrange | 0 |
SaturationAdjustmentPurple | 0 |
SaturationAdjustmentRed | 0 |
SaturationAdjustmentYellow | 0 |
ScaleFactor35efl | 1.5 |
SceneCaptureType | Standard |
SceneType | Directly photographed |
SensingMethod | One-chip color area |
SensitivityType | Standard Output Sensitivity |
SerialNumber | 7CQ16194 |
Shadows2012 | 0 |
ShadowTint | 0 |
SharpenDetail | 30 |
SharpenEdgeMasking | 43 |
SharpenRadius | +0.6 |
Sharpness (1) | 40 |
Sharpness | Normal |
ShutterSpeed | 1/250 |
ShutterSpeedValue | 1/250 |
Software | Adobe Photoshop Lightroom 5.6 (Macintosh) |
SplitToningBalance | 0 |
SplitToningHighlightHue | 0 |
SplitToningHighlightSaturation | 0 |
SplitToningShadowHue | 0 |
SplitToningShadowSaturation | 0 |
SubjectDistanceRange | Unknown |
Tint | +11 |
ToneCurve | 0, 0, 255, 255 |
ToneCurveBlue | 0, 0, 255, 255 |
ToneCurveGreen | 0, 0, 255, 255 |
ToneCurveName | Linear |
ToneCurveName2012 | Linear |
ToneCurvePV2012 | 0, 0, 255, 255 |
ToneCurvePV2012Blue | 0, 0, 255, 255 |
ToneCurvePV2012Green | 0, 0, 255, 255 |
ToneCurvePV2012Red | 0, 0, 255, 255 |
ToneCurveRed | 0, 0, 255, 255 |
Version | 8.6 |
Vibrance | 0 |
VignetteAmount | 0 |
WhiteBalance (1) | As Shot |
WhiteBalance | Auto |
Whites2012 | +29 |