Felt | Verdi |
AlreadyApplied | True |
Aperture | 5.0 |
ApertureValue | 5.0 |
Artist | Picasa |
AutoLateralCA | 0 |
BitsPerSample | 8 |
Blacks2012 | -76 |
BlueHue | 0 |
BlueSaturation | 0 |
BrightnessValue | 8.08 |
By-line | Picasa |
CameraProfile | Embedded |
CircleOfConfusion | 0.020 mm |
Clarity2012 | +10 |
ColorComponents | 3 |
ColorNoiseReduction | 0 |
ColorSpace | sRGB |
Contrast2012 | 0 |
ConvertToGrayscale | True |
CreateDate | 2020:04:01 13:10:08 |
Creator | Picasa |
CreatorTool | Adobe Photoshop Lightroom Classic 9.2 (Windows) |
CropAngle | 0 |
CropBottom | 0.613934 |
CropConstrainToWarp | 0 |
CropLeft | 0.009878 |
CropRight | 0.940743 |
CropTop | 0 |
CustomRendered | Normal |
DateCreated (1) | 2020:04:01 13:10:08 |
DateCreated | 2020:04:01 |
DateTimeOriginal | 2020:04:01 13:10:08 |
Dehaze | 0 |
DistortionCorrectionAlreadyApplied | True |
ExifImageHeight | 793 |
ExifImageWidth | 1408 |
Exposure2012 | 0.00 |
ExposureCompensation | 0 |
ExposureMode | Auto |
ExposureProgram | Aperture-priority AE |
ExposureTime | 1/1100 |
Flash | Off, Did not fire |
FNumber | 5.0 |
FocalLength | 58.9 mm |
FocalLength35efl | 58.9 mm (35 mm equivalent: 88.0 mm) |
FocalLengthIn35mmFormat | 88 mm |
Format | image/jpeg |
FOV | 23.1 deg |
GrainAmount | 0 |
GrayMixerAqua | 0 |
GrayMixerBlue | -20 |
GrayMixerGreen | +20 |
GrayMixerMagenta | 0 |
GrayMixerOrange | 0 |
GrayMixerPurple | -11 |
GrayMixerRed | 0 |
GrayMixerYellow | +10 |
GreenHue | 0 |
GreenSaturation | 0 |
HasCrop | True |
HasSettings | True |
Highlights2012 | +100 |
HyperfocalDistance | 34.50 m |
ImageHeight | 793 |
ImageSize | 1408x793 |
ImageWidth | 1408 |
IncrementalTemperature | 0 |
IncrementalTint | 0 |
ISO | 800 |
LateralChromaticAberrationCorrectionAlreadyApplied | True |
Lens | XF18-135mmF3.5-5.6R LM OIS WR |
LensInfo | 18-135mm f/3.5-5.6 |
LensMake | FUJIFILM |
LensManualDistortionAmount | 0 |
LensModel | XF18-135mmF3.5-5.6R LM OIS WR |
LensProfileEnable | 0 |
LensProfileSetup | LensDefaults |
LensSerialNumber | 43A08316 |
LightSource | Unknown |
LightValue | 11.7 |
LookAmount | 0.800000 |
LookCluster | Adobe |
LookGroup | B&W |
LookName | B&W 04 |
LookParametersClarity2012 | +8 |
LookParametersContrast2012 | +8 |
LookParametersConvertToGrayscale | True |
LookParametersLookTable | AC0E24EFC658D3BD29B430044AE2FB7C |
LookParametersProcessVersion | 11.0 |
LookParametersToneCurvePV2012 | 0, 0, 17, 10, 34, 24, 51, 41, 68, 63, 85, 89, 102, 116, 119, 143, 136, 169, 153, 193, 170, 212, 187, 228, 204, 239, 221, 246, 238, 251, 255, 255 |
LookParametersToneCurvePV2012Blue | 0, 0, 255, 255 |
LookParametersToneCurvePV2012Green | 0, 0, 255, 255 |
LookParametersToneCurvePV2012Red | 0, 0, 255, 255 |
LookParametersVersion | 12.2 |
LookSortName | B&W 04 |
LookSupportsMonochrome | false |
LuminanceSmoothing | 0 |
Make | FUJIFILM |
MaxApertureValue | 3.5 |
Megapixels | 1.1 |
MeteringMode | Multi-segment |
Model | X-T1 |
ModifyDate (1) | 2020:04:08 14:30:43+02:00 |
ModifyDate | 2020:04:08 14:30:43 |
OverrideLookVignette | False |
ParametricDarks | 0 |
ParametricHighlights | 0 |
ParametricHighlightSplit | 75 |
ParametricLights | 0 |
ParametricMidtoneSplit | 50 |
ParametricShadows | 0 |
ParametricShadowSplit | 25 |
PerspectiveAspect | 0 |
PerspectiveHorizontal | 0 |
PerspectiveRotate | 0.0 |
PerspectiveScale | 100 |
PerspectiveUpright | 0 |
PerspectiveVertical | 0 |
PerspectiveX | 0.00 |
PerspectiveY | 0.00 |
PostCropVignetteAmount | 0 |
PreservedFileName | DSCF5124.RAF |
ProcessVersion | 11.0 |
RawFileName | |
RedHue | 0 |
RedSaturation | 0 |
RelatedImageHeight | 785 |
RelatedImageWidth | 1400 |
ScaleFactor35efl | 1.5 |
SceneCaptureType | Standard |
SceneType | Directly photographed |
SensingMethod | One-chip color area |
SensitivityType | Standard Output Sensitivity |
Shadows2012 | -67 |
ShadowTint | 0 |
SharpenDetail | 25 |
SharpenEdgeMasking | 0 |
SharpenRadius | +1.0 |
Sharpness (1) | 0 |
Sharpness | Hard |
ShutterSpeed | 1/1100 |
ShutterSpeedValue | 1/1100 |
Software | Adobe Photoshop Lightroom Classic 9.2 (Windows) |
SplitToningBalance | 0 |
SplitToningHighlightHue | 0 |
SplitToningHighlightSaturation | 0 |
SplitToningShadowHue | 0 |
SplitToningShadowSaturation | 0 |
SubjectDistanceRange | Unknown |
Texture | 0 |
ToneCurve | 0, 0, 255, 255 |
ToneCurveBlue | 0, 0, 255, 255 |
ToneCurveGreen | 0, 0, 255, 255 |
ToneCurveName | Linear |
ToneCurveName2012 | Linear |
ToneCurvePV2012 | 0, 0, 255, 255 |
ToneCurvePV2012Blue | 0, 0, 255, 255 |
ToneCurvePV2012Green | 0, 0, 255, 255 |
ToneCurvePV2012Red | 0, 0, 255, 255 |
ToneCurveRed | 0, 0, 255, 255 |
ToneMapStrength | 0 |
Version | 12.2 |
VignetteAmount | 0 |
VignetteCorrectionAlreadyApplied | True |
WhiteBalance (1) | As Shot |
WhiteBalance | Auto |
Whites2012 | +100 |