Felt | Verdi |
AlreadyApplied | True |
Aperture | 4.5 |
ApertureValue | 4.5 |
ApproximateFocusDistance | 1 |
Artist | Roy-Cato Myrvang |
AutoLateralCA | 0 |
AutoWhiteVersion | 134348800 |
BitsPerSample | 8 |
Blacks2012 | -3 |
BlueHue | 0 |
BlueSaturation | +4 |
By-line | Roy-Cato Myrvang |
CameraProfile | Adobe Standard |
CFAPattern | [Red,Green][Green,Blue] |
CircGradBasedCorrActive | true |
CircGradBasedCorrAmount | 1.000000 |
CircGradBasedCorrBrightness | 0.000000 |
CircGradBasedCorrClarity2012 | 0.000000 |
CircGradBasedCorrContrast2012 | 0.000000 |
CircGradBasedCorrDefringe | 0.000000 |
CircGradBasedCorrExposure2012 | -0.212367 |
CircGradBasedCorrHighlights2012 | 0.000000 |
CircGradBasedCorrHue | 240.000000 |
CircGradBasedCorrLocalBlacks2012 | 0.000000 |
CircGradBasedCorrLocalDehaze | 0.000000 |
CircGradBasedCorrLocalWhites2012 | 0.000000 |
CircGradBasedCorrLuminanceNoise | 0.000000 |
CircGradBasedCorrMaskAngle | 0.000000 |
CircGradBasedCorrMaskBottom | 0.640676 |
CircGradBasedCorrMaskFeather | +50 |
CircGradBasedCorrMaskFlipped | false |
CircGradBasedCorrMaskLeft | 0.361355 |
CircGradBasedCorrMaskMidpoint | +50 |
CircGradBasedCorrMaskRight | 0.734905 |
CircGradBasedCorrMaskRoundness | 0 |
CircGradBasedCorrMaskTop | 0.239304 |
CircGradBasedCorrMaskValue | 1.000000 |
CircGradBasedCorrMaskVersion | +2 |
CircGradBasedCorrMaskWhat | Mask/CircularGradient |
CircGradBasedCorrMoire | 0.000000 |
CircGradBasedCorrSaturation | 0.000000 |
CircGradBasedCorrShadows2012 | 0.000000 |
CircGradBasedCorrSharpness | 0.000000 |
CircGradBasedCorrTemperature | 0.000000 |
CircGradBasedCorrTint | 0.000000 |
CircGradBasedCorrWhat | Correction |
CircleOfConfusion | 0.030 mm |
Clarity2012 | +16 |
ColorComponents | 3 |
ColorNoiseReduction | 25 |
ColorNoiseReductionDetail | 50 |
ColorNoiseReductionSmoothness | 50 |
ColorSpace | sRGB |
ColorTemperature | 4800 |
ColorTransform | YCbCr |
Contrast | Normal |
Contrast2012 | -2 |
ConvertToGrayscale | False |
Copyright | Roy-Cato Myrvang |
CopyrightFlag | True |
CopyrightNotice | Roy-Cato Myrvang |
CreateDate (1) | 2018:03:21 15:00:20.55 |
CreateDate | 2018:03:21 15:00:20 |
Creator | Roy-Cato Myrvang |
CreatorTool | Adobe Photoshop Lightroom 6.14 (Macintosh) |
CropAngle | 0 |
CropBottom | 0.990133 |
CropConstrainToWarp | 0 |
CropLeft | 0.021826 |
CropRight | 0.78124 |
CropTop | 0.07712 |
CustomRendered | Normal |
DateCreated (1) | 2018:03:21 |
DateCreated | 2018:03:21 15:00:20.55 |
DateTimeOriginal | 2018:03:21 15:00:20 |
DefringeGreenAmount | 0 |
DefringeGreenHueHi | 60 |
DefringeGreenHueLo | 40 |
DefringePurpleAmount | 0 |
DefringePurpleHueHi | 70 |
DefringePurpleHueLo | 30 |
Dehaze | 0 |
DigitalZoomRatio | 1 |
DOF | 0.05 m (0.97 - 1.03 m) |
Exposure2012 | -0.10 |
ExposureCompensation | 0 |
ExposureMode | Auto |
ExposureProgram | Aperture-priority AE |
ExposureTime | 1/250 |
Flash | No Flash |
FNumber | 4.5 |
FocalLength | 70.0 mm |
FocalLength35efl | 70.0 mm (35 mm equivalent: 70.0 mm) |
FocalLengthIn35mmFormat | 70 mm |
Format | image/jpeg |
FOV | 28.8 deg |
GainControl | Low gain up |
GrainAmount | 0 |
GreenHue | 0 |
GreenSaturation | -13 |
HasCrop | True |
HasExtendedXMP | C588F69D2991D3FC5978E6EA9732ED05 |
HasSettings | True |
Highlights2012 | -10 |
HueAdjustmentAqua | 0 |
HueAdjustmentBlue | 0 |
HueAdjustmentGreen | 0 |
HueAdjustmentMagenta | 0 |
HueAdjustmentOrange | 0 |
HueAdjustmentPurple | 0 |
HueAdjustmentRed | 0 |
HueAdjustmentYellow | 0 |
HyperfocalDistance | 36.24 m |
ImageHeight | 3232 |
ImageNumber | 55306 |
ImageSize | 2586x3232 |
ImageWidth | 2586 |
ISO | 500 |
Lens | 24.0-70.0 mm f/2.8 |
LensID (1) | 147 |
LensID | AF-S Zoom-Nikkor 24-70mm f/2.8G ED |
LensInfo | 24-70mm f/2.8 |
LensManualDistortionAmount | 0 |
LensModel | 24.0-70.0 mm f/2.8 |
LensProfileEnable | 0 |
LensProfileSetup | LensDefaults |
LightSource | Unknown |
LightValue | 10.0 |
LuminanceAdjustmentAqua | 0 |
LuminanceAdjustmentBlue | 0 |
LuminanceAdjustmentGreen | 0 |
LuminanceAdjustmentMagenta | 0 |
LuminanceAdjustmentOrange | +18 |
LuminanceAdjustmentPurple | 0 |
LuminanceAdjustmentRed | -2 |
LuminanceAdjustmentYellow | +2 |
LuminanceSmoothing | 0 |
Make | NIKON CORPORATION |
Marked | True |
MaxApertureValue | 2.8 |
Megapixels | 8.4 |
MeteringMode | Multi-segment |
Model | NIKON D700 |
ModifyDate (1) | 2019:02:12 09:06:55+01:00 |
ModifyDate | 2019:02:12 09:06:55 |
PaintCorrectionActive | true |
PaintCorrectionAmount | 1.000000 |
PaintCorrectionBrightness | 0.000000 |
PaintCorrectionClarity2012 (1) | 0.279871 |
PaintCorrectionClarity2012 | 0.000000 |
PaintCorrectionContrast2012 (1) | 0.253952 |
PaintCorrectionContrast2012 | 0.000000 |
PaintCorrectionDefringe | 0.000000 |
PaintCorrectionExposure2012 (1) | 0.108640 |
PaintCorrectionExposure2012 (2) | 0.044761 |
PaintCorrectionExposure2012 (3) | 0.036673 |
PaintCorrectionExposure2012 (4) | -0.119945 |
PaintCorrectionExposure2012 | -0.075000 |
PaintCorrectionHighlights2012 (1) | 0.307353 |
PaintCorrectionHighlights2012 | 0.000000 |
PaintCorrectionHue | 240.000000 |
PaintCorrectionLuminanceNoise | 0.000000 |
PaintCorrectionMaskCenterWeight | 0.000000 |
PaintCorrectionMaskFlow | 1.000000 |
PaintCorrectionMaskRadius (10) | 0.005068 |
PaintCorrectionMaskRadius (11) | 0.003387 |
PaintCorrectionMaskRadius (13) | 0.052446 |
PaintCorrectionMaskRadius (2) | 0.008612 |
PaintCorrectionMaskRadius (3) | 0.001767 |
PaintCorrectionMaskRadius (5) | 0.002569 |
PaintCorrectionMaskRadius | 0.000214 |
PaintCorrectionMaskValue (12) | 0.000000 |
PaintCorrectionMaskValue | 1.000000 |
PaintCorrectionMaskWhat | Mask/Paint |
PaintCorrectionMoire | 0.000000 |
PaintCorrectionSaturation (1) | 0.400000 |
PaintCorrectionSaturation | 0.000000 |
PaintCorrectionShadows2012 (1) | 0.344393 |
PaintCorrectionShadows2012 | 0.000000 |
PaintCorrectionSharpness | 0.000000 |
PaintCorrectionTemperature | 0.000000 |
PaintCorrectionTint | 0.000000 |
PaintCorrectionWhat | Correction |
ParametricDarks | 0 |
ParametricHighlights | 0 |
ParametricHighlightSplit | 75 |
ParametricLights | 0 |
ParametricMidtoneSplit | 50 |
ParametricShadows | 0 |
ParametricShadowSplit | 25 |
PerspectiveAspect | 0 |
PerspectiveHorizontal | 0 |
PerspectiveRotate | 0.0 |
PerspectiveScale | 100 |
PerspectiveUpright | 0 |
PerspectiveVertical | 0 |
PerspectiveX | 0.00 |
PerspectiveY | 0.00 |
PostCropVignetteAmount | 0 |
ProcessVersion | 6.7 |
ProfileDescription | sRGB IEC61966-2.1 |
RedHue | 0 |
RedSaturation | +22 |
Rights | Roy-Cato Myrvang |
Saturation (1) | 0 |
Saturation | Normal |
SaturationAdjustmentAqua | 0 |
SaturationAdjustmentBlue | 0 |
SaturationAdjustmentGreen | 0 |
SaturationAdjustmentMagenta | 0 |
SaturationAdjustmentOrange | +38 |
SaturationAdjustmentPurple | 0 |
SaturationAdjustmentRed | 0 |
SaturationAdjustmentYellow | +31 |
ScaleFactor35efl | 1.0 |
SceneCaptureType | Standard |
SceneType | Directly photographed |
SensingMethod | One-chip color area |
SerialNumber | 2472137 |
Shadows2012 | +29 |
ShadowTint | 0 |
SharpenDetail | 25 |
SharpenEdgeMasking | 0 |
SharpenRadius | +1.5 |
Sharpness (1) | 59 |
Sharpness | Normal |
ShutterSpeed | 1/250 |
ShutterSpeedValue | 1/250 |
Software | Adobe Photoshop Lightroom 6.14 (Macintosh) |
SplitToningBalance | 0 |
SplitToningHighlightHue | 0 |
SplitToningHighlightSaturation | 0 |
SplitToningShadowHue | 0 |
SplitToningShadowSaturation | 0 |
SubjectDistanceRange | Unknown |
Tint | -6 |
ToneCurve | 0, 0, 255, 255 |
ToneCurveBlue | 0, 0, 255, 255 |
ToneCurveGreen | 0, 0, 255, 255 |
ToneCurveName | Linear |
ToneCurveName2012 | Custom |
ToneCurvePV2012 | 0, 0, 65, 63, 123, 128, 199, 191, 255, 255 |
ToneCurvePV2012Blue | 0, 0, 255, 255 |
ToneCurvePV2012Green | 0, 0, 255, 255 |
ToneCurvePV2012Red | 0, 0, 255, 255 |
ToneCurveRed | 0, 0, 255, 255 |
ToneMapStrength | 0 |
Version | 10.1 |
Vibrance | -8 |
VignetteAmount | 0 |
WhiteBalance (1) | As Shot |
WhiteBalance | Auto |
Whites2012 | +9 |