Felt | Verdi |
AlreadyApplied | True |
Aperture | 13.0 |
ApertureValue | 13.0 |
ApproximateFocusDistance | 1.68 |
AutoLateralCA | 1 |
AutoWhiteVersion | 134348800 |
BitsPerSample | 8 |
Blacks2012 | -12 |
BlueHue | 0 |
BlueSaturation | 0 |
CameraProfile | Adobe Standard |
CFAPattern | [Red,Green][Green,Blue] |
CircGradBasedCorrActive | true |
CircGradBasedCorrAmount | 1.000000 |
CircGradBasedCorrBrightness | 0.000000 |
CircGradBasedCorrClarity2012 | 0.000000 |
CircGradBasedCorrContrast2012 | 0.011490 |
CircGradBasedCorrDefringe | 0.000000 |
CircGradBasedCorrExposure2012 | 0.121000 |
CircGradBasedCorrHighlights2012 | 0.000000 |
CircGradBasedCorrHue | 0.000000 |
CircGradBasedCorrLuminanceNoise | 0.000000 |
CircGradBasedCorrMaskAngle | 0.000000 |
CircGradBasedCorrMaskBottom | 0.456400 |
CircGradBasedCorrMaskFeather | +100 |
CircGradBasedCorrMaskFlipped | true |
CircGradBasedCorrMaskLeft | 0.568917 |
CircGradBasedCorrMaskMidpoint | +50 |
CircGradBasedCorrMaskRight | 0.816465 |
CircGradBasedCorrMaskRoundness | 0 |
CircGradBasedCorrMaskTop | 0.163631 |
CircGradBasedCorrMaskValue | 1.000000 |
CircGradBasedCorrMaskVersion | +2 |
CircGradBasedCorrMaskWhat | Mask/CircularGradient |
CircGradBasedCorrMoire | 0.000000 |
CircGradBasedCorrSaturation | 0.000000 |
CircGradBasedCorrShadows2012 | 0.000000 |
CircGradBasedCorrSharpness | 0.000000 |
CircGradBasedCorrTemperature | 0.000000 |
CircGradBasedCorrTint | 0.000000 |
CircGradBasedCorrWhat | Correction |
CircleOfConfusion | 0.030 mm |
Clarity2012 | +26 |
ColorComponents | 3 |
ColorNoiseReduction | 25 |
ColorNoiseReductionDetail | 50 |
ColorNoiseReductionSmoothness | 50 |
ColorTemperature | 8000 |
ColorTransform | YCbCr |
Contrast | Normal |
Contrast2012 | +17 |
ConvertToGrayscale | False |
Copyright | MKalve |
CopyrightNotice | MKalve |
CreateDate (1) | 2020:05:10 21:15:25.48 |
CreateDate | 2020:05:10 21:15:25 |
CreatorTool | Adobe Photoshop Lightroom 6.0 (Windows) |
CropAngle | 0 |
CropBottom | 0.936282 |
CropConstrainToWarp | 0 |
CropLeft | 0.084552 |
CropRight | 1 |
CropTop | 0.020834 |
CustomRendered | Custom |
DateCreated (1) | 2020:05:10 21:15:25.48 |
DateCreated | 2020:05:10 |
DateTimeOriginal | 2020:05:10 21:15:25 |
DefringeGreenAmount | 0 |
DefringeGreenHueHi | 60 |
DefringeGreenHueLo | 40 |
DefringePurpleAmount | 0 |
DefringePurpleHueHi | 70 |
DefringePurpleHueLo | 30 |
DigitalZoomRatio | 1 |
DOF | inf (0.79 m - inf) |
Exposure2012 | +0.48 |
ExposureCompensation | -1 |
ExposureMode | Auto |
ExposureProgram | Aperture-priority AE |
ExposureTime | 2.5 |
Flash | Off, Did not fire |
FNumber | 13.0 |
FocalLength | 24.0 mm |
FocalLength35efl | 24.0 mm (35 mm equivalent: 24.0 mm) |
FocalLengthIn35mmFormat | 24 mm |
Format | image/jpeg |
FOV | 73.7 deg |
GainControl | None |
GradientBasedCorrActive | true |
GradientBasedCorrAmount | 1.000000 |
GradientBasedCorrBrightness | 0.000000 |
GradientBasedCorrClarity2012 | 0.000000 |
GradientBasedCorrContrast2012 | 0.011490 |
GradientBasedCorrDefringe | 0.000000 |
GradientBasedCorrExposure2012 | -0.077000 |
GradientBasedCorrHighlights2012 | 0.000000 |
GradientBasedCorrHue | 0.000000 |
GradientBasedCorrLuminanceNoise | 0.000000 |
GradientBasedCorrMaskFullX | 0.043587 |
GradientBasedCorrMaskFullY | 0.524979 |
GradientBasedCorrMaskValue | 1.000000 |
GradientBasedCorrMaskWhat | Mask/Gradient |
GradientBasedCorrMaskZeroX | 0.205427 |
GradientBasedCorrMaskZeroY | 0.520192 |
GradientBasedCorrMoire | 0.000000 |
GradientBasedCorrSaturation | 0.000000 |
GradientBasedCorrShadows2012 | 0.000000 |
GradientBasedCorrSharpness | 0.000000 |
GradientBasedCorrTemperature | 0.000000 |
GradientBasedCorrTint | 0.000000 |
GradientBasedCorrWhat | Correction |
GrainAmount | 0 |
GreenHue | 0 |
GreenSaturation | 0 |
HasCrop | True |
HasExtendedXMP | F7BAA7B57C6C836313C649792DA4C59A |
HasSettings | True |
Highlights2012 | -55 |
HueAdjustmentAqua | 0 |
HueAdjustmentBlue | 0 |
HueAdjustmentGreen | 0 |
HueAdjustmentMagenta | 0 |
HueAdjustmentOrange | 0 |
HueAdjustmentPurple | 0 |
HueAdjustmentRed | 0 |
HueAdjustmentYellow | 0 |
HyperfocalDistance | 1.47 m |
ImageHeight | 3676 |
ImageNumber | 8521 |
ImageSize | 5507x3676 |
ImageWidth | 5507 |
ISO | 100 |
Lens | 24.0-120.0 mm f/4.0 |
LensID (1) | 170 |
LensID | AF-S Nikkor 24-120mm f/4G ED VR |
LensInfo | 24-120mm f/4 |
LensManualDistortionAmount | 0 |
LensModel | 24.0-120.0 mm f/4.0 |
LensProfileChromaticAberrationScale | 100 |
LensProfileDistortionScale | 100 |
LensProfileEnable | 1 |
LensProfileFilename | NIKON D3X (Nikon AF-S NIKKOR 24-120mm f4G ED VR) - RAW.lcp |
LensProfileName | Adobe (Nikon AF-S NIKKOR 24-120mm f/4G ED VR) |
LensProfileSetup | LensDefaults |
LensProfileVignettingScale | 100 |
LightSource | Unknown |
LightValue | 6.1 |
LuminanceAdjustmentAqua | 0 |
LuminanceAdjustmentBlue | 0 |
LuminanceAdjustmentGreen | 0 |
LuminanceAdjustmentMagenta | 0 |
LuminanceAdjustmentOrange | 0 |
LuminanceAdjustmentPurple | 0 |
LuminanceAdjustmentRed | 0 |
LuminanceAdjustmentYellow | 0 |
LuminanceSmoothing | 0 |
Make | NIKON CORPORATION |
MaxApertureValue | 4.0 |
Megapixels | 20.2 |
MeteringMode | Multi-segment |
Model | NIKON D750 |
ModifyDate (1) | 2020:05:12 10:17:04+02:00 |
ModifyDate | 2020:05:12 10:17:04 |
Orientation | Horizontal (normal) |
PaintCorrectionActive | true |
PaintCorrectionAmount | 1.000000 |
PaintCorrectionBrightness | 0.000000 |
PaintCorrectionClarity2012 | 0.000000 |
PaintCorrectionContrast2012 (6) | 0.011490 |
PaintCorrectionContrast2012 | 0.103450 |
PaintCorrectionDefringe | 0.000000 |
PaintCorrectionExposure2012 (7) | 0.057500 |
PaintCorrectionExposure2012 | 0.172500 |
PaintCorrectionHighlights2012 | 0.000000 |
PaintCorrectionHue | 0.000000 |
PaintCorrectionLuminanceNoise | 0.000000 |
PaintCorrectionMaskCenterWeight | 0.000000 |
PaintCorrectionMaskFlow | 0.789000 |
PaintCorrectionMaskRadius (1) | 0.030299 |
PaintCorrectionMaskRadius (10) | 0.029740 |
PaintCorrectionMaskRadius (11) | 0.030174 |
PaintCorrectionMaskRadius (12) | 0.030490 |
PaintCorrectionMaskRadius (13) | 0.004058 |
PaintCorrectionMaskRadius (14) | 0.004054 |
PaintCorrectionMaskRadius (15) | 0.004052 |
PaintCorrectionMaskRadius (16) | 0.004056 |
PaintCorrectionMaskRadius (17) | 0.004061 |
PaintCorrectionMaskRadius (18) | 0.004057 |
PaintCorrectionMaskRadius (19) | 0.004047 |
PaintCorrectionMaskRadius (2) | 0.030473 |
PaintCorrectionMaskRadius (20) | 0.004016 |
PaintCorrectionMaskRadius (21) | 0.004027 |
PaintCorrectionMaskRadius (22) | 0.004033 |
PaintCorrectionMaskRadius (23) | 0.004062 |
PaintCorrectionMaskRadius (24) | 0.004063 |
PaintCorrectionMaskRadius (25) | 0.009505 |
PaintCorrectionMaskRadius (26) | 0.009498 |
PaintCorrectionMaskRadius (27) | 0.005612 |
PaintCorrectionMaskRadius (28) | 0.005628 |
PaintCorrectionMaskRadius (29) | 0.005640 |
PaintCorrectionMaskRadius (3) | 0.030521 |
PaintCorrectionMaskRadius (30) | 0.005627 |
PaintCorrectionMaskRadius (31) | 0.005618 |
PaintCorrectionMaskRadius (32) | 0.005608 |
PaintCorrectionMaskRadius (33) | 0.005606 |
PaintCorrectionMaskRadius (34) | 0.005561 |
PaintCorrectionMaskRadius (35) | 0.005559 |
PaintCorrectionMaskRadius (36) | 0.005609 |
PaintCorrectionMaskRadius (37) | 0.005605 |
PaintCorrectionMaskRadius (38) | 0.005566 |
PaintCorrectionMaskRadius (39) | 0.005582 |
PaintCorrectionMaskRadius (4) | 0.030627 |
PaintCorrectionMaskRadius (40) | 0.005565 |
PaintCorrectionMaskRadius (41) | 0.005575 |
PaintCorrectionMaskRadius (42) | 0.005571 |
PaintCorrectionMaskRadius (43) | 0.005579 |
PaintCorrectionMaskRadius (44) | 0.005607 |
PaintCorrectionMaskRadius (45) | 0.005621 |
PaintCorrectionMaskRadius (46) | 0.005637 |
PaintCorrectionMaskRadius (47) | 0.005677 |
PaintCorrectionMaskRadius (48) | 0.005714 |
PaintCorrectionMaskRadius (49) | 0.005774 |
PaintCorrectionMaskRadius (5) | 0.030615 |
PaintCorrectionMaskRadius (50) | 0.005856 |
PaintCorrectionMaskRadius (51) | 0.005881 |
PaintCorrectionMaskRadius (52) | 0.005870 |
PaintCorrectionMaskRadius (53) | 0.005882 |
PaintCorrectionMaskRadius (54) | 0.005914 |
PaintCorrectionMaskRadius (55) | 0.005919 |
PaintCorrectionMaskRadius (56) | 0.005906 |
PaintCorrectionMaskRadius (57) | 0.005935 |
PaintCorrectionMaskRadius (58) | 0.005917 |
PaintCorrectionMaskRadius (6) | 0.030736 |
PaintCorrectionMaskRadius (7) | 0.030385 |
PaintCorrectionMaskRadius (8) | 0.030679 |
PaintCorrectionMaskRadius (9) | 0.030074 |
PaintCorrectionMaskRadius | 0.043584 |
PaintCorrectionMaskValue | 1.000000 |
PaintCorrectionMaskWhat | Mask/Paint |
PaintCorrectionMoire | 0.000000 |
PaintCorrectionSaturation | 0.000000 |
PaintCorrectionShadows2012 (7) | 0.000000 |
PaintCorrectionShadows2012 | 0.402300 |
PaintCorrectionSharpness | 0.000000 |
PaintCorrectionTemperature | 0.000000 |
PaintCorrectionTint | 0.000000 |
PaintCorrectionWhat | Correction |
ParametricDarks | 0 |
ParametricHighlights | 0 |
ParametricHighlightSplit | 75 |
ParametricLights | 0 |
ParametricMidtoneSplit | 50 |
ParametricShadows | 0 |
ParametricShadowSplit | 25 |
PerspectiveAspect | 0 |
PerspectiveHorizontal | 0 |
PerspectiveRotate | 0.0 |
PerspectiveScale | 100 |
PerspectiveUpright | 0 |
PerspectiveVertical | 0 |
PostCropVignetteAmount | -12 |
PostCropVignetteFeather | 89 |
PostCropVignetteHighlightContrast | 0 |
PostCropVignetteMidpoint | 50 |
PostCropVignetteRoundness | 0 |
PostCropVignetteStyle | 1 |
ProcessVersion | 6.7 |
ProfileDescription | sRGB IEC61966-2.1 |
RawFileName | MOK_8340-3.jpg |
RedHue | 0 |
RedSaturation | 0 |
Rights | MKalve |
Saturation (1) | 0 |
Saturation | Normal |
SaturationAdjustmentAqua | 0 |
SaturationAdjustmentBlue | 0 |
SaturationAdjustmentGreen | 0 |
SaturationAdjustmentMagenta | 0 |
SaturationAdjustmentOrange | 0 |
SaturationAdjustmentPurple | 0 |
SaturationAdjustmentRed | 0 |
SaturationAdjustmentYellow | 0 |
ScaleFactor35efl | 1.0 |
SceneCaptureType | Standard |
SceneType | Directly photographed |
SensingMethod | One-chip color area |
SensitivityType | Recommended Exposure Index |
SerialNumber | 6165137 |
Shadows2012 | +48 |
ShadowTint | 0 |
SharpenDetail | 36 |
SharpenEdgeMasking | 0 |
SharpenRadius | +1.0 |
Sharpness (1) | 82 |
Sharpness | Soft |
ShutterSpeed | 2.5 |
ShutterSpeedValue | 2.5 |
Software | Adobe Photoshop Lightroom 6.0 (Windows) |
SplitToningBalance | 0 |
SplitToningHighlightHue | 0 |
SplitToningHighlightSaturation | 0 |
SplitToningShadowHue | 0 |
SplitToningShadowSaturation | 0 |
SubjectDistanceRange | Unknown |
Tint | +21 |
ToneCurve | 0, 0, 255, 255 |
ToneCurveBlue | 0, 0, 255, 255 |
ToneCurveGreen | 0, 0, 255, 255 |
ToneCurveName | Linear |
ToneCurveName2012 | Custom |
ToneCurvePV2012 | 0, 0, 30, 18, 195, 222, 255, 255 |
ToneCurvePV2012Blue | 0, 0, 255, 255 |
ToneCurvePV2012Green | 0, 0, 255, 255 |
ToneCurvePV2012Red | 0, 0, 255, 255 |
ToneCurveRed | 0, 0, 255, 255 |
Version | 9.0 |
Vibrance | +21 |
VignetteAmount | 0 |
WhiteBalance (1) | Custom |
WhiteBalance | Auto |
Whites2012 | 0 |