Felt | Verdi |
AlreadyApplied | True |
Aperture | 4.0 |
ApertureValue | 4.0 |
ApproximateFocusDistance | 11.9 |
AutoLateralCA | 1 |
AutoWhiteVersion | 134348800 |
BitsPerSample | 8 |
Blacks2012 | +7 |
BlueHue | 0 |
BlueSaturation | 0 |
CameraProfile | Adobe Standard |
CircleOfConfusion | 0.030 mm |
Clarity2012 | +6 |
ColorComponents | 3 |
ColorNoiseReduction | 80 |
ColorNoiseReductionDetail | 67 |
ColorNoiseReductionSmoothness | 79 |
ColorSpace | sRGB |
ColorTemperature | 5650 |
ColorTransform | YCbCr |
Contrast2012 | +4 |
ConvertToGrayscale | False |
CreateDate (1) | 2020:06:06 08:52:47.64 |
CreateDate | 2020:06:06 08:52:47 |
CreatorTool | Adobe Photoshop Lightroom 6.12 (Macintosh) |
CropAngle | -0.573382 |
CropBottom | 0.98521 |
CropConstrainToWarp | 0 |
CropLeft | 0.004109 |
CropRight | 0.995891 |
CropTop | 0.01479 |
CustomRendered | Normal |
DateCreated (1) | 2020:06:06 |
DateCreated | 2020:06:06 08:52:47.64 |
DateTimeOriginal | 2020:06:06 08:52:47 |
DefringeGreenAmount | 0 |
DefringeGreenHueHi | 60 |
DefringeGreenHueLo | 40 |
DefringePurpleAmount | 0 |
DefringePurpleHueHi | 70 |
DefringePurpleHueLo | 30 |
Dehaze | 0 |
DistortionCorrectionAlreadyApplied | True |
DOF | 7.39 m (9.26 - 16.65 m) |
Exposure2012 | 0.00 |
ExposureCompensation | 0 |
ExposureMode | Manual |
ExposureProgram | Manual |
ExposureTime | 1/1250 |
Firmware | 1.0.4 |
Flash | Off, Did not fire |
FlashCompensation | 0 |
FNumber | 4.0 |
FocalLength | 70.0 mm |
FocalLength35efl | 70.0 mm (35 mm equivalent: 71.2 mm) |
Format | image/jpeg |
FOV | 28.4 deg |
GrainAmount | 0 |
GreenHue | 0 |
GreenSaturation | 0 |
HasCrop | True |
HasSettings | True |
Highlights2012 | -40 |
HueAdjustmentAqua | 0 |
HueAdjustmentBlue | 0 |
HueAdjustmentGreen | 0 |
HueAdjustmentMagenta | 0 |
HueAdjustmentOrange | 0 |
HueAdjustmentPurple | 0 |
HueAdjustmentRed | 0 |
HueAdjustmentYellow | 0 |
HyperfocalDistance | 41.46 m |
ImageHeight | 4099 |
ImageNumber | 0 |
ImageSize | 6148x4099 |
ImageWidth | 6148 |
ISO | 100 |
LateralChromaticAberrationCorrectionAlreadyApplied | True |
Lens | EF70-200mm f/2.8L IS II USM |
LensID (1) | 251 |
LensID | Canon EF 70-200mm f/2.8L IS II USM |
LensInfo | 70-200mm f/? |
LensManualDistortionAmount | 0 |
LensModel | EF70-200mm f/2.8L IS II USM |
LensProfileChromaticAberrationScale | 100 |
LensProfileDistortionScale | 100 |
LensProfileEnable | 1 |
LensProfileFilename | Canon EOS 5D Mark II (Canon EF 70-200mm f2.8L IS II USM) - RAW.lcp |
LensProfileName | Adobe (Canon EF 70-200mm f/2.8 L IS II USM) |
LensProfileSetup | LensDefaults |
LensProfileVignettingScale | 100 |
LensSerialNumber | 0000829199 |
LightValue | 14.3 |
LuminanceAdjustmentAqua | 0 |
LuminanceAdjustmentBlue | 0 |
LuminanceAdjustmentGreen | 0 |
LuminanceAdjustmentMagenta | 0 |
LuminanceAdjustmentOrange | 0 |
LuminanceAdjustmentPurple | 0 |
LuminanceAdjustmentRed | 0 |
LuminanceAdjustmentYellow | 0 |
LuminanceNoiseReductionContrast | 73 |
LuminanceNoiseReductionDetail | 58 |
LuminanceSmoothing | 75 |
Make | Canon |
MaxApertureValue | 2.8 |
Megapixels | 25.2 |
MeteringMode | Multi-segment |
Model | Canon EOS 6D Mark II |
ModifyDate (1) | 2020:06:06 17:55:20+02:00 |
ModifyDate | 2020:06:06 17:55:20 |
PaintCorrectionActive | true |
PaintCorrectionAmount | 1.000000 |
PaintCorrectionBrightness | 0.000000 |
PaintCorrectionClarity2012 (1) | 0.423207 |
PaintCorrectionClarity2012 (2) | 0.000000 |
PaintCorrectionClarity2012 | 0.189986 |
PaintCorrectionContrast2012 (1) | 0.512607 |
PaintCorrectionContrast2012 (2) | 0.000000 |
PaintCorrectionContrast2012 | 0.342842 |
PaintCorrectionDefringe | 0.000000 |
PaintCorrectionExposure2012 | 0.000000 |
PaintCorrectionHighlights2012 (1) | -0.464933 |
PaintCorrectionHighlights2012 (2) | 0.293968 |
PaintCorrectionHighlights2012 | 0.000000 |
PaintCorrectionHue (2) | 86.332001 |
PaintCorrectionHue | 230.000000 |
PaintCorrectionLocalBlacks2012 (2) | -0.131541 |
PaintCorrectionLocalBlacks2012 | 0.000000 |
PaintCorrectionLocalDehaze | 0.000000 |
PaintCorrectionLocalWhites2012 (1) | 0.000000 |
PaintCorrectionLocalWhites2012 (2) | 0.130087 |
PaintCorrectionLocalWhites2012 | -0.443537 |
PaintCorrectionLuminanceNoise | 0.000000 |
PaintCorrectionMaskCenterWeight | 0.158928 |
PaintCorrectionMaskFlow | 0.482104 |
PaintCorrectionMaskRadius (1) | 0.093287 |
PaintCorrectionMaskRadius (2) | 0.094059 |
PaintCorrectionMaskRadius (3) | 0.092869 |
PaintCorrectionMaskRadius (4) | 0.097421 |
PaintCorrectionMaskRadius (5) | 0.094549 |
PaintCorrectionMaskRadius | 0.096846 |
PaintCorrectionMaskValue | 0.396928 |
PaintCorrectionMaskWhat | Mask/Paint |
PaintCorrectionMoire | 0.000000 |
PaintCorrectionSaturation (1) | 0.420898 |
PaintCorrectionSaturation (2) | 0.500000 |
PaintCorrectionSaturation (3) | 0.573331 |
PaintCorrectionSaturation (4) | 0.754062 |
PaintCorrectionSaturation | 0.000000 |
PaintCorrectionShadows2012 (2) | 0.000000 |
PaintCorrectionShadows2012 | -0.221475 |
PaintCorrectionSharpness | 0.000000 |
PaintCorrectionTemperature | 0.000000 |
PaintCorrectionTint | 0.000000 |
PaintCorrectionWhat | Correction |
ParametricDarks | 0 |
ParametricHighlights | 0 |
ParametricHighlightSplit | 75 |
ParametricLights | 0 |
ParametricMidtoneSplit | 50 |
ParametricShadows | 0 |
ParametricShadowSplit | 25 |
PerspectiveAspect | 0 |
PerspectiveHorizontal | 0 |
PerspectiveRotate | 0.0 |
PerspectiveScale | 100 |
PerspectiveUpright | 1 |
PerspectiveVertical | 0 |
PerspectiveX | 0.00 |
PerspectiveY | 0.00 |
PostCropVignetteAmount | 0 |
ProcessVersion | 6.7 |
ProfileDescription | sRGB IEC61966-2.1 |
RecommendedExposureIndex | 100 |
RedHue | 0 |
RedSaturation | 0 |
Saturation | +8 |
SaturationAdjustmentAqua | 0 |
SaturationAdjustmentBlue | 0 |
SaturationAdjustmentGreen | 0 |
SaturationAdjustmentMagenta | 0 |
SaturationAdjustmentOrange | 0 |
SaturationAdjustmentPurple | 0 |
SaturationAdjustmentRed | 0 |
SaturationAdjustmentYellow | 0 |
ScaleFactor35efl | 1.0 |
SceneCaptureType | Standard |
SensitivityType | Recommended Exposure Index |
SerialNumber | 283052000091 |
Shadows2012 | +15 |
ShadowTint | 0 |
SharpenDetail | 72 |
SharpenEdgeMasking | 0 |
SharpenRadius | +1.9 |
Sharpness | 62 |
ShutterSpeed | 1/1250 |
ShutterSpeedValue | 1/1250 |
Software | Adobe Photoshop Lightroom 6.12 (Macintosh) |
SplitToningBalance | 0 |
SplitToningHighlightHue | 0 |
SplitToningHighlightSaturation | 0 |
SplitToningShadowHue | 0 |
SplitToningShadowSaturation | 0 |
Tint | +16 |
ToneCurve | 0, 0, 255, 255 |
ToneCurveBlue | 0, 0, 255, 255 |
ToneCurveGreen | 0, 0, 255, 255 |
ToneCurveName | Linear |
ToneCurveName2012 | Custom |
ToneCurvePV2012 | 0, 0, 73, 75, 133, 143, 191, 195, 255, 255 |
ToneCurvePV2012Blue | 0, 0, 255, 255 |
ToneCurvePV2012Green | 0, 0, 255, 255 |
ToneCurvePV2012Red | 0, 0, 255, 255 |
ToneCurveRed | 0, 0, 255, 255 |
ToneMapStrength | 0 |
Version | 9.12 |
Vibrance | +7 |
VignetteAmount | 0 |
VignetteCorrectionAlreadyApplied | True |
WhiteBalance (1) | As Shot |
WhiteBalance | Auto |
Whites2012 | -19 |