Felt | Verdi |
AlreadyApplied | True |
Aperture | 8.0 |
ApertureValue | 8.0 |
AutoLateralCA | 0 |
AutoWhiteVersion | 134348800 |
BitsPerSample | 8 |
Blacks2012 | 0 |
BlueHue | 0 |
BlueSaturation | 0 |
BrightnessValue | 7.56 |
CameraProfile | Adobe Standard |
CircleOfConfusion | 0.020 mm |
Clarity2012 | 0 |
ColorComponents | 3 |
ColorNoiseReduction | 25 |
ColorNoiseReductionDetail | 16 |
ColorNoiseReductionSmoothness | 12 |
ColorSpace | sRGB |
ColorTemperature | 5500 |
ColorTransform | YCbCr |
Contrast2012 | +12 |
ConvertToGrayscale | False |
CreateDate | 2020:06:20 10:54:48 |
CreatorTool | Adobe Photoshop Lightroom 5.6 (Macintosh) |
CropAngle | 0 |
CropBottom | 1 |
CropConstrainToWarp | 0 |
CropLeft | 0 |
CropRight | 1 |
CropTop | 0.301687 |
CustomRendered | Normal |
DateCreated (1) | 2020:06:20 |
DateCreated | 2020:06:20 10:54:48 |
DateTimeOriginal | 2020:06:20 10:54:48 |
DefringeGreenAmount | 0 |
DefringeGreenHueHi | 60 |
DefringeGreenHueLo | 40 |
DefringePurpleAmount | 0 |
DefringePurpleHueHi | 70 |
DefringePurpleHueLo | 30 |
Exposure2012 | 0.00 |
ExposureCompensation | 0 |
ExposureMode | Auto |
ExposureProgram | Aperture-priority AE |
ExposureTime | 1/250 |
Flash | No Flash |
FNumber | 8.0 |
FocalLength | 18.0 mm |
FocalLength35efl | 18.0 mm (35 mm equivalent: 27.0 mm) |
FocalLengthIn35mmFormat | 27 mm |
Format | image/jpeg |
FOV | 67.4 deg |
GrainAmount | 0 |
GreenHue | 0 |
GreenSaturation | 0 |
HasCrop | True |
HasSettings | True |
Highlights2012 | -26 |
HueAdjustmentAqua | 0 |
HueAdjustmentBlue | 0 |
HueAdjustmentGreen | 0 |
HueAdjustmentMagenta | 0 |
HueAdjustmentOrange | 0 |
HueAdjustmentPurple | 0 |
HueAdjustmentRed | 0 |
HueAdjustmentYellow | 0 |
HyperfocalDistance | 2.02 m |
ImageHeight | 2793 |
ImageSize | 5999x2793 |
ImageWidth | 5999 |
ISO | 400 |
Lens | XF18-55mmF2.8-4 R LM OIS |
LensInfo | 18-55mm f/2.8-4 |
LensMake | FUJIFILM |
LensManualDistortionAmount | 0 |
LensModel | XF18-55mmF2.8-4 R LM OIS |
LensProfileEnable | 0 |
LensProfileSetup | LensDefaults |
LensSerialNumber | 7CA50248 |
LightSource | Unknown |
LightValue | 12.0 |
LuminanceAdjustmentAqua | 0 |
LuminanceAdjustmentBlue | 0 |
LuminanceAdjustmentGreen | 0 |
LuminanceAdjustmentMagenta | 0 |
LuminanceAdjustmentOrange | 0 |
LuminanceAdjustmentPurple | 0 |
LuminanceAdjustmentRed | 0 |
LuminanceAdjustmentYellow | 0 |
LuminanceSmoothing | 0 |
Make | FUJIFILM |
MaxApertureValue | 2.8 |
Megapixels | 16.8 |
MeteringMode | Multi-segment |
Model | X-T20 |
ModifyDate (1) | 2020:06:20 11:21:33+02:00 |
ModifyDate | 2020:06:20 11:21:33 |
PaintCorrectionActive | true |
PaintCorrectionAmount | 1.000000 |
PaintCorrectionBrightness | 0.000000 |
PaintCorrectionClarity2012 | 0.000000 |
PaintCorrectionContrast2012 | 0.000000 |
PaintCorrectionDefringe | 0.000000 |
PaintCorrectionExposure2012 | -0.592433 |
PaintCorrectionHighlights2012 | 0.041247 |
PaintCorrectionHue | 0.000000 |
PaintCorrectionLuminanceNoise | 0.000000 |
PaintCorrectionMaskCenterWeight | 0.119336 |
PaintCorrectionMaskFlow | 0.430546 |
PaintCorrectionMaskRadius | 0.037462 |
PaintCorrectionMaskValue | 0.528503 |
PaintCorrectionMaskWhat | Mask/Paint |
PaintCorrectionMoire | 0.000000 |
PaintCorrectionSaturation | 0.000000 |
PaintCorrectionShadows2012 | -0.017117 |
PaintCorrectionSharpness | 0.000000 |
PaintCorrectionTemperature | -0.055214 |
PaintCorrectionTint | 0.000000 |
PaintCorrectionWhat | Correction |
ParametricDarks | 0 |
ParametricHighlights | 0 |
ParametricHighlightSplit | 75 |
ParametricLights | 0 |
ParametricMidtoneSplit | 50 |
ParametricShadows | 0 |
ParametricShadowSplit | 25 |
PerspectiveAspect | 0 |
PerspectiveHorizontal | 0 |
PerspectiveRotate | 0.0 |
PerspectiveScale | 100 |
PerspectiveUpright | 0 |
PerspectiveVertical | 0 |
PostCropVignetteAmount | 0 |
ProcessVersion | 6.7 |
ProfileDescription | sRGB IEC61966-2.1 |
RedHue | 0 |
RedSaturation | 0 |
Saturation | +16 |
SaturationAdjustmentAqua | 0 |
SaturationAdjustmentBlue | 0 |
SaturationAdjustmentGreen | 0 |
SaturationAdjustmentMagenta | 0 |
SaturationAdjustmentOrange | 0 |
SaturationAdjustmentPurple | 0 |
SaturationAdjustmentRed | 0 |
SaturationAdjustmentYellow | 0 |
ScaleFactor35efl | 1.5 |
SceneCaptureType | Standard |
SceneType | Directly photographed |
SensingMethod | One-chip color area |
SensitivityType | Standard Output Sensitivity |
SerialNumber | 7CQ16194 |
Shadows2012 | 0 |
ShadowTint | 0 |
SharpenDetail | 33 |
SharpenEdgeMasking | 0 |
SharpenRadius | +0.7 |
Sharpness (1) | 41 |
Sharpness | Normal |
ShutterSpeed | 1/250 |
ShutterSpeedValue | 1/250 |
Software | Adobe Photoshop Lightroom 5.6 (Macintosh) |
SplitToningBalance | 0 |
SplitToningHighlightHue | 0 |
SplitToningHighlightSaturation | 0 |
SplitToningShadowHue | 0 |
SplitToningShadowSaturation | 0 |
SubjectDistanceRange | Unknown |
Tint | +10 |
ToneCurve | 0, 0, 255, 255 |
ToneCurveBlue | 0, 0, 255, 255 |
ToneCurveGreen | 0, 0, 255, 255 |
ToneCurveName | Linear |
ToneCurveName2012 | Linear |
ToneCurvePV2012 | 0, 0, 255, 255 |
ToneCurvePV2012Blue | 0, 0, 255, 255 |
ToneCurvePV2012Green | 0, 0, 255, 255 |
ToneCurvePV2012Red | 0, 0, 255, 255 |
ToneCurveRed | 0, 0, 255, 255 |
Version | 8.6 |
Vibrance | +16 |
VignetteAmount | 0 |
WhiteBalance (1) | Daylight |
WhiteBalance | Auto |
Whites2012 | 0 |