Felt | Verdi |
AlreadyApplied | True |
Aperture | 5.0 |
ApertureValue | 5.0 |
ApproximateFocusDistance | 25.1 |
Artist | SNPhotography |
AutoLateralCA | 1 |
BitsPerSample | 8 |
Blacks2012 | 0 |
BlueHue | 0 |
BlueSaturation | 0 |
By-line | SNPhotography |
CameraProfile | Adobe Standard |
CFAPattern | [Red,Green][Green,Blue] |
CircleOfConfusion | 0.030 mm |
Clarity2012 | +4 |
ColorComponents | 3 |
ColorNoiseReduction | 50 |
ColorNoiseReductionDetail | 50 |
ColorNoiseReductionSmoothness | 50 |
ColorSpace | sRGB |
ColorTemperature | 5200 |
Contrast | Normal |
Contrast2012 | +11 |
ConvertToGrayscale | False |
Copyright | Sindre Nedrevag |
CopyrightNotice | Sindre Nedrevag |
CreateDate (1) | 2020:08:01 23:55:38.25 |
CreateDate | 2020:08:01 23:55:38 |
Creator | SNPhotography |
CreatorTool | Adobe Photoshop Lightroom Classic 9.3 (Windows) |
CropAngle | 0 |
CropBottom | 0.873634 |
CropConstrainToWarp | 0 |
CropLeft | 0.055961 |
CropRight | 0.969992 |
CropTop | 0 |
CustomRendered | Normal |
DateCreated (1) | 2020:08:01 |
DateCreated | 2020:08:01 23:55:38.25 |
DateTimeOriginal | 2020:08:01 23:55:38 |
DefringeGreenAmount | 0 |
DefringeGreenHueHi | 60 |
DefringeGreenHueLo | 40 |
DefringePurpleAmount | 0 |
DefringePurpleHueHi | 70 |
DefringePurpleHueLo | 30 |
Dehaze | 0 |
DigitalZoomRatio | 1 |
DistortionCorrectionAlreadyApplied | True |
DOF | 0.74 m (24.73 - 25.48 m) |
Exposure2012 | +1.00 |
ExposureCompensation | 0 |
ExposureMode | Manual |
ExposureProgram | Manual |
ExposureTime | 1/25 |
Flash | Off, Did not fire |
FNumber | 5.0 |
FocalLength | 500.0 mm |
FocalLength35efl | 500.0 mm (35 mm equivalent: 500.0 mm) |
FocalLengthIn35mmFormat | 500 mm |
Format | image/jpeg |
FOV | 4.1 deg |
GainControl | High gain up |
GrainAmount | 0 |
GreenHue | 0 |
GreenSaturation | 0 |
HasCrop | True |
HasExtendedXMP | D170249CBA904805F64C7DA5948AD5D1 |
HasSettings | True |
Highlights2012 | +5 |
HueAdjustmentAqua | 0 |
HueAdjustmentBlue | 0 |
HueAdjustmentGreen | 0 |
HueAdjustmentMagenta | 0 |
HueAdjustmentOrange | 0 |
HueAdjustmentPurple | 0 |
HueAdjustmentRed | 0 |
HueAdjustmentYellow | 0 |
HyperfocalDistance | 1664.10 m |
ImageHeight | 1633 |
ImageNumber | 6383 |
ImageSize | 2560x1633 |
ImageWidth | 2560 |
ISO | 1000 |
LateralChromaticAberrationCorrectionAlreadyApplied | True |
Lens | 500.0 mm f/4.0 |
LensID (1) | 151 |
LensID | AF-S VR Nikkor 500mm f/4G ED |
LensInfo | 500mm f/4 |
LensManualDistortionAmount | 0 |
LensModel | 500.0 mm f/4.0 |
LensProfileChromaticAberrationScale | 100 |
LensProfileDistortionScale | 100 |
LensProfileEnable | 1 |
LensProfileFilename | NIKON D3X (Nikon AF-S NIKKOR 500mm f4G ED VR) - RAW.lcp |
LensProfileName | Adobe (Nikon AF-S NIKKOR 500mm f/4G ED VR) |
LensProfileSetup | LensDefaults |
LensProfileVignettingScale | 100 |
LightSource | Fine Weather |
LightValue | 6.0 |
LookAmount | 1.000000 |
LookGroup | Profiles |
LookName | Adobe Color |
LookParametersCameraProfile | Adobe Standard |
LookParametersConvertToGrayscale | False |
LookParametersLookTable | E1095149FDB39D7A057BAB208837E2E1 |
LookParametersProcessVersion | 11.0 |
LookParametersToneCurvePV2012 | 0, 0, 22, 16, 40, 35, 127, 127, 224, 230, 240, 246, 255, 255 |
LookParametersToneCurvePV2012Blue | 0, 0, 255, 255 |
LookParametersToneCurvePV2012Green | 0, 0, 255, 255 |
LookParametersToneCurvePV2012Red | 0, 0, 255, 255 |
LookParametersVersion | 12.3 |
LookSupportsAmount | false |
LookSupportsMonochrome | false |
LookSupportsOutputReferred | false |
LuminanceAdjustmentAqua | 0 |
LuminanceAdjustmentBlue | 0 |
LuminanceAdjustmentGreen | 0 |
LuminanceAdjustmentMagenta | 0 |
LuminanceAdjustmentOrange | 0 |
LuminanceAdjustmentPurple | 0 |
LuminanceAdjustmentRed | 0 |
LuminanceAdjustmentYellow | 0 |
LuminanceNoiseReductionContrast | 0 |
LuminanceNoiseReductionDetail | 55 |
LuminanceSmoothing | 5 |
Make | NIKON CORPORATION |
MaxApertureValue | 4.0 |
Megapixels | 4.2 |
MeteringMode | Center-weighted average |
Model | NIKON D750 |
ModifyDate (1) | 2020:08:02 12:26:30+02:00 |
ModifyDate | 2020:08:02 12:26:30 |
Orientation | Horizontal (normal) |
OverrideLookVignette | False |
PaintCorrectionActive | true |
PaintCorrectionAmount | 1.000000 |
PaintCorrectionBrightness | 0.000000 |
PaintCorrectionClarity2012 (1) | 0.000000 |
PaintCorrectionClarity2012 | -0.179490 |
PaintCorrectionContrast2012 | 0.000000 |
PaintCorrectionCorrectionRangeMaskColorAmount | 0.500000 |
PaintCorrectionCorrectionRangeMaskDepthFeather | 0.500000 |
PaintCorrectionCorrectionRangeMaskDepthMax | 1.000000 |
PaintCorrectionCorrectionRangeMaskDepthMin | 0.000000 |
PaintCorrectionCorrectionRangeMaskLumFeather | 0.500000 |
PaintCorrectionCorrectionRangeMaskLumMax | 1.000000 |
PaintCorrectionCorrectionRangeMaskLumMin | 0.000000 |
PaintCorrectionCorrectionRangeMaskType | 0 |
PaintCorrectionCorrectionRangeMaskVersion | +2 |
PaintCorrectionDefringe | 0.000000 |
PaintCorrectionExposure2012 (1) | 0.042500 |
PaintCorrectionExposure2012 (2) | 0.077000 |
PaintCorrectionExposure2012 | 0.000000 |
PaintCorrectionHighlights2012 (2) | 0.111110 |
PaintCorrectionHighlights2012 | 0.000000 |
PaintCorrectionHue | 0.000000 |
PaintCorrectionLocalBlacks2012 | 0.000000 |
PaintCorrectionLocalDehaze | 0.000000 |
PaintCorrectionLocalHue | 0.000000 |
PaintCorrectionLocalTexture (2) | -0.282050 |
PaintCorrectionLocalTexture | 0.000000 |
PaintCorrectionLocalWhites2012 | 0.000000 |
PaintCorrectionLuminanceNoise (1) | 0.000000 |
PaintCorrectionLuminanceNoise (2) | 0.196580 |
PaintCorrectionLuminanceNoise | 0.418800 |
PaintCorrectionMaskCenterWeight (101) | 0.075854 |
PaintCorrectionMaskCenterWeight | 0.050711 |
PaintCorrectionMaskFlow (115) | 0.831000 |
PaintCorrectionMaskFlow (56) | 0.800000 |
PaintCorrectionMaskFlow | 1.000000 |
PaintCorrectionMaskRadius (10) | 0.011085 |
PaintCorrectionMaskRadius (100) | 0.010345 |
PaintCorrectionMaskRadius (101) | 0.000950 |
PaintCorrectionMaskRadius (11) | 0.007711 |
PaintCorrectionMaskRadius (111) | 0.000327 |
PaintCorrectionMaskRadius (124) | 0.001769 |
PaintCorrectionMaskRadius (13) | 0.007712 |
PaintCorrectionMaskRadius (16) | 0.007726 |
PaintCorrectionMaskRadius (17) | 0.007725 |
PaintCorrectionMaskRadius (19) | 0.021485 |
PaintCorrectionMaskRadius (20) | 0.021481 |
PaintCorrectionMaskRadius (21) | 0.017939 |
PaintCorrectionMaskRadius (22) | 0.011053 |
PaintCorrectionMaskRadius (25) | 0.011077 |
PaintCorrectionMaskRadius (26) | 0.011072 |
PaintCorrectionMaskRadius (27) | 0.011075 |
PaintCorrectionMaskRadius (28) | 0.007708 |
PaintCorrectionMaskRadius (30) | 0.007719 |
PaintCorrectionMaskRadius (31) | 0.007714 |
PaintCorrectionMaskRadius (36) | 0.011058 |
PaintCorrectionMaskRadius (37) | 0.014467 |
PaintCorrectionMaskRadius (38) | 0.014470 |
PaintCorrectionMaskRadius (40) | 0.014469 |
PaintCorrectionMaskRadius (41) | 0.007709 |
PaintCorrectionMaskRadius (42) | 0.007724 |
PaintCorrectionMaskRadius (43) | 0.007718 |
PaintCorrectionMaskRadius (44) | 0.007735 |
PaintCorrectionMaskRadius (45) | 0.007734 |
PaintCorrectionMaskRadius (47) | 0.007720 |
PaintCorrectionMaskRadius (48) | 0.011073 |
PaintCorrectionMaskRadius (49) | 0.011088 |
PaintCorrectionMaskRadius (50) | 0.007713 |
PaintCorrectionMaskRadius (51) | 0.003538 |
PaintCorrectionMaskRadius (52) | 0.003539 |
PaintCorrectionMaskRadius (53) | 0.021559 |
PaintCorrectionMaskRadius (54) | 0.021562 |
PaintCorrectionMaskRadius (55) | 0.017995 |
PaintCorrectionMaskRadius (56) | 0.018014 |
PaintCorrectionMaskRadius (57) | 0.017942 |
PaintCorrectionMaskRadius (58) | 0.004432 |
PaintCorrectionMaskRadius (59) | 0.011076 |
PaintCorrectionMaskRadius (6) | 0.011054 |
PaintCorrectionMaskRadius (60) | 0.014478 |
PaintCorrectionMaskRadius (61) | 0.014474 |
PaintCorrectionMaskRadius (62) | 0.014472 |
PaintCorrectionMaskRadius (63) | 0.014475 |
PaintCorrectionMaskRadius (65) | 0.011092 |
PaintCorrectionMaskRadius (66) | 0.011103 |
PaintCorrectionMaskRadius (67) | 0.011055 |
PaintCorrectionMaskRadius (68) | 0.011056 |
PaintCorrectionMaskRadius (7) | 0.011062 |
PaintCorrectionMaskRadius (70) | 0.006215 |
PaintCorrectionMaskRadius (71) | 0.004747 |
PaintCorrectionMaskRadius (72) | 0.004748 |
PaintCorrectionMaskRadius (73) | 0.004750 |
PaintCorrectionMaskRadius (74) | 0.006244 |
PaintCorrectionMaskRadius (76) | 0.005084 |
PaintCorrectionMaskRadius (77) | 0.003545 |
PaintCorrectionMaskRadius (78) | 0.005094 |
PaintCorrectionMaskRadius (79) | 0.005091 |
PaintCorrectionMaskRadius (8) | 0.011060 |
PaintCorrectionMaskRadius (80) | 0.005090 |
PaintCorrectionMaskRadius (81) | 0.005095 |
PaintCorrectionMaskRadius (82) | 0.005102 |
PaintCorrectionMaskRadius (83) | 0.005097 |
PaintCorrectionMaskRadius (84) | 0.005088 |
PaintCorrectionMaskRadius (85) | 0.006246 |
PaintCorrectionMaskRadius (88) | 0.006644 |
PaintCorrectionMaskRadius (89) | 0.033739 |
PaintCorrectionMaskRadius (9) | 0.011065 |
PaintCorrectionMaskRadius (90) | 0.033708 |
PaintCorrectionMaskRadius (91) | 0.018519 |
PaintCorrectionMaskRadius (92) | 0.018482 |
PaintCorrectionMaskRadius (93) | 0.016708 |
PaintCorrectionMaskRadius (94) | 0.016716 |
PaintCorrectionMaskRadius (95) | 0.035867 |
PaintCorrectionMaskRadius (96) | 0.022055 |
PaintCorrectionMaskRadius (97) | 0.018030 |
PaintCorrectionMaskRadius (98) | 0.010395 |
PaintCorrectionMaskRadius (99) | 0.010397 |
PaintCorrectionMaskRadius | 0.022284 |
PaintCorrectionMaskValue (110) | 0.000000 |
PaintCorrectionMaskValue | 1.000000 |
PaintCorrectionMaskWhat | Mask/Paint |
PaintCorrectionMoire | 0.000000 |
PaintCorrectionSaturation | 0.000000 |
PaintCorrectionShadows2012 | 0.000000 |
PaintCorrectionSharpness | 0.000000 |
PaintCorrectionTemperature | 0.000000 |
PaintCorrectionTint | 0.000000 |
PaintCorrectionWhat | Correction |
ParametricDarks | 0 |
ParametricHighlights | 0 |
ParametricHighlightSplit | 75 |
ParametricLights | +12 |
ParametricMidtoneSplit | 50 |
ParametricShadows | +6 |
ParametricShadowSplit | 25 |
PerspectiveAspect | 0 |
PerspectiveHorizontal | 0 |
PerspectiveRotate | 0.0 |
PerspectiveScale | 135 |
PerspectiveUpright | 0 |
PerspectiveVertical | 0 |
PerspectiveX | 0.00 |
PerspectiveY | 0.00 |
PostCropVignetteAmount | 0 |
PreservedFileName | SAN_6226.NEF |
ProcessVersion | 11.0 |
ProfileDescription | sRGB IEC61966-2.1 |
RawFileName | SAN_6226.NEF |
RedHue | 0 |
RedSaturation | 0 |
Rights | Sindre Nedrevag |
Saturation (1) | 0 |
Saturation | Normal |
SaturationAdjustmentAqua | 0 |
SaturationAdjustmentBlue | 0 |
SaturationAdjustmentGreen | 0 |
SaturationAdjustmentMagenta | 0 |
SaturationAdjustmentOrange | 0 |
SaturationAdjustmentPurple | 0 |
SaturationAdjustmentRed | 0 |
SaturationAdjustmentYellow | 0 |
ScaleFactor35efl | 1.0 |
SceneCaptureType | Standard |
SceneType | Directly photographed |
SensingMethod | One-chip color area |
SensitivityType | Recommended Exposure Index |
SerialNumber | 6145564 |
Shadows2012 | 0 |
ShadowTint | 0 |
SharpenDetail | 35 |
SharpenEdgeMasking | 45 |
SharpenRadius | +1.0 |
Sharpness (1) | 65 |
Sharpness | Normal |
ShutterSpeed | 1/25 |
ShutterSpeedValue | 1/25 |
Software | Adobe Photoshop Lightroom Classic 9.3 (Windows) |
SplitToningBalance | 0 |
SplitToningHighlightHue | 0 |
SplitToningHighlightSaturation | 0 |
SplitToningShadowHue | 0 |
SplitToningShadowSaturation | 0 |
SubjectDistanceRange | Unknown |
Texture | +5 |
Tint | +7 |
ToneCurve | 0, 0, 255, 255 |
ToneCurveBlue | 0, 0, 255, 255 |
ToneCurveGreen | 0, 0, 255, 255 |
ToneCurveName | Linear |
ToneCurveName2012 | Linear |
ToneCurvePV2012 | 0, 0, 255, 255 |
ToneCurvePV2012Blue | 0, 0, 255, 255 |
ToneCurvePV2012Green | 0, 0, 255, 255 |
ToneCurvePV2012Red | 0, 0, 255, 255 |
ToneCurveRed | 0, 0, 255, 255 |
ToneMapStrength | 0 |
Version | 12.3 |
Vibrance | 0 |
VignetteAmount | 0 |
VignetteCorrectionAlreadyApplied | True |
WhiteBalance (1) | Custom |
WhiteBalance | Manual |
Whites2012 | +4 |