Felt | Verdi |
AlreadyApplied | True |
Aperture | 6.3 |
ApertureValue | 6.3 |
ApproximateFocusDistance | 0.37 |
AutoLateralCA | 0 |
BitsPerSample (1) | 8 8 8 8 |
BitsPerSample | 8 |
Blacks2012 | -52 |
BlueHue | 0 |
BlueSaturation | 0 |
CameraProfile | Embedded |
CircleOfConfusion | 0.025 mm |
Clarity2012 | +100 |
ColorComponents | 1 |
ColorMode | Grayscale |
ColorNoiseReduction | 0 |
ColorSpace | Uncalibrated |
ColorTransform | Unknown (RGB or CMYK) |
Contrast2012 | -23 |
ConvertToGrayscale | True |
CreateDate | 2019:11:16 13:51:11 |
CreatorTool | Adobe Photoshop 21.0 (Windows) |
CropAngle | 0 |
CropBottom | 0.956607 |
CropConstrainToWarp | 1 |
CropLeft | 0.072273 |
CropRight | 0.954008 |
CropTop | 0 |
CustomRendered | Normal |
DateCreated (1) | 2019:11:16 |
DateCreated | 2019:11:16 13:51:11.026+01:00 |
DateTimeOriginal | 2019:11:16 13:51:11 |
Dehaze | +55 |
DOF | 0.23 m (0.29 - 0.52 m) |
ExifImageHeight | 1736 |
ExifImageWidth | 2400 |
Exposure2012 | -0.20 |
ExposureCompensation | 0 |
ExposureMode | Auto |
ExposureProgram | Aperture-priority AE |
ExposureTime | 1/125 |
Firmware | 1.1.2 |
Flash | Off, Did not fire |
FlashCompensation | 0 |
FNumber | 6.3 |
FocalLength | 14.0 mm |
FocalLength35efl | 14.0 mm (35 mm equivalent: 16.9 mm) |
Format | image/jpeg |
FOV | 93.6 deg |
GrainAmount | 0 |
GrayMixerAqua | 0 |
GrayMixerBlue | 0 |
GrayMixerGreen | 0 |
GrayMixerMagenta | 0 |
GrayMixerOrange | 0 |
GrayMixerPurple | 0 |
GrayMixerRed | 0 |
GrayMixerYellow | 0 |
GreenHue | 0 |
GreenSaturation | 0 |
HasCrop | True |
HasSettings | True |
Highlights2012 | -100 |
HyperfocalDistance | 1.25 m |
ICCProfileName | Gray Gamma 2.2 |
ImageHeight (1) | 4285 |
ImageHeight | 1736 |
ImageNumber | 0 |
ImageSize | 2400x1736 |
ImageWidth (1) | 5925 |
ImageWidth | 2400 |
IncrementalTemperature | -8 |
IncrementalTint | 0 |
ISO | 250 |
Lens | EF14mm f/2.8L II USM |
LensID (1) | 247 |
LensID | Canon EF 14mm f/2.8L II USM |
LensInfo | 14mm f/? |
LensManualDistortionAmount | 0 |
LensModel | EF14mm f/2.8L II USM |
LensProfileEnable | 0 |
LensProfileSetup | LensDefaults |
LensSerialNumber | 000040711b |
LightValue | 11.0 |
LuminanceSmoothing | 0 |
Make | Canon |
MaxApertureValue | 2.8 |
Megapixels | 4.2 |
MeteringMode | Multi-segment |
Model | Canon EOS 5D Mark IV |
ModifyDate (1) | 2020:08:04 16:54:52+02:00 |
ModifyDate | 2020:08:04 16:54:52 |
Orientation | Horizontal (normal) |
OverrideLookVignette | False |
ParametricDarks | 0 |
ParametricHighlights | 0 |
ParametricHighlightSplit | 75 |
ParametricLights | 0 |
ParametricMidtoneSplit | 50 |
ParametricShadows | 0 |
ParametricShadowSplit | 25 |
PerspectiveAspect | 0 |
PerspectiveHorizontal | 0 |
PerspectiveRotate | 0.0 |
PerspectiveScale | 100 |
PerspectiveUpright | 0 |
PerspectiveVertical | 0 |
PerspectiveX | 0.00 |
PerspectiveY | 0.00 |
PhotometricInterpretation | BlackIsZero |
PostCropVignetteAmount | 0 |
ProcessVersion | 11.0 |
ProfileDescription | Gray Gamma 2.2 |
Rating | 0 |
RecommendedExposureIndex | 250 |
RedHue | 0 |
RedSaturation | 0 |
SamplesPerPixel | 4 |
ScaleFactor35efl | 1.2 |
SceneCaptureType | Standard |
SensitivityType | Recommended Exposure Index |
SerialNumber | 093055002236 |
Shadows2012 | +6 |
ShadowTint | 0 |
SharpenDetail | 25 |
SharpenEdgeMasking | 0 |
SharpenRadius | +1.0 |
Sharpness | 0 |
ShutterSpeed | 1/125 |
ShutterSpeedValue | 1/125 |
Software | Adobe Photoshop 21.0 (Windows) |
SplitToningBalance | 0 |
SplitToningHighlightHue | 0 |
SplitToningHighlightSaturation | 0 |
SplitToningShadowHue | 0 |
SplitToningShadowSaturation | 0 |
Texture | +33 |
ToneCurve | 0, 0, 255, 255 |
ToneCurveBlue | 0, 0, 255, 255 |
ToneCurveGreen | 0, 0, 255, 255 |
ToneCurveName | Linear |
ToneCurveName2012 | Linear |
ToneCurvePV2012 | 0, 0, 255, 255 |
ToneCurvePV2012Blue | 0, 0, 255, 255 |
ToneCurvePV2012Green | 0, 0, 255, 255 |
ToneCurvePV2012Red | 0, 0, 255, 255 |
ToneCurveRed | 0, 0, 255, 255 |
ToneMapStrength | 0 |
URL_List | |
Version | 12.2 |
VignetteAmount | 0 |
WhiteBalance (1) | Custom |
WhiteBalance | Manual |
Whites2012 | +28 |