Felt | Verdi |
AlreadyApplied | True |
Aperture | 2.8 |
ApertureValue | 2.8 |
ApproximateFocusDistance | 4294967295 |
AutoLateralCA | 0 |
BitsPerSample | 8 |
Blacks2012 | +33 |
BlueHue | 0 |
BlueSaturation | 0 |
CameraProfile | Adobe Standard v2 |
CircGradBasedCorrActive | true |
CircGradBasedCorrAmount | 1.000000 |
CircGradBasedCorrBrightness | 0.000000 |
CircGradBasedCorrClarity2012 (10) | 0.565220 |
CircGradBasedCorrClarity2012 | 0.000000 |
CircGradBasedCorrContrast2012 (2) | -0.070180 |
CircGradBasedCorrContrast2012 | 0.000000 |
CircGradBasedCorrCorrectionRangeMaskColorAmount | 0.500000 |
CircGradBasedCorrCorrectionRangeMaskDepthFeather | 0.500000 |
CircGradBasedCorrCorrectionRangeMaskDepthMax | 1.000000 |
CircGradBasedCorrCorrectionRangeMaskDepthMin | 0.000000 |
CircGradBasedCorrCorrectionRangeMaskLumFeather | 0.500000 |
CircGradBasedCorrCorrectionRangeMaskLumMax | 1.000000 |
CircGradBasedCorrCorrectionRangeMaskLumMin | 0.000000 |
CircGradBasedCorrCorrectionRangeMaskType | 0 |
CircGradBasedCorrCorrectionRangeMaskVersion | +2 |
CircGradBasedCorrDefringe | 0.000000 |
CircGradBasedCorrExposure2012 (10) | 0.152250 |
CircGradBasedCorrExposure2012 (7) | 0.282500 |
CircGradBasedCorrExposure2012 (8) | 0.195750 |
CircGradBasedCorrExposure2012 | 0.000000 |
CircGradBasedCorrHighlights2012 (6) | 0.000000 |
CircGradBasedCorrHighlights2012 | 0.608700 |
CircGradBasedCorrHue | 0.000000 |
CircGradBasedCorrLocalBlacks2012 (1) | 0.326090 |
CircGradBasedCorrLocalBlacks2012 (3) | -0.043480 |
CircGradBasedCorrLocalBlacks2012 (4) | -0.630430 |
CircGradBasedCorrLocalBlacks2012 (5) | 0.108700 |
CircGradBasedCorrLocalBlacks2012 | 0.100780 |
CircGradBasedCorrLocalDehaze (3) | 0.760870 |
CircGradBasedCorrLocalDehaze | 0.000000 |
CircGradBasedCorrLocalHue | 0.000000 |
CircGradBasedCorrLocalTexture | 0.000000 |
CircGradBasedCorrLocalWhites2012 (1) | 0.173910 |
CircGradBasedCorrLocalWhites2012 (10) | 0.175440 |
CircGradBasedCorrLocalWhites2012 (11) | 0.000000 |
CircGradBasedCorrLocalWhites2012 (13) | 0.228070 |
CircGradBasedCorrLocalWhites2012 (14) | 0.122810 |
CircGradBasedCorrLocalWhites2012 (15) | 0.087720 |
CircGradBasedCorrLocalWhites2012 (17) | -0.035090 |
CircGradBasedCorrLocalWhites2012 (2) | 0.105260 |
CircGradBasedCorrLocalWhites2012 (3) | -0.260870 |
CircGradBasedCorrLocalWhites2012 (5) | 0.608700 |
CircGradBasedCorrLocalWhites2012 (9) | 0.130430 |
CircGradBasedCorrLocalWhites2012 | 0.434780 |
CircGradBasedCorrLuminanceNoise | 0.000000 |
CircGradBasedCorrMaskAngle (10) | 3.875060 |
CircGradBasedCorrMaskAngle (11) | 4.312660 |
CircGradBasedCorrMaskAngle (13) | 8.766540 |
CircGradBasedCorrMaskAngle (15) | 10.889600 |
CircGradBasedCorrMaskAngle (2) | -10.241200 |
CircGradBasedCorrMaskAngle (4) | -23.919100 |
CircGradBasedCorrMaskAngle (7) | 6.150650 |
CircGradBasedCorrMaskAngle (8) | -3.807890 |
CircGradBasedCorrMaskAngle | 0.000000 |
CircGradBasedCorrMaskBottom (1) | 0.591636 |
CircGradBasedCorrMaskBottom (10) | 0.488841 |
CircGradBasedCorrMaskBottom (11) | 0.704376 |
CircGradBasedCorrMaskBottom (12) | 0.587165 |
CircGradBasedCorrMaskBottom (13) | 0.493742 |
CircGradBasedCorrMaskBottom (14) | 0.524539 |
CircGradBasedCorrMaskBottom (15) | 0.450922 |
CircGradBasedCorrMaskBottom (16) | 0.334895 |
CircGradBasedCorrMaskBottom (17) | 0.383332 |
CircGradBasedCorrMaskBottom (2) | 0.656138 |
CircGradBasedCorrMaskBottom (3) | 0.773080 |
CircGradBasedCorrMaskBottom (4) | 1.038930 |
CircGradBasedCorrMaskBottom (5) | 0.897833 |
CircGradBasedCorrMaskBottom (6) | 0.494254 |
CircGradBasedCorrMaskBottom (7) | 0.690342 |
CircGradBasedCorrMaskBottom (8) | 0.674393 |
CircGradBasedCorrMaskBottom (9) | 0.514247 |
CircGradBasedCorrMaskBottom | 0.975269 |
CircGradBasedCorrMaskFeather | +50 |
CircGradBasedCorrMaskFlipped | true |
CircGradBasedCorrMaskLeft (1) | 0.320014 |
CircGradBasedCorrMaskLeft (10) | 0.260657 |
CircGradBasedCorrMaskLeft (11) | 0.721000 |
CircGradBasedCorrMaskLeft (12) | 0.043644 |
CircGradBasedCorrMaskLeft (13) | 0.070078 |
CircGradBasedCorrMaskLeft (14) | 0.125073 |
CircGradBasedCorrMaskLeft (15) | 0.136737 |
CircGradBasedCorrMaskLeft (16) | 0.046724 |
CircGradBasedCorrMaskLeft (17) | 0.066036 |
CircGradBasedCorrMaskLeft (2) | 0.401692 |
CircGradBasedCorrMaskLeft (3) | 0.261376 |
CircGradBasedCorrMaskLeft (4) | -0.441688 |
CircGradBasedCorrMaskLeft (5) | 0.718738 |
CircGradBasedCorrMaskLeft (6) | 0.057362 |
CircGradBasedCorrMaskLeft (7) | 0.372971 |
CircGradBasedCorrMaskLeft (8) | -0.025825 |
CircGradBasedCorrMaskLeft (9) | 0.647770 |
CircGradBasedCorrMaskLeft | 0.511992 |
CircGradBasedCorrMaskMidpoint | +50 |
CircGradBasedCorrMaskRight (1) | 0.404659 |
CircGradBasedCorrMaskRight (10) | 0.273132 |
CircGradBasedCorrMaskRight (11) | 0.821590 |
CircGradBasedCorrMaskRight (12) | 0.063762 |
CircGradBasedCorrMaskRight (13) | 0.105113 |
CircGradBasedCorrMaskRight (14) | 0.149250 |
CircGradBasedCorrMaskRight (15) | 0.166907 |
CircGradBasedCorrMaskRight (16) | 0.057664 |
CircGradBasedCorrMaskRight (17) | 0.084056 |
CircGradBasedCorrMaskRight (2) | 0.683414 |
CircGradBasedCorrMaskRight (3) | 0.451492 |
CircGradBasedCorrMaskRight (4) | 0.672704 |
CircGradBasedCorrMaskRight (5) | 1.058160 |
CircGradBasedCorrMaskRight (6) | 0.119845 |
CircGradBasedCorrMaskRight (7) | 0.595560 |
CircGradBasedCorrMaskRight (8) | 0.266282 |
CircGradBasedCorrMaskRight (9) | 0.697697 |
CircGradBasedCorrMaskRight | 0.793094 |
CircGradBasedCorrMaskRoundness | 0 |
CircGradBasedCorrMaskTop (1) | 0.367072 |
CircGradBasedCorrMaskTop (10) | 0.411880 |
CircGradBasedCorrMaskTop (11) | 0.656844 |
CircGradBasedCorrMaskTop (12) | 0.554434 |
CircGradBasedCorrMaskTop (13) | 0.472317 |
CircGradBasedCorrMaskTop (14) | 0.494670 |
CircGradBasedCorrMaskTop (15) | 0.433535 |
CircGradBasedCorrMaskTop (16) | 0.327741 |
CircGradBasedCorrMaskTop (17) | 0.361368 |
CircGradBasedCorrMaskTop (2) | 0.559858 |
CircGradBasedCorrMaskTop (3) | 0.638327 |
CircGradBasedCorrMaskTop (4) | 0.287028 |
CircGradBasedCorrMaskTop (5) | -0.064557 |
CircGradBasedCorrMaskTop (6) | 0.373966 |
CircGradBasedCorrMaskTop (7) | 0.553662 |
CircGradBasedCorrMaskTop (8) | 0.611047 |
CircGradBasedCorrMaskTop (9) | 0.333357 |
CircGradBasedCorrMaskTop | 0.697461 |
CircGradBasedCorrMaskValue | 1.000000 |
CircGradBasedCorrMaskVersion | +2 |
CircGradBasedCorrMaskWhat | Mask/CircularGradient |
CircGradBasedCorrMoire | 0.000000 |
CircGradBasedCorrSaturation (19) | 0.379840 |
CircGradBasedCorrSaturation | 0.000000 |
CircGradBasedCorrShadows2012 (11) | 0.434780 |
CircGradBasedCorrShadows2012 (13) | 0.304350 |
CircGradBasedCorrShadows2012 (14) | 0.326090 |
CircGradBasedCorrShadows2012 (15) | 0.565220 |
CircGradBasedCorrShadows2012 (16) | 0.543480 |
CircGradBasedCorrShadows2012 (17) | 0.521740 |
CircGradBasedCorrShadows2012 (6) | 0.673910 |
CircGradBasedCorrShadows2012 | 0.000000 |
CircGradBasedCorrSharpness | 0.000000 |
CircGradBasedCorrTemperature | 0.000000 |
CircGradBasedCorrTint | 0.000000 |
CircGradBasedCorrWhat | Correction |
CircleOfConfusion | 0.007 mm |
Clarity2012 | +36 |
ColorComponents | 3 |
ColorNoiseReduction | 25 |
ColorNoiseReductionDetail | 50 |
ColorNoiseReductionSmoothness | 50 |
ColorSpace | sRGB |
ColorTemperature | 5200 |
ColorTransform | YCbCr |
Contrast2012 | 0 |
ConvertToGrayscale | True |
CreateDate (1) | 2020:05:24 10:07:02.80+01:00 |
CreateDate | 2020:05:24 10:07:02 |
CreatorTool | Adobe Photoshop Lightroom Classic 9.4 (Windows) |
CropAngle | 0 |
CropBottom | 1 |
CropConstrainToWarp | 0 |
CropLeft | 0 |
CropRight | 1 |
CropTop | 0.093197 |
CustomRendered | Normal |
DateCreated (1) | 2020:05:24 |
DateCreated | 2020:05:24 10:07:02.80+01:00 |
DateTimeOriginal | 2020:05:24 10:07:02 |
Dehaze | 0 |
DistortionCorrectionAlreadyApplied | True |
DOF | inf (12.72 m - inf) |
Exposure2012 | -1.19 |
ExposureCompensation | 0 |
ExposureMode | Manual |
ExposureProgram | Manual |
ExposureTime | 1/160 |
Firmware | 1.0.0 |
Flash | No Flash |
FlashCompensation | 0 |
FNumber | 2.8 |
FocalLength | 16.0 mm |
FocalLength35efl | 16.0 mm (35 mm equivalent: 66.9 mm) |
Format | image/jpeg |
FOV | 30.1 deg |
GrainAmount | 0 |
GrayMixerAqua | 0 |
GrayMixerBlue | 0 |
GrayMixerGreen | 0 |
GrayMixerMagenta | 0 |
GrayMixerOrange | 0 |
GrayMixerPurple | 0 |
GrayMixerRed | 0 |
GrayMixerYellow | 0 |
GreenHue | 0 |
GreenSaturation | 0 |
HasCrop | True |
HasSettings | True |
Highlights2012 | 0 |
HyperfocalDistance | 12.72 m |
ImageHeight | 1000 |
ImageNumber | 0 |
ImageSize | 1654x1000 |
ImageWidth | 1654 |
ISO | 3200 |
Lens | EF16-35mm f/2.8L II USM |
LensID (1) | 246 |
LensID | Canon EF 16-35mm f/2.8L II USM |
LensInfo | 16-35mm f/? |
LensManualDistortionAmount | 0 |
LensModel | EF16-35mm f/2.8L II USM |
LensProfileChromaticAberrationScale | 100 |
LensProfileDistortionScale | 100 |
LensProfileEnable | 1 |
LensProfileFilename | Canon EOS 5D Mark II (Canon EF 16-35mm f2.8 L II USM) - RAW.lcp |
LensProfileIsEmbedded | False |
LensProfileName | Adobe (Canon EF 16-35mm f/2.8 L II USM) |
LensProfileSetup | LensDefaults |
LensProfileVignettingScale | 100 |
LensSerialNumber | 0000000000 |
LightValue | 5.3 |
LookAmount | 1.000000 |
LookGroup | Profiles |
LookName | Adobe Monochrome |
LookParametersCameraProfile | Adobe Standard |
LookParametersClarity2012 | +8 |
LookParametersConvertToGrayscale | True |
LookParametersLookTable | 73ED6C18DDE909DD7EA2D771F5AC282D |
LookParametersProcessVersion | 11.0 |
LookParametersToneCurvePV2012 | 0, 0, 64, 56, 128, 128, 192, 197, 255, 255 |
LookParametersToneCurvePV2012Blue | 0, 0, 255, 255 |
LookParametersToneCurvePV2012Green | 0, 0, 255, 255 |
LookParametersToneCurvePV2012Red | 0, 0, 255, 255 |
LookParametersVersion | 12.4 |
LookSupportsAmount | false |
LookSupportsMonochrome | false |
LookSupportsOutputReferred | false |
LuminanceSmoothing | 0 |
Make | Canon |
MaxApertureValue | 2.8 |
Megapixels | 1.7 |
MeteringMode | Partial |
Model | Canon EOS R |
ModifyDate (1) | 2020:10:22 18:41:03+02:00 |
ModifyDate | 2020:10:22 18:41:03 |
OverrideLookVignette | False |
ParametricDarks | 0 |
ParametricHighlights | 0 |
ParametricHighlightSplit | 75 |
ParametricLights | 0 |
ParametricMidtoneSplit | 50 |
ParametricShadows | 0 |
ParametricShadowSplit | 25 |
PerspectiveAspect | 0 |
PerspectiveHorizontal | 0 |
PerspectiveRotate | 0.0 |
PerspectiveScale | 100 |
PerspectiveUpright | 5 |
PerspectiveVertical | 0 |
PerspectiveX | 0.00 |
PerspectiveY | 0.00 |
PostCropVignetteAmount | 0 |
PreservedFileName | IMGL3866.CR3 |
ProcessVersion | 11.0 |
ProfileDescription | sRGB IEC61966-2.1 |
RawFileName | IMGL3866.CR3 |
RecommendedExposureIndex | 3200 |
RedHue | 0 |
RedSaturation | 0 |
ScaleFactor35efl | 4.2 |
SceneCaptureType | Standard |
SensitivityType | Recommended Exposure Index |
SerialNumber | 043021000707 |
Shadows2012 | +33 |
ShadowTint | 0 |
SharpenDetail | 25 |
SharpenEdgeMasking | 0 |
SharpenRadius | +1.0 |
Sharpness | 40 |
ShutterSpeed | 1/160 |
ShutterSpeedValue | 1/160 |
Software | Adobe Photoshop Lightroom Classic 9.4 (Windows) |
SplitToningBalance | 0 |
SplitToningHighlightHue | 0 |
SplitToningHighlightSaturation | 0 |
SplitToningShadowHue | 0 |
SplitToningShadowSaturation | 0 |
Texture | 0 |
Tint | +44 |
ToneCurve | 0, 0, 255, 255 |
ToneCurveBlue | 0, 0, 255, 255 |
ToneCurveGreen | 0, 0, 255, 255 |
ToneCurveName | Linear |
ToneCurveName2012 | Linear |
ToneCurvePV2012 | 0, 0, 255, 255 |
ToneCurvePV2012Blue | 0, 0, 255, 255 |
ToneCurvePV2012Green | 0, 0, 255, 255 |
ToneCurvePV2012Red | 0, 0, 255, 255 |
ToneCurveRed | 0, 0, 255, 255 |
ToneMapStrength | 0 |
Version | 12.4 |
VignetteAmount | 0 |
VignetteCorrectionAlreadyApplied | True |
WhiteBalance (1) | As Shot |
WhiteBalance | Auto |
Whites2012 | 0 |