Felt | Verdi |
# Brightness and Contrast
# Crop
# CropFixup
# DigitalCameraNoiseRemoval
# PicToPainting_PicToPainting
# Resize
'AdjLargeDetails': 50,
'AdjMediumDetails': 50,
'AdjSmallDetails': 50,
'AdvancedMode': True,
'Art': None
'AspectRatio': 1.29571,
'AutoFit': False
'BackgroundMaterial':
'Blending': 86.1,
'Brightness': 0,
'BrightnessContrast':
'BrightnessNew': 11,
'Color': (255,255,255),
'Contrast': 0,
'ContrastNew': 0,
'CropAsNewImage': False,
'CropImage': False,
'CropRect': ((72,91), 4408, 3402),
'CurrentDimensionUnits': App.Constants.UnitsOfMeasure.Pixels,
'CurrentResolutionUnits': App.Constants.ResolutionUnits.PixelsPerIn,
'DefaultProperties': [(1097690740,1433302086,0,(1,r'''Y3JQIwAAAAAAAElA''')),(1885499472,1701737837,0,(
'Enable_GPU': True
'Gradient': None,
'Handle1': (0.2,0.2),
'Handle2': (0.779839,0.190828),
'Handle3': (0.8,0.8),
'Handle4': (0.2,0.8),
'Height': 1544,
'Hue': 0,
'LargeDetails': 35.6,
'LockDetailSettings': True,
'MaintainAspectRatio': True,
'MaximalLuminance': -1
'MediumDetails': 35.6,
'MinimalLuminance': -1,
'Mode': App.Constants.CropMode.Custom,
'MODEL': 1,
'Noise_Level': 0,
'Noise_Slider': 0,
'NoiseColorAdjustment': ([4,2520,201,2520],),
'NoiseEstimates': ([2,51,71,1.73542,0.87653,2.27683,1.27391,1.14674,0.665881,1.87163,1.06484,0.553538,
'OneSide_Active': 0,
'OneSide_LongWidth': 2240,
'OneSide_ShortHeight': 1728,
'OneSide_Type': 0,
'OneSide_Unit': App.Constants.UnitsOfMeasure.Pixels,
'Pattern': None,
'PrintHeight': -1,
'PrintWidth': -1,
'Range': 0,
'Resample': True,
'ResampleType': 1,
'ResizeAllLayers': True,
'ResizeType': 0,
'Resolution': 72,
'RotationAngle': -0,
'SelectedArea': False,
'Sharpening': 28.7,
'SharpnessValue': 50,
'SmallDetails': 35.6,
'Texture': None,
'Units': App.Constants.CropUnits.Inches,
'UseLinearBC': False
'Width': 2000,
,0.221156,0.396982,0.249271],),
0.337664,1.03294,0.751942,1.06525,0.872332,1.23949,0.937308,1.45494,0.905974,1.7453,1.09518,0.822128,
0.454501,1.03812,0.548155,0.555543,0.351306,0.700976,0.463543,0.689481,0.404054,0.67801,0.417789,0.461574
1,r'''RG9vbTFEb20='''))]
26.11.2020 22:49:39 # File 'P2120040_DxO.jpg' saved.
26.11.2020 23:48:36 # File 'painting.jpg' saved.
AlreadyApplied | True |
Aperture | 1.7 |
ApertureValue | 1.7 |
ApproximateFocusDistance | 4294967295 |
Artist | Torstein Hall_ |
AutoLateralCA | 0 |
AutoWhiteVersion | 134348800 |
BitsPerSample | 8 |
Blacks2012 | -17 |
BlueHue | 0 |
BlueSaturation | 0 |
By-line | Torstein Hall |
CameraProfile | Adobe Standard |
Caption-Abstract | |
CFAPattern | [Red,Green][Green,Blue] |
CFAPatternColumns | 2 |
CFAPatternRows | 2 |
CFAPatternValues | 0, 1, 1, 2 |
CircleOfConfusion | 0.015 mm |
Clarity2012 | +21 |
ColorComponents | 3 |
ColorNoiseReduction | 25 |
ColorNoiseReductionDetail | 50 |
ColorNoiseReductionSmoothness | 50 |
ColorSpace | sRGB |
ColorTemperature | 3650 |
Contrast | Normal |
Contrast2012 | +24 |
ConvertToGrayscale | False |
Copyright | |
CopyrightNotice | |
CreateDate | 2014:02:12 20:14:48 |
Creator | Torstein Hall |
CreatorCountry | Norge |
CreatorPostalCode | 1395 |
CreatorTool | PaintShop Pro 23,00 |
CreatorWorkEmail | tohall@online.no |
CreatorWorkTelephone | +47 94873470 |
CreatorWorkURL | www.ohb.no |
CropAngle | 0 |
CropBottom | 1 |
CropConstrainToWarp | 0 |
CropLeft | 0.015957 |
CropRight | 1 |
CropTop | 0.047281 |
CustomRendered | Normal |
DateCreated (1) | 2014:02:12 |
DateCreated | 2014:02:12 20:14:48 |
DateTimeOriginal | 2014:02:12 20:14:48 |
DefringeGreenAmount | 0 |
DefringeGreenHueHi | 60 |
DefringeGreenHueLo | 40 |
DefringePurpleAmount | 0 |
DefringePurpleHueHi | 70 |
DefringePurpleHueLo | 30 |
Dehaze | 0 |
Description | |
DigitalZoomRatio | 1 |
DOF | inf (13.96 m - inf) |
ExifImageHeight | 1544 |
ExifImageWidth | 2000 |
Exposure2012 | +0.71 |
ExposureCompensation | 0 |
ExposureMode | Auto |
ExposureProgram | Program AE |
ExposureTime | 1/5 |
Flash | Auto, Did not fire |
FlashCompensation | 0 |
FlashFired | False |
FlashFunction | False |
FlashMode | Auto |
FlashRedEyeMode | False |
FlashReturn | No return detection |
FNumber | 1.7 |
FocalLength | 20.0 mm |
FocalLength35efl | 20.0 mm (35 mm equivalent: 40.0 mm) |
FocalLengthIn35mmFormat | 40 mm |
Format | image/x-olympus-raw |
FOV | 48.5 deg |
GainControl | High gain up |
GrainAmount | 0 |
GreenHue | 0 |
GreenSaturation | 0 |
HasCrop | True |
HasSettings | True |
Highlights2012 | 0 |
HueAdjustmentAqua | 0 |
HueAdjustmentBlue | 0 |
HueAdjustmentGreen | 0 |
HueAdjustmentMagenta | 0 |
HueAdjustmentOrange | 0 |
HueAdjustmentPurple | 0 |
HueAdjustmentRed | 0 |
HueAdjustmentYellow | 0 |
HyperfocalDistance | 15.66 m |
ImageDescription | OLYMPUS DIGITAL CAMERA |
ImageHeight | 1544 |
ImageSize | 2000x1544 |
ImageWidth | 2000 |
ISO | 1600 |
Lens | LUMIX G 20/F1.7 |
LensInfo | 20mm f/1.7 |
LensManualDistortionAmount | 0 |
LensModel | LUMIX G 20/F1.7 |
LensProfileEnable | 0 |
LensProfileSetup | LensDefaults |
LensSerialNumber | 09LG3168886 |
LensSpecification | 20, 20, 1.7, 1.7 |
LightSource | Unknown |
LightValue | -0.1 |
LuminanceAdjustmentAqua | 0 |
LuminanceAdjustmentBlue | 0 |
LuminanceAdjustmentGreen | 0 |
LuminanceAdjustmentMagenta | 0 |
LuminanceAdjustmentOrange | 0 |
LuminanceAdjustmentPurple | 0 |
LuminanceAdjustmentRed | 0 |
LuminanceAdjustmentYellow | 0 |
LuminanceSmoothing | 0 |
Make | OLYMPUS IMAGING CORP. |
Marked | True |
MaxApertureValue | 1.7 |
Megapixels | 3.1 |
MeteringMode | Multi-segment |
Model | E-M5 |
ModifyDate | 2014:02:12 20:14:48 |
Orientation | Horizontal (normal) |
ParametricDarks | 0 |
ParametricHighlights | 0 |
ParametricHighlightSplit | 75 |
ParametricLights | 0 |
ParametricMidtoneSplit | 50 |
ParametricShadows | 0 |
ParametricShadowSplit | 25 |
PerspectiveAspect | 0 |
PerspectiveHorizontal | 0 |
PerspectiveRotate | 0.0 |
PerspectiveScale | 100 |
PerspectiveUpright | 1 |
PerspectiveVertical | 0 |
PerspectiveX | 0.00 |
PerspectiveY | 0.00 |
PostCropVignetteAmount | 0 |
ProcessVersion | 6.7 |
ProfileDescription | sRGB IEC61966-2.1 |
Rating | 1 |
RatingPercent | 1 |
RawFileName | P2120040.ORF |
RedHue | 0 |
RedSaturation | 0 |
Rights | |
Saturation (2) | 0 |
Saturation | High |
SaturationAdjustmentAqua | 0 |
SaturationAdjustmentBlue | 0 |
SaturationAdjustmentGreen | 0 |
SaturationAdjustmentMagenta | 0 |
SaturationAdjustmentOrange | 0 |
SaturationAdjustmentPurple | 0 |
SaturationAdjustmentRed | 0 |
SaturationAdjustmentYellow | 0 |
ScaleFactor35efl | 2.0 |
SceneCaptureType | Standard |
SensitivityType (1) | 1 |
SensitivityType | Standard Output Sensitivity |
SerialNumber | BEK514187 |
Shadows2012 | 0 |
ShadowTint | 0 |
SharpenDetail | 25 |
SharpenEdgeMasking | 0 |
SharpenRadius | +1.0 |
Sharpness (2) | 25 |
Sharpness | Normal |
ShutterSpeed | 1/5 |
ShutterSpeedValue | 1/5 |
SidecarForExtension | ORF |
Software | PaintShop Pro 23,00 |
SplitToningBalance | 0 |
SplitToningHighlightHue | 0 |
SplitToningHighlightSaturation | 0 |
SplitToningShadowHue | 0 |
SplitToningShadowSaturation | 0 |
SubjectDistance | 128 m |
Tint | -1 |
ToneCurve | 0, 0, 32, 22, 64, 56, 128, 128, 192, 196, 255, 255 |
ToneCurveBlue | 0, 0, 255, 255 |
ToneCurveGreen | 0, 0, 255, 255 |
ToneCurveName | Medium Contrast |
ToneCurveName2012 | Custom |
ToneCurvePV2012 | 0, 0, 240, 255 |
ToneCurvePV2012Blue | 0, 0, 255, 255 |
ToneCurvePV2012Green | 0, 0, 255, 255 |
ToneCurvePV2012Red | 0, 0, 255, 255 |
ToneCurveRed | 0, 0, 255, 255 |
ToneMapStrength | 0 |
UsageTerms | Contact me at: tohall@online.no for price |
UserComment | |
Version | 9.12 |
Vibrance | 0 |
VignetteAmount | 0 |
WhiteBalance (2) | As Shot |
WhiteBalance | Auto |
Whites2012 | 0 |