Felt | Verdi |
AlreadyApplied | True |
Aperture | 8.0 |
ApertureValue | 8.0 |
ApproximateFocusDistance | 4294967295 |
Artist | SNPhotography |
AutoLateralCA | 1 |
BitsPerSample | 8 |
Blacks2012 | 0 |
BlueHue | 0 |
BlueSaturation | 0 |
By-line | SNPhotography |
CameraProfile | Adobe Standard |
CFAPattern | [Red,Green][Green,Blue] |
CircleOfConfusion | 0.030 mm |
Clarity2012 | +16 |
ColorComponents | 3 |
ColorGradeBlending | 50 |
ColorGradeGlobalHue | 0 |
ColorGradeGlobalLum | 0 |
ColorGradeGlobalSat | 0 |
ColorGradeHighlightLum | 0 |
ColorGradeMidtoneHue | 0 |
ColorGradeMidtoneLum | 0 |
ColorGradeMidtoneSat | 0 |
ColorGradeShadowLum | 0 |
ColorNoiseReduction | 50 |
ColorNoiseReductionDetail | 50 |
ColorNoiseReductionSmoothness | 50 |
ColorSpace | sRGB |
ColorTemperature | 4500 |
Contrast | Normal |
Contrast2012 | +9 |
Copyright | Sindre Nedrevag |
CopyrightNotice | Sindre Nedrevag |
CreateDate (1) | 2021:01:02 10:19:16.56 |
CreateDate | 2021:01:02 10:19:16 |
Creator | SNPhotography |
CreatorTool | Adobe Photoshop Lightroom Classic 10.1.1 (Windows) |
CropAngle | 0 |
CropBottom | 0.971649 |
CropConstrainToWarp | 0 |
CropLeft | 0.129088 |
CropRight | 0.938038 |
CropTop | 0.028351 |
CustomRendered | Normal |
DateCreated (1) | 2021:01:02 |
DateCreated | 2021:01:02 10:19:16.56 |
DateTimeOriginal | 2021:01:02 10:19:16 |
DefringeGreenAmount | 0 |
DefringeGreenHueHi | 60 |
DefringeGreenHueLo | 40 |
DefringePurpleAmount | 0 |
DefringePurpleHueHi | 70 |
DefringePurpleHueLo | 30 |
Dehaze | 0 |
DigitalZoomRatio | 1 |
DistortionCorrectionAlreadyApplied | True |
DOF | inf (166.41 m - inf) |
Exposure2012 | +1.32 |
ExposureCompensation | 0 |
ExposureMode | Manual |
ExposureProgram | Manual |
ExposureTime | 1/160 |
Flash | Off, Did not fire |
FNumber | 8.0 |
FocalLength | 200.0 mm |
FocalLength35efl | 200.0 mm (35 mm equivalent: 200.0 mm) |
FocalLengthIn35mmFormat | 200 mm |
Format | image/jpeg |
FOV | 10.3 deg |
GainControl | Low gain up |
GrainAmount | 0 |
GreenHue | 0 |
GreenSaturation | 0 |
HasCrop | True |
HasExtendedXMP | F6C37C0577837D13502069DFD20893F6 |
HasSettings | True |
Highlights2012 | -70 |
HueAdjustmentAqua | 0 |
HueAdjustmentBlue | 0 |
HueAdjustmentGreen | 0 |
HueAdjustmentMagenta | 0 |
HueAdjustmentOrange | 0 |
HueAdjustmentPurple | 0 |
HueAdjustmentRed | 0 |
HueAdjustmentYellow | 0 |
HyperfocalDistance | 166.41 m |
ImageHeight | 2560 |
ImageNumber | 10843 |
ImageSize | 1992x2560 |
ImageWidth | 1992 |
ISO | 400 |
LateralChromaticAberrationCorrectionAlreadyApplied | True |
Lens | 70.0-200.0 mm f/2.8 |
LensID (1) | 162 |
LensID | AF-S Nikkor 70-200mm f/2.8G ED VR II |
LensInfo | 70-200mm f/2.8 |
LensManualDistortionAmount | 0 |
LensModel | 70.0-200.0 mm f/2.8 |
LensProfileDistortionScale | 100 |
LensProfileEnable | 1 |
LensProfileFilename | NIKON D700 (Nikon AF-S NIKKOR 70-200mm f2.8G ED VR II) - RAW.lcp |
LensProfileIsEmbedded | False |
LensProfileName | Adobe (Nikon AF-S NIKKOR 70-200mm f/2.8G ED VR II) |
LensProfileSetup | LensDefaults |
LensProfileVignettingScale | 100 |
LightSource | Unknown |
LightValue | 11.3 |
LookAmount | 1.000000 |
LookGroup | Profiles |
LookName | Adobe Color |
LookParametersCameraProfile | Adobe Standard |
LookParametersConvertToGrayscale | False |
LookParametersLookTable | E1095149FDB39D7A057BAB208837E2E1 |
LookParametersProcessVersion | 11.0 |
LookParametersToneCurvePV2012 | 0, 0, 22, 16, 40, 35, 127, 127, 224, 230, 240, 246, 255, 255 |
LookParametersToneCurvePV2012Blue | 0, 0, 255, 255 |
LookParametersToneCurvePV2012Green | 0, 0, 255, 255 |
LookParametersToneCurvePV2012Red | 0, 0, 255, 255 |
LookParametersVersion | 13.1 |
LookSupportsAmount | false |
LookSupportsMonochrome | false |
LookSupportsOutputReferred | false |
LuminanceAdjustmentAqua | 0 |
LuminanceAdjustmentBlue | +17 |
LuminanceAdjustmentGreen | 0 |
LuminanceAdjustmentMagenta | 0 |
LuminanceAdjustmentOrange | 0 |
LuminanceAdjustmentPurple | 0 |
LuminanceAdjustmentRed | 0 |
LuminanceAdjustmentYellow | 0 |
LuminanceNoiseReductionContrast | 0 |
LuminanceNoiseReductionDetail | 55 |
LuminanceSmoothing | 25 |
Make | NIKON CORPORATION |
MaxApertureValue | 2.8 |
Megapixels | 5.1 |
MeteringMode | Spot |
Model | NIKON D750 |
ModifyDate (1) | 2021:01:13 21:06:50+01:00 |
ModifyDate | 2021:01:13 21:06:50 |
Orientation | Horizontal (normal) |
OverrideLookVignette | False |
PaintCorrectionActive | true |
PaintCorrectionAmount | 1.000000 |
PaintCorrectionBrightness | 0.000000 |
PaintCorrectionClarity2012 (1) | 0.517240 |
PaintCorrectionClarity2012 (2) | 0.310340 |
PaintCorrectionClarity2012 | 0.000000 |
PaintCorrectionContrast2012 (1) | 0.103450 |
PaintCorrectionContrast2012 | 0.000000 |
PaintCorrectionCorrectionRangeMaskColorAmount | 0.500000 |
PaintCorrectionCorrectionRangeMaskDepthFeather | 0.500000 |
PaintCorrectionCorrectionRangeMaskDepthMax | 1.000000 |
PaintCorrectionCorrectionRangeMaskDepthMin | 0.000000 |
PaintCorrectionCorrectionRangeMaskLumFeather | 0.500000 |
PaintCorrectionCorrectionRangeMaskLumMax | 1.000000 |
PaintCorrectionCorrectionRangeMaskLumMin | 0.000000 |
PaintCorrectionCorrectionRangeMaskType | 0 |
PaintCorrectionCorrectionRangeMaskVersion | +2 |
PaintCorrectionDefringe | 0.000000 |
PaintCorrectionExposure2012 (1) | -0.086250 |
PaintCorrectionExposure2012 (2) | -0.172500 |
PaintCorrectionExposure2012 | 0.034500 |
PaintCorrectionHighlights2012 (1) | -0.689660 |
PaintCorrectionHighlights2012 (2) | 0.000000 |
PaintCorrectionHighlights2012 | 0.250000 |
PaintCorrectionHue | 0.000000 |
PaintCorrectionLocalBlacks2012 (2) | 0.000000 |
PaintCorrectionLocalBlacks2012 | 0.344830 |
PaintCorrectionLocalDehaze (1) | 0.224140 |
PaintCorrectionLocalDehaze (2) | 0.000000 |
PaintCorrectionLocalDehaze | 0.172410 |
PaintCorrectionLocalHue | 0.000000 |
PaintCorrectionLocalTexture (1) | 0.000000 |
PaintCorrectionLocalTexture | 0.637930 |
PaintCorrectionLocalWhites2012 (1) | 0.000000 |
PaintCorrectionLocalWhites2012 | -0.103450 |
PaintCorrectionLuminanceNoise | 0.000000 |
PaintCorrectionMaskCenterWeight (1) | 0.312093 |
PaintCorrectionMaskCenterWeight (11) | 0.117565 |
PaintCorrectionMaskCenterWeight | 0.326250 |
PaintCorrectionMaskFlow (1) | 0.950000 |
PaintCorrectionMaskFlow (7) | 0.597000 |
PaintCorrectionMaskFlow | 0.942000 |
PaintCorrectionMaskRadius (1) | 0.013221 |
PaintCorrectionMaskRadius (10) | 0.014921 |
PaintCorrectionMaskRadius (11) | 0.029931 |
PaintCorrectionMaskRadius (12) | 0.011221 |
PaintCorrectionMaskRadius (2) | 0.015834 |
PaintCorrectionMaskRadius (3) | 0.010441 |
PaintCorrectionMaskRadius (4) | 0.008950 |
PaintCorrectionMaskRadius (5) | 0.006260 |
PaintCorrectionMaskRadius (6) | 0.033841 |
PaintCorrectionMaskRadius (7) | 0.026030 |
PaintCorrectionMaskRadius (8) | 0.022358 |
PaintCorrectionMaskRadius (9) | 0.014855 |
PaintCorrectionMaskRadius | 0.009867 |
PaintCorrectionMaskValue (10) | 1.000000 |
PaintCorrectionMaskValue | 0.000000 |
PaintCorrectionMaskWhat | Mask/Paint |
PaintCorrectionMoire | 0.000000 |
PaintCorrectionSaturation (1) | -0.100000 |
PaintCorrectionSaturation | 0.000000 |
PaintCorrectionShadows2012 (1) | 0.150000 |
PaintCorrectionShadows2012 | 0.000000 |
PaintCorrectionSharpness (1) | 0.258620 |
PaintCorrectionSharpness | 0.000000 |
PaintCorrectionTemperature (1) | 0.050000 |
PaintCorrectionTemperature | 0.000000 |
PaintCorrectionTint | 0.000000 |
PaintCorrectionWhat | Correction |
ParametricDarks | 0 |
ParametricHighlights | 0 |
ParametricHighlightSplit | 75 |
ParametricLights | 0 |
ParametricMidtoneSplit | 50 |
ParametricShadows | 0 |
ParametricShadowSplit | 25 |
PerspectiveAspect | 0 |
PerspectiveHorizontal | 0 |
PerspectiveRotate | 0.0 |
PerspectiveScale | 150 |
PerspectiveUpright | 0 |
PerspectiveVertical | 0 |
PerspectiveX | 0.00 |
PerspectiveY | 0.00 |
PostCropVignetteAmount | 0 |
PreservedFileName | SAN_0446.NEF |
ProcessVersion | 11.0 |
ProfileDescription | sRGB IEC61966-2.1 |
RawFileName | SAN_0446.NEF |
RedHue | 0 |
RedSaturation | 0 |
Rights | Sindre Nedrevag |
Saturation (1) | 0 |
Saturation | Normal |
SaturationAdjustmentAqua | 0 |
SaturationAdjustmentBlue | 0 |
SaturationAdjustmentGreen | 0 |
SaturationAdjustmentMagenta | 0 |
SaturationAdjustmentOrange | 0 |
SaturationAdjustmentPurple | 0 |
SaturationAdjustmentRed | 0 |
SaturationAdjustmentYellow | 0 |
ScaleFactor35efl | 1.0 |
SceneCaptureType | Standard |
SceneType | Directly photographed |
SensingMethod | One-chip color area |
SensitivityType | Recommended Exposure Index |
SerialNumber | 6145564 |
Shadows2012 | 0 |
ShadowTint | 0 |
SharpenDetail | 27 |
SharpenEdgeMasking | 53 |
SharpenRadius | +1.0 |
Sharpness (1) | 42 |
Sharpness | Normal |
ShutterSpeed | 1/160 |
ShutterSpeedValue | 1/160 |
Software | Adobe Photoshop Lightroom Classic 10.1.1 (Windows) |
SplitToningBalance | 0 |
SplitToningHighlightHue | 0 |
SplitToningHighlightSaturation | 0 |
SplitToningShadowHue | 0 |
SplitToningShadowSaturation | 0 |
SubjectDistanceRange | Unknown |
Texture | 0 |
Tint | +8 |
ToneCurveName2012 | Linear |
ToneCurvePV2012 | 0, 0, 255, 255 |
ToneCurvePV2012Blue | 0, 0, 255, 255 |
ToneCurvePV2012Green | 0, 0, 255, 255 |
ToneCurvePV2012Red | 0, 0, 255, 255 |
Version | 13.1 |
Vibrance | +5 |
VignetteAmount | 0 |
VignetteCorrectionAlreadyApplied | True |
WhiteBalance (1) | Custom |
WhiteBalance | Manual |
Whites2012 | +26 |