Felt | Verdi |
AlreadyApplied | True |
Aperture | 8.0 |
ApertureValue | 8.0 |
Artist | ARILD KARLSEN |
AutoLateralCA | 1 |
BitsPerSample | 8 |
Blacks2012 | -32 |
BlueHue | +4 |
BlueSaturation | -18 |
BrightnessValue | 4.8 |
By-line | ARILD KARLSEN |
CameraProfile | Adobe Standard |
CircleOfConfusion | 0.038 mm |
Clarity2012 | +53 |
ColorComponents | 3 |
ColorNoiseReduction | 41 |
ColorNoiseReductionDetail | 50 |
ColorNoiseReductionSmoothness | 50 |
ColorSpace | Uncalibrated |
ColorTemperature | 7439 |
ColorTransform | YCbCr |
Contrast2012 | 0 |
ConvertToGrayscale | False |
Copyright | Arild Karlsen |
CopyrightNotice | Arild Karlsen |
CreateDate | 2019:01:13 21:01:52 |
Creator | ARILD KARLSEN |
CreatorTool | Adobe Photoshop Lightroom Classic 9.3 (Windows) |
CropAngle | 0 |
CropBottom | 0.902996 |
CropConstrainToWarp | 0 |
CropLeft | 0 |
CropRight | 1 |
CropTop | 0.413695 |
CustomRendered | Normal |
DateCreated (1) | 2019:01:13 |
DateCreated | 2019:01:13 21:01:52 |
DateTimeOriginal | 2019:01:13 21:01:52 |
DefringeGreenAmount | 0 |
DefringeGreenHueHi | 60 |
DefringeGreenHueLo | 40 |
DefringePurpleAmount | 0 |
DefringePurpleHueHi | 70 |
DefringePurpleHueLo | 30 |
Dehaze | 0 |
DistortionCorrectionAlreadyApplied | True |
Exposure2012 | 0.00 |
ExposureCompensation | +1 |
ExposureMode | Auto |
ExposureProgram | Aperture-priority AE |
ExposureTime | 1/80 |
Flash | No Flash |
FNumber | 8.0 |
FocalLength | 32.0 mm |
FocalLength35efl | 32.0 mm (35 mm equivalent: 25.0 mm) |
FocalLengthIn35mmFormat | 25 mm |
Format | image/jpeg |
FOV | 71.5 deg |
FujiRatingAlreadyApplied | True |
GrainAmount | 0 |
GreenHue | +21 |
GreenSaturation | +9 |
HasCrop | True |
HasExtendedXMP | DBAE2E4FA3093C34FC2BE271B247ABAE |
HasSettings | True |
Highlights2012 | -84 |
HueAdjustmentAqua | 0 |
HueAdjustmentBlue | 0 |
HueAdjustmentGreen | 0 |
HueAdjustmentMagenta | 0 |
HueAdjustmentOrange | 0 |
HueAdjustmentPurple | 0 |
HueAdjustmentRed | 0 |
HueAdjustmentYellow | 0 |
HyperfocalDistance | 3.33 m |
ImageHeight | 4275 |
ImageSize | 11648x4275 |
ImageWidth | 11648 |
ISO | 2000 |
LateralChromaticAberrationCorrectionAlreadyApplied | True |
Lens | GF32-64mmF4 R LM WR |
LensInfo | 32-64mm f/4 |
LensMake | FUJIFILM |
LensManualDistortionAmount | 0 |
LensModel | GF32-64mmF4 R LM WR |
LensProfileEnable | 0 |
LensProfileSetup | LensDefaults |
LensSerialNumber | 97C00587 |
LightSource | Unknown |
LightValue | 8.0 |
LookAmount | 1.000000 |
LookGroup | Profiles |
LookName | Adobe Color |
LookParametersCameraProfile | Adobe Standard |
LookParametersConvertToGrayscale | False |
LookParametersLookTable | E1095149FDB39D7A057BAB208837E2E1 |
LookParametersProcessVersion | 11.0 |
LookParametersToneCurvePV2012 | 0, 0, 22, 16, 40, 35, 127, 127, 224, 230, 240, 246, 255, 255 |
LookParametersToneCurvePV2012Blue | 0, 0, 255, 255 |
LookParametersToneCurvePV2012Green | 0, 0, 255, 255 |
LookParametersToneCurvePV2012Red | 0, 0, 255, 255 |
LookParametersVersion | 12.3 |
LookSupportsAmount | false |
LookSupportsMonochrome | false |
LookSupportsOutputReferred | false |
LuminanceAdjustmentAqua | -2 |
LuminanceAdjustmentBlue | +12 |
LuminanceAdjustmentGreen | +70 |
LuminanceAdjustmentMagenta | +20 |
LuminanceAdjustmentOrange | -17 |
LuminanceAdjustmentPurple | -35 |
LuminanceAdjustmentRed | -30 |
LuminanceAdjustmentYellow | 0 |
LuminanceNoiseReductionContrast | 18 |
LuminanceNoiseReductionDetail | 50 |
LuminanceSmoothing | 15 |
Make | FUJIFILM |
MaxApertureValue | 4.0 |
Megapixels | 49.8 |
MeteringMode | Multi-segment |
Model | GFX 100 |
ModifyDate (1) | 2020:08:05 00:08:31+02:00 |
ModifyDate | 2020:08:05 00:08:31 |
OverrideLookVignette | False |
PaintCorrectionActive | true |
PaintCorrectionAmount | 1.000000 |
PaintCorrectionBrightness | 0.000000 |
PaintCorrectionClarity2012 (1) | 0.606840 |
PaintCorrectionClarity2012 (11) | 0.128210 |
PaintCorrectionClarity2012 (12) | 0.000000 |
PaintCorrectionClarity2012 (2) | 0.692310 |
PaintCorrectionClarity2012 (3) | 0.623930 |
PaintCorrectionClarity2012 (4) | 0.538460 |
PaintCorrectionClarity2012 (6) | 0.470090 |
PaintCorrectionClarity2012 | 0.316240 |
PaintCorrectionContrast2012 (1) | 0.572650 |
PaintCorrectionContrast2012 (12) | 0.008550 |
PaintCorrectionContrast2012 (3) | 0.162390 |
PaintCorrectionContrast2012 (4) | 0.000000 |
PaintCorrectionContrast2012 (6) | 0.641030 |
PaintCorrectionContrast2012 (8) | 0.692310 |
PaintCorrectionContrast2012 (9) | 0.538460 |
PaintCorrectionContrast2012 | 0.367520 |
PaintCorrectionCorrectionRangeMaskColorAmount | 0.500000 |
PaintCorrectionCorrectionRangeMaskDepthFeather | 0.500000 |
PaintCorrectionCorrectionRangeMaskDepthMax | 1.000000 |
PaintCorrectionCorrectionRangeMaskDepthMin | 0.000000 |
PaintCorrectionCorrectionRangeMaskLumFeather | 0.500000 |
PaintCorrectionCorrectionRangeMaskLumMax | 1.000000 |
PaintCorrectionCorrectionRangeMaskLumMin | 0.000000 |
PaintCorrectionCorrectionRangeMaskType | 0 |
PaintCorrectionCorrectionRangeMaskVersion | +2 |
PaintCorrectionDefringe (4) | 0.059830 |
PaintCorrectionDefringe | 0.000000 |
PaintCorrectionExposure2012 (1) | 0.384500 |
PaintCorrectionExposure2012 (10) | 0.282000 |
PaintCorrectionExposure2012 (11) | -0.384500 |
PaintCorrectionExposure2012 (12) | -0.299250 |
PaintCorrectionExposure2012 (2) | 0.658000 |
PaintCorrectionExposure2012 (3) | -0.265000 |
PaintCorrectionExposure2012 (4) | 0.367500 |
PaintCorrectionExposure2012 (5) | 0.000000 |
PaintCorrectionExposure2012 (7) | 0.401750 |
PaintCorrectionExposure2012 (9) | 0.350500 |
PaintCorrectionExposure2012 | -0.367500 |
PaintCorrectionHighlights2012 (1) | -0.470090 |
PaintCorrectionHighlights2012 (11) | 0.692310 |
PaintCorrectionHighlights2012 (3) | 0.145300 |
PaintCorrectionHighlights2012 (6) | -0.487180 |
PaintCorrectionHighlights2012 (8) | -0.230770 |
PaintCorrectionHighlights2012 (9) | 0.000000 |
PaintCorrectionHighlights2012 | -0.606840 |
PaintCorrectionHue | 0.000000 |
PaintCorrectionLocalBlacks2012 (1) | -0.230770 |
PaintCorrectionLocalBlacks2012 (10) | 0.435900 |
PaintCorrectionLocalBlacks2012 (11) | -0.213680 |
PaintCorrectionLocalBlacks2012 (2) | -0.059830 |
PaintCorrectionLocalBlacks2012 (3) | -0.316240 |
PaintCorrectionLocalBlacks2012 (7) | 0.179490 |
PaintCorrectionLocalBlacks2012 (8) | 0.000000 |
PaintCorrectionLocalBlacks2012 | 0.418800 |
PaintCorrectionLocalDehaze | 0.000000 |
PaintCorrectionLocalHue (2) | 0.081081 |
PaintCorrectionLocalHue (3) | -0.045045 |
PaintCorrectionLocalHue | 0.000000 |
PaintCorrectionLocalTexture (10) | 0.000000 |
PaintCorrectionLocalTexture (5) | 0.350430 |
PaintCorrectionLocalTexture | 0.145300 |
PaintCorrectionLocalWhites2012 (10) | -0.282050 |
PaintCorrectionLocalWhites2012 (12) | -0.487180 |
PaintCorrectionLocalWhites2012 (5) | -0.196580 |
PaintCorrectionLocalWhites2012 (7) | 0.487180 |
PaintCorrectionLocalWhites2012 (8) | -0.025640 |
PaintCorrectionLocalWhites2012 | 0.000000 |
PaintCorrectionLuminanceNoise (11) | -0.487180 |
PaintCorrectionLuminanceNoise (4) | -0.692310 |
PaintCorrectionLuminanceNoise | 0.000000 |
PaintCorrectionMaskCenterWeight | 0.000000 |
PaintCorrectionMaskFlow | 1.000000 |
PaintCorrectionMaskRadius (11) | 0.046886 |
PaintCorrectionMaskRadius (19) | 0.035071 |
PaintCorrectionMaskRadius (27) | 0.040927 |
PaintCorrectionMaskRadius (29) | 0.098293 |
PaintCorrectionMaskRadius (31) | 0.105186 |
PaintCorrectionMaskRadius (33) | 0.084820 |
PaintCorrectionMaskRadius (35) | 0.071761 |
PaintCorrectionMaskRadius (41) | 0.029319 |
PaintCorrectionMaskRadius (7) | 0.018125 |
PaintCorrectionMaskRadius | 0.052949 |
PaintCorrectionMaskValue (26) | 0.000000 |
PaintCorrectionMaskValue | 0.437000 |
PaintCorrectionMaskWhat | Mask/Paint |
PaintCorrectionMoire (4) | 0.589740 |
PaintCorrectionMoire | 0.000000 |
PaintCorrectionSaturation (21) | 0.008550 |
PaintCorrectionSaturation (3) | 0.435900 |
PaintCorrectionSaturation (7) | 0.606840 |
PaintCorrectionSaturation | 0.000000 |
PaintCorrectionShadows2012 (1) | -0.042740 |
PaintCorrectionShadows2012 (11) | 0.145300 |
PaintCorrectionShadows2012 (2) | -0.401710 |
PaintCorrectionShadows2012 (3) | -0.230770 |
PaintCorrectionShadows2012 (4) | -0.452990 |
PaintCorrectionShadows2012 (6) | 0.000000 |
PaintCorrectionShadows2012 (8) | -0.794870 |
PaintCorrectionShadows2012 (9) | 0.282050 |
PaintCorrectionShadows2012 | -0.316240 |
PaintCorrectionSharpness (1) | 0.196580 |
PaintCorrectionSharpness (11) | 0.213680 |
PaintCorrectionSharpness (4) | 0.333330 |
PaintCorrectionSharpness | 0.000000 |
PaintCorrectionTemperature (11) | 0.111110 |
PaintCorrectionTemperature | 0.000000 |
PaintCorrectionTint (1) | -0.264960 |
PaintCorrectionTint (11) | 0.179490 |
PaintCorrectionTint (2) | -0.658120 |
PaintCorrectionTint | 0.000000 |
PaintCorrectionWhat | Correction |
ParametricDarks | +25 |
ParametricHighlights | -26 |
ParametricHighlightSplit | 75 |
ParametricLights | -15 |
ParametricMidtoneSplit | 50 |
ParametricShadows | -39 |
ParametricShadowSplit | 25 |
PerspectiveAspect | 0 |
PerspectiveHorizontal | 0 |
PerspectiveRotate | 0.0 |
PerspectiveScale | 100 |
PerspectiveUpright | 0 |
PerspectiveVertical | 0 |
PerspectiveX | 0.00 |
PerspectiveY | 0.00 |
PostCropVignetteAmount | 0 |
PreservedFileName | DSCF2750.RAF |
ProcessVersion | 11.0 |
ProfileDescription | ProPhoto RGB |
RawFileName | Ferie 2020-58.RAF |
RedHue | +5 |
RedSaturation | 0 |
Rights | Arild Karlsen |
Saturation | 0 |
SaturationAdjustmentAqua | 0 |
SaturationAdjustmentBlue | 0 |
SaturationAdjustmentGreen | 0 |
SaturationAdjustmentMagenta | 0 |
SaturationAdjustmentOrange | 0 |
SaturationAdjustmentPurple | 0 |
SaturationAdjustmentRed | 0 |
SaturationAdjustmentYellow | 0 |
ScaleFactor35efl | 0.8 |
SceneCaptureType | Standard |
SceneType | Directly photographed |
SensingMethod | One-chip color area |
SensitivityType | Standard Output Sensitivity |
SerialNumber | 94000141 |
Shadows2012 | +70 |
ShadowTint | -5 |
SharpenDetail | 25 |
SharpenEdgeMasking | 83 |
SharpenRadius | +1.0 |
Sharpness (1) | 40 |
Sharpness | Normal |
ShutterSpeed | 1/80 |
ShutterSpeedValue | 1/80 |
Software | Adobe Photoshop Lightroom Classic 9.3 (Windows) |
SplitToningBalance | 0 |
SplitToningHighlightHue | 0 |
SplitToningHighlightSaturation | 0 |
SplitToningShadowHue | 240 |
SplitToningShadowSaturation | 0 |
StandardOutputSensitivity | 2000 |
SubjectDistanceRange | Unknown |
Texture | 0 |
Tint | +24 |
ToneCurve | 0, 0, 255, 255 |
ToneCurveBlue | 0, 0, 255, 255 |
ToneCurveGreen | 0, 0, 255, 255 |
ToneCurveName | Linear |
ToneCurveName2012 | Linear |
ToneCurvePV2012 | 0, 0, 255, 255 |
ToneCurvePV2012Blue | 0, 0, 255, 255 |
ToneCurvePV2012Green | 0, 0, 255, 255 |
ToneCurvePV2012Red | 0, 0, 255, 255 |
ToneCurveRed | 0, 0, 255, 255 |
ToneMapStrength | 0 |
Version | 12.3 |
Vibrance | +33 |
VignetteAmount | 0 |
VignetteCorrectionAlreadyApplied | True |
WhiteBalance (1) | Custom |
WhiteBalance | Auto |
Whites2012 | -74 |