Felt | Verdi |
AlreadyApplied | True |
Aperture | 1.6 |
ApertureValue | 1.6 |
Artist | Hans Jørgen Lindeløff |
AutoLateralCA | 1 |
BitsPerSample | 8 |
Blacks2012 | -4 |
BlueHue | 0 |
BlueSaturation | 0 |
BrightnessValue | -2.174440131 |
By-line | Hans Jørgen Lindeløff |
CameraProfile | Embedded |
CircGradBasedCorrActive | true |
CircGradBasedCorrAmount | 1.000000 |
CircGradBasedCorrBrightness | 0.000000 |
CircGradBasedCorrClarity2012 | 0.000000 |
CircGradBasedCorrContrast2012 | 0.000000 |
CircGradBasedCorrCorrectionRangeMaskColorAmount | 0.500000 |
CircGradBasedCorrCorrectionRangeMaskDepthFeather | 0.500000 |
CircGradBasedCorrCorrectionRangeMaskDepthMax | 1.000000 |
CircGradBasedCorrCorrectionRangeMaskDepthMin | 0.000000 |
CircGradBasedCorrCorrectionRangeMaskLumFeather | 0.500000 |
CircGradBasedCorrCorrectionRangeMaskLumMax | 1.000000 |
CircGradBasedCorrCorrectionRangeMaskLumMin | 0.000000 |
CircGradBasedCorrCorrectionRangeMaskType | 0 |
CircGradBasedCorrCorrectionRangeMaskVersion | +2 |
CircGradBasedCorrDefringe | 0.000000 |
CircGradBasedCorrExposure2012 | 0.116957 |
CircGradBasedCorrHighlights2012 | -0.347665 |
CircGradBasedCorrHue | 240.000000 |
CircGradBasedCorrLocalBlacks2012 | -0.097400 |
CircGradBasedCorrLocalDehaze | 0.000000 |
CircGradBasedCorrLocalHue | 0.000000 |
CircGradBasedCorrLocalTexture | 0.000000 |
CircGradBasedCorrLocalWhites2012 | 0.150986 |
CircGradBasedCorrLuminanceNoise | 0.000000 |
CircGradBasedCorrMaskAngle | 0.000000 |
CircGradBasedCorrMaskBottom | 0.967908 |
CircGradBasedCorrMaskFeather | +100 |
CircGradBasedCorrMaskFlipped | true |
CircGradBasedCorrMaskLeft | 0.007779 |
CircGradBasedCorrMaskMidpoint | +50 |
CircGradBasedCorrMaskRight | 0.993493 |
CircGradBasedCorrMaskRoundness | 0 |
CircGradBasedCorrMaskTop | 0.293346 |
CircGradBasedCorrMaskValue | 1.000000 |
CircGradBasedCorrMaskVersion | +2 |
CircGradBasedCorrMaskWhat | Mask/CircularGradient |
CircGradBasedCorrMoire | 0.000000 |
CircGradBasedCorrSaturation (1) | -0.335218 |
CircGradBasedCorrSaturation | 0.000000 |
CircGradBasedCorrShadows2012 | 0.000000 |
CircGradBasedCorrSharpness | 0.000000 |
CircGradBasedCorrTemperature | 0.122504 |
CircGradBasedCorrTint | 0.000000 |
CircGradBasedCorrWhat | Correction |
CircleOfConfusion | 0.006 mm |
City | Gamle Fredrikstad |
Clarity2012 | 0 |
ColorComponents | 3 |
ColorGradeBlending | 50 |
ColorGradeGlobalHue | 0 |
ColorGradeGlobalLum | 0 |
ColorGradeGlobalSat | 0 |
ColorGradeHighlightLum | 0 |
ColorGradeMidtoneHue | 0 |
ColorGradeMidtoneLum | 0 |
ColorGradeMidtoneSat | 0 |
ColorGradeShadowLum | 0 |
ColorNoiseReduction | 18 |
ColorNoiseReductionDetail | 50 |
ColorNoiseReductionSmoothness | 50 |
ColorSpace | sRGB |
ColorTransform | YCbCr |
Contrast2012 | 0 |
ConvertToGrayscale | True |
Copyright | © Hans Jørgen Lindeløff 2021 |
CopyrightFlag | True |
CopyrightNotice | © Hans Jørgen Lindeløff 2021 |
Country | Norway |
Country-PrimaryLocationCode | NO |
Country-PrimaryLocationName | Norway |
CountryCode | NO |
CreateDate (1) | 2021:02:25 18:27:19.687+01:00 |
CreateDate | 2021:02:25 18:27:19 |
Creator | Hans Jørgen Lindeløff |
CreatorAddress | Bjørnevågveien 8 |
CreatorCity | Kråkerøy |
CreatorCountry | Norway |
CreatorPostalCode | 1676 |
CreatorTool | Adobe Photoshop Lightroom Classic 10.1.1 (Macintosh) |
CreatorWorkEmail | lundeli@mac.com |
CreatorWorkTelephone | +47 92049534 |
CreatorWorkURL | lundeliphoto.no |
CropAngle | 0 |
CropBottom | 0.895534 |
CropConstrainToWarp | 1 |
CropLeft | 0.029532 |
CropRight | 0.992154 |
CropTop | 0.139457 |
DateCreated (1) | 2018:01:02 |
DateCreated | 2018:01:02 14:49:07.571 |
DateTimeOriginal | 2021:02:25 18:27:19 |
Dehaze | 0 |
DistortionCorrectionAlreadyApplied | True |
Exposure2012 | 0.00 |
ExposureCompensation | +0.122 |
ExposureMode | Auto |
ExposureProgram | Program AE |
ExposureTime | 1/8 |
Flash | Off, Did not fire |
FNumber | 1.6 |
FocalLength | 5.1 mm |
FocalLength35efl | 5.1 mm (35 mm equivalent: 26.0 mm) |
FocalLengthIn35mmFormat | 26 mm |
Format | image/jpeg |
FOV | 69.4 deg |
GPSAltitude (1) | 17.84526449 m |
GPSAltitude | 17.8 m Above Sea Level |
GPSAltitudeRef | Above Sea Level |
GPSDestBearing | 107.4764481 |
GPSDestBearingRef | Magnetic North |
GPSHPositioningError | 4.361434321 m |
GPSImgDirection | 107.4764481 |
GPSImgDirectionRef | Magnetic North |
GPSLatitude (1) | 59 deg 12' 7.94" |
GPSLatitude | 59 deg 12' 7.94" N |
GPSLatitudeRef | North |
GPSLongitude (1) | 10 deg 57' 6.45" |
GPSLongitude | 10 deg 57' 6.45" E |
GPSLongitudeRef | East |
GPSPosition | 59 deg 12' 7.94" N, 10 deg 57' 6.45" E |
GPSSpeed | 0 |
GPSSpeedRef | km/h |
GPSVersionID | 2.2.0.0 |
GrainAmount | 0 |
GrayMixerAqua | -25 |
GrayMixerBlue | -6 |
GrayMixerGreen | -16 |
GrayMixerMagenta | +15 |
GrayMixerOrange | +5 |
GrayMixerPurple | +10 |
GrayMixerRed | +14 |
GrayMixerYellow | -1 |
GreenHue | 0 |
GreenSaturation | 0 |
HasCrop | True |
HasSettings | True |
Highlights2012 | -16 |
HueAdjustmentYellow | +9 |
HyperfocalDistance | 2.76 m |
ImageHeight | 1152 |
ImageSize | 2048x1152 |
ImageWidth | 2048 |
IncrementalTemperature | +12 |
IncrementalTint | +11 |
ISO | 400 |
LateralChromaticAberrationCorrectionAlreadyApplied | True |
Lens | iPhone 12 Pro Max back triple camera 5.1mm f/1.6 |
LensInfo (1) | 1.53999996185121-7.5mm f/1.6-2.4 |
LensInfo | 1.539999962-7.5mm f/1.6-2.4 |
LensMake | Apple |
LensManualDistortionAmount | 0 |
LensModel | iPhone 12 Pro Max back triple camera 5.1mm f/1.6 |
LensProfileDistortionScale | 100 |
LensProfileEnable | 0 |
LensProfileFilename | Apple iPhone (Apple iPhone 12 Pro Max back camera 5.1mm f1.6).lcp |
LensProfileIsEmbedded | False |
LensProfileName | Adobe (Apple iPhone 12 Pro Max back camera 5.1mm f/1.6) |
LensProfileSetup | LensDefaults |
LensProfileVignettingScale | 100 |
LightValue | 2.4 |
LuminanceAdjustmentBlue | -24 |
LuminanceNoiseReductionContrast | 0 |
LuminanceNoiseReductionDetail | 50 |
LuminanceSmoothing | 18 |
Make | Apple |
Marked | True |
Megapixels | 2.4 |
MeteringMode | Spot |
Model | iPhone 12 Pro Max |
ModifyDate (1) | 2021:03:05 17:54:47+01:00 |
ModifyDate | 2021:03:05 17:54:47 |
OverrideLookVignette | False |
ParametricDarks | 0 |
ParametricHighlights | 0 |
ParametricHighlightSplit | 75 |
ParametricLights | 0 |
ParametricMidtoneSplit | 50 |
ParametricShadows | 0 |
ParametricShadowSplit | 25 |
PerspectiveAspect | 0 |
PerspectiveHorizontal | 0 |
PerspectiveRotate | 0.0 |
PerspectiveScale | 100 |
PerspectiveUpright | 0 |
PerspectiveVertical | +4 |
PerspectiveX | 0.00 |
PerspectiveY | 0.00 |
PostCropVignetteAmount | 0 |
PreservedFileName | IMG_1399.DNG |
ProcessVersion | 11.0 |
ProfileDescription | sRGB IEC61966-2.1 |
Province-State | Viken |
Rating | 5 |
RawFileName | |
RedHue | 0 |
RedSaturation | 0 |
Rights | © Hans Jørgen Lindeløff 2021 |
SaturationAdjustmentBlue | +10 |
SaturationAdjustmentOrange | -80 |
SaturationAdjustmentPurple | -8 |
SaturationAdjustmentRed | -25 |
SaturationAdjustmentYellow | -8 |
ScaleFactor35efl | 5.1 |
SceneType | Directly photographed |
SensingMethod | One-chip color area |
Shadows2012 | 0 |
ShadowTint | 0 |
SharpenDetail | 25 |
SharpenEdgeMasking | 52 |
SharpenRadius | +1.0 |
Sharpness | 40 |
ShutterSpeed | 1/8 |
ShutterSpeedValue | 1/8 |
Software | Adobe Photoshop Lightroom Classic 10.1.1 (Macintosh) |
SplitToningBalance | 0 |
SplitToningHighlightHue | 0 |
SplitToningHighlightSaturation | 0 |
SplitToningShadowHue | 0 |
SplitToningShadowSaturation | 0 |
State | Viken |
SubjectArea | 1863 2490 751 749 |
Texture | +11 |
ToneCurveName2012 | Custom |
ToneCurvePV2012 | 0, 0, 56, 58, 152, 177, 255, 255 |
ToneCurvePV2012Blue | 0, 0, 255, 255 |
ToneCurvePV2012Green | 0, 0, 255, 255 |
ToneCurvePV2012Red | 0, 0, 255, 255 |
Transformation | Cylindrical |
UsageTerms | All rights reserved |
Version | 13.1 |
Vibrance | +8 |
VignetteAmount | 0 |
VirtualFocalLength | 0.351167 |
VirtualImageXCenter | 0.461600 |
VirtualImageYCenter | 0.529129 |
WhiteBalance (1) | Custom |
WhiteBalance | Auto |
Whites2012 | +11 |