Felt | Verdi |
AlreadyApplied | True |
Aperture | 1.6 |
ApertureValue | 1.6 |
Artist | Hans Jørgen Lindeløff |
AutoLateralCA | 0 |
BitsPerSample | 8 |
Blacks2012 | -2 |
BlueHue | 0 |
BlueSaturation | 0 |
BrightnessValue | -0.4355834855 |
By-line | Hans Jørgen Lindeløff |
CameraProfile | Embedded |
CircGradBasedCorrActive | true |
CircGradBasedCorrAmount | 1.000000 |
CircGradBasedCorrBrightness | 0.000000 |
CircGradBasedCorrClarity2012 | 0.000000 |
CircGradBasedCorrContrast2012 | 0.000000 |
CircGradBasedCorrCorrectionRangeMaskColorAmount | 0.500000 |
CircGradBasedCorrCorrectionRangeMaskDepthFeather | 0.500000 |
CircGradBasedCorrCorrectionRangeMaskDepthMax | 1.000000 |
CircGradBasedCorrCorrectionRangeMaskDepthMin | 0.000000 |
CircGradBasedCorrCorrectionRangeMaskLumFeather | 0.500000 |
CircGradBasedCorrCorrectionRangeMaskLumMax | 1.000000 |
CircGradBasedCorrCorrectionRangeMaskLumMin | 0.000000 |
CircGradBasedCorrCorrectionRangeMaskType | 0 |
CircGradBasedCorrCorrectionRangeMaskVersion | +2 |
CircGradBasedCorrDefringe | 0.000000 |
CircGradBasedCorrExposure2012 (4) | 0.183287 |
CircGradBasedCorrExposure2012 (5) | 0.094227 |
CircGradBasedCorrExposure2012 | 0.073955 |
CircGradBasedCorrHighlights2012 (1) | 0.000000 |
CircGradBasedCorrHighlights2012 (5) | -0.404976 |
CircGradBasedCorrHighlights2012 | -0.272986 |
CircGradBasedCorrHue | 240.000000 |
CircGradBasedCorrLocalBlacks2012 (4) | -0.168980 |
CircGradBasedCorrLocalBlacks2012 (6) | -0.124289 |
CircGradBasedCorrLocalBlacks2012 | -0.138508 |
CircGradBasedCorrLocalDehaze | 0.000000 |
CircGradBasedCorrLocalHue | 0.000000 |
CircGradBasedCorrLocalTexture (6) | 0.169499 |
CircGradBasedCorrLocalTexture | 0.000000 |
CircGradBasedCorrLocalWhites2012 (4) | 0.197132 |
CircGradBasedCorrLocalWhites2012 (6) | 0.125359 |
CircGradBasedCorrLocalWhites2012 | 0.175666 |
CircGradBasedCorrLuminanceNoise | 0.000000 |
CircGradBasedCorrMaskAngle | 0.000000 |
CircGradBasedCorrMaskBottom (1) | 0.647035 |
CircGradBasedCorrMaskBottom (2) | 0.630424 |
CircGradBasedCorrMaskBottom (3) | 0.796159 |
CircGradBasedCorrMaskBottom (4) | 0.590249 |
CircGradBasedCorrMaskBottom (5) | 0.994152 |
CircGradBasedCorrMaskBottom (6) | 0.893391 |
CircGradBasedCorrMaskBottom | 0.896412 |
CircGradBasedCorrMaskFeather | +100 |
CircGradBasedCorrMaskFlipped | true |
CircGradBasedCorrMaskLeft (1) | 0.112636 |
CircGradBasedCorrMaskLeft (2) | 0.376433 |
CircGradBasedCorrMaskLeft (3) | -0.151760 |
CircGradBasedCorrMaskLeft (4) | 0.789119 |
CircGradBasedCorrMaskLeft (5) | -0.178892 |
CircGradBasedCorrMaskLeft (6) | 0.476640 |
CircGradBasedCorrMaskLeft | -0.027218 |
CircGradBasedCorrMaskMidpoint | +50 |
CircGradBasedCorrMaskRight (1) | 0.630105 |
CircGradBasedCorrMaskRight (2) | 0.858642 |
CircGradBasedCorrMaskRight (3) | 0.479131 |
CircGradBasedCorrMaskRight (4) | 0.990541 |
CircGradBasedCorrMaskRight (5) | 0.629388 |
CircGradBasedCorrMaskRight (6) | 1.085570 |
CircGradBasedCorrMaskRight | 1.068950 |
CircGradBasedCorrMaskRoundness | 0 |
CircGradBasedCorrMaskTop (1) | 0.448582 |
CircGradBasedCorrMaskTop (2) | 0.488791 |
CircGradBasedCorrMaskTop (3) | 0.416410 |
CircGradBasedCorrMaskTop (4) | 0.531662 |
CircGradBasedCorrMaskTop (5) | 0.654906 |
CircGradBasedCorrMaskTop (6) | 0.610761 |
CircGradBasedCorrMaskTop | 0.397170 |
CircGradBasedCorrMaskValue | 1.000000 |
CircGradBasedCorrMaskVersion | +2 |
CircGradBasedCorrMaskWhat | Mask/CircularGradient |
CircGradBasedCorrMoire | 0.000000 |
CircGradBasedCorrSaturation | 0.000000 |
CircGradBasedCorrShadows2012 | 0.000000 |
CircGradBasedCorrSharpness | 0.000000 |
CircGradBasedCorrTemperature (1) | 0.195902 |
CircGradBasedCorrTemperature (5) | 0.116372 |
CircGradBasedCorrTemperature | 0.482374 |
CircGradBasedCorrTint (2) | 0.000000 |
CircGradBasedCorrTint (6) | 0.053543 |
CircGradBasedCorrTint | 0.232397 |
CircGradBasedCorrWhat | Correction |
CircleOfConfusion | 0.006 mm |
Clarity2012 | +8 |
ColorComponents | 3 |
ColorGradeBlending | 50 |
ColorGradeGlobalHue | 0 |
ColorGradeGlobalLum | 0 |
ColorGradeGlobalSat | 0 |
ColorGradeHighlightLum | 0 |
ColorGradeMidtoneHue | 0 |
ColorGradeMidtoneLum | 0 |
ColorGradeMidtoneSat | 0 |
ColorGradeShadowLum | 0 |
ColorNoiseReduction | 0 |
ColorSpace | sRGB |
ColorTransform | YCbCr |
Contrast2012 | +8 |
ConvertToGrayscale | False |
Copyright | © Hans Jørgen Lindeløff 2021 |
CopyrightFlag | True |
CopyrightNotice | © Hans Jørgen Lindeløff 2021 |
Country | Norway |
Country-PrimaryLocationCode | NO |
Country-PrimaryLocationName | Norway |
CountryCode | NO |
CreateDate (1) | 2021:03:13 18:36:33.555+01:00 |
CreateDate | 2021:03:13 18:36:33 |
Creator | Hans Jørgen Lindeløff |
CreatorAddress | Bjørnevågveien 8 |
CreatorCity | Kråkerøy |
CreatorCountry | Norway |
CreatorPostalCode | 1676 |
CreatorTool | Adobe Photoshop Lightroom Classic 10.1.1 (Macintosh) |
CreatorWorkEmail | lundeli@mac.com |
CreatorWorkTelephone | +47 92049534 |
CreatorWorkURL | lundeliphoto.no |
CropAngle | 0 |
CropBottom | 0.930904 |
CropConstrainToWarp | 0 |
CropLeft | 0.063584 |
CropRight | 0.994455 |
CropTop | 0 |
DateCreated (1) | 2018:01:02 |
DateCreated | 2018:01:02 14:49:07.571 |
DateTimeOriginal | 2021:03:13 18:36:33 |
DefringeGreenAmount | 0 |
DefringeGreenHueHi | 60 |
DefringeGreenHueLo | 40 |
DefringePurpleAmount | 0 |
DefringePurpleHueHi | 70 |
DefringePurpleHueLo | 30 |
Dehaze | 0 |
DistortionCorrectionAlreadyApplied | True |
Exposure2012 | -0.15 |
ExposureCompensation | +0.0469 |
ExposureMode | Auto |
ExposureProgram | Program AE |
ExposureTime | 1/9 |
Flash | Off, Did not fire |
FNumber | 1.6 |
FocalLength | 5.1 mm |
FocalLength35efl | 5.1 mm (35 mm equivalent: 26.0 mm) |
FocalLengthIn35mmFormat | 26 mm |
Format | image/jpeg |
FOV | 69.4 deg |
GPSAltitude (1) | 0.06335745378 m |
GPSAltitude | 0 m Above Sea Level |
GPSAltitudeRef | Below Sea Level |
GPSDestBearing | 330.292572 |
GPSDestBearingRef | Magnetic North |
GPSHPositioningError | 4.736047842 m |
GPSImgDirection | 330.292572 |
GPSImgDirectionRef | Magnetic North |
GPSLatitude (1) | 59 deg 1' 25.12" |
GPSLatitude | 59 deg 1' 25.12" N |
GPSLatitudeRef | North |
GPSLongitude (1) | 11 deg 2' 16.49" |
GPSLongitude | 11 deg 2' 16.49" E |
GPSLongitudeRef | East |
GPSPosition | 59 deg 1' 25.12" N, 11 deg 2' 16.49" E |
GPSSpeed | 0 |
GPSSpeedRef | km/h |
GPSVersionID | 2.2.0.0 |
GradientBasedCorrActive | true |
GradientBasedCorrAmount | 1.000000 |
GradientBasedCorrBrightness | 0.000000 |
GradientBasedCorrClarity2012 | 0.000000 |
GradientBasedCorrContrast2012 | 0.000000 |
GradientBasedCorrCorrectionRangeMaskColorAmount | 0.500000 |
GradientBasedCorrCorrectionRangeMaskDepthFeather | 0.500000 |
GradientBasedCorrCorrectionRangeMaskDepthMax | 1.000000 |
GradientBasedCorrCorrectionRangeMaskDepthMin | 0.000000 |
GradientBasedCorrCorrectionRangeMaskLumFeather | 0.500000 |
GradientBasedCorrCorrectionRangeMaskLumMax | 1.000000 |
GradientBasedCorrCorrectionRangeMaskLumMin | 0.000000 |
GradientBasedCorrCorrectionRangeMaskType | 0 |
GradientBasedCorrCorrectionRangeMaskVersion | +2 |
GradientBasedCorrDefringe | 0.000000 |
GradientBasedCorrExposure2012 | -0.095983 |
GradientBasedCorrHighlights2012 | 0.000000 |
GradientBasedCorrHue | 240.000000 |
GradientBasedCorrLocalBlacks2012 | -0.274525 |
GradientBasedCorrLocalDehaze | 0.000000 |
GradientBasedCorrLocalHue | 0.000000 |
GradientBasedCorrLocalTexture | 0.000000 |
GradientBasedCorrLocalWhites2012 | 0.224679 |
GradientBasedCorrLuminanceNoise | 0.000000 |
GradientBasedCorrMaskFullX | 0.550949 |
GradientBasedCorrMaskFullY | 0.310575 |
GradientBasedCorrMaskValue | 1.000000 |
GradientBasedCorrMaskWhat | Mask/Gradient |
GradientBasedCorrMaskZeroX | 0.552059 |
GradientBasedCorrMaskZeroY | 0.589544 |
GradientBasedCorrMoire | 0.000000 |
GradientBasedCorrSaturation | 0.000000 |
GradientBasedCorrShadows2012 | 0.000000 |
GradientBasedCorrSharpness | 0.000000 |
GradientBasedCorrTemperature | 0.013261 |
GradientBasedCorrTint | 0.000000 |
GradientBasedCorrWhat | Correction |
GrainAmount | 0 |
GreenHue | 0 |
GreenSaturation | 0 |
HasCrop | True |
HasSettings | True |
Highlights2012 | -42 |
HueAdjustmentAqua | 0 |
HueAdjustmentBlue | 0 |
HueAdjustmentGreen | 0 |
HueAdjustmentMagenta | 0 |
HueAdjustmentOrange | 0 |
HueAdjustmentPurple | 0 |
HueAdjustmentRed | 0 |
HueAdjustmentYellow | 0 |
HyperfocalDistance | 2.76 m |
ImageHeight | 1152 |
ImageSize | 2048x1152 |
ImageWidth | 2048 |
IncrementalTemperature | -5 |
IncrementalTint | +16 |
ISO | 160 |
LateralChromaticAberrationCorrectionAlreadyApplied | True |
Lens | iPhone 12 Pro Max back triple camera 5.1mm f/1.6 |
LensInfo (1) | 1.53999996185121-7.5mm f/1.6-2.4 |
LensInfo | 1.539999962-7.5mm f/1.6-2.4 |
LensMake | Apple |
LensManualDistortionAmount | 0 |
LensModel | iPhone 12 Pro Max back triple camera 5.1mm f/1.6 |
LensProfileEnable | 0 |
LightValue | 3.8 |
LuminanceAdjustmentAqua | 0 |
LuminanceAdjustmentBlue | 0 |
LuminanceAdjustmentGreen | 0 |
LuminanceAdjustmentMagenta | 0 |
LuminanceAdjustmentOrange | 0 |
LuminanceAdjustmentPurple | 0 |
LuminanceAdjustmentRed | 0 |
LuminanceAdjustmentYellow | 0 |
LuminanceSmoothing | 0 |
Make | Apple |
Marked | True |
Megapixels | 2.4 |
MeteringMode | Multi-segment |
Model | iPhone 12 Pro Max |
ModifyDate (1) | 2021:03:14 05:04:48+01:00 |
ModifyDate | 2021:03:14 05:04:48 |
OverrideLookVignette | False |
ParametricDarks | 0 |
ParametricHighlights | 0 |
ParametricHighlightSplit | 75 |
ParametricLights | 0 |
ParametricMidtoneSplit | 50 |
ParametricShadows | 0 |
ParametricShadowSplit | 25 |
PerspectiveAspect | 0 |
PerspectiveHorizontal | 0 |
PerspectiveRotate | 0.0 |
PerspectiveScale | 100 |
PerspectiveUpright | 0 |
PerspectiveVertical | 0 |
PerspectiveX | 0.00 |
PerspectiveY | 0.00 |
PostCropVignetteAmount | -16 |
PostCropVignetteFeather | 50 |
PostCropVignetteHighlightContrast | 0 |
PostCropVignetteMidpoint | 50 |
PostCropVignetteRoundness | 0 |
PostCropVignetteStyle | 1 |
PreservedFileName | IMG_1562.DNG |
ProcessVersion | 11.0 |
ProfileDescription | sRGB IEC61966-2.1 |
Province-State | Viken |
Rating | 5 |
RawFileName | |
RedHue | 0 |
RedSaturation | 0 |
Rights | © Hans Jørgen Lindeløff 2021 |
Saturation | +2 |
SaturationAdjustmentAqua | 0 |
SaturationAdjustmentBlue | 0 |
SaturationAdjustmentGreen | 0 |
SaturationAdjustmentMagenta | 0 |
SaturationAdjustmentOrange | 0 |
SaturationAdjustmentPurple | 0 |
SaturationAdjustmentRed | 0 |
SaturationAdjustmentYellow | 0 |
ScaleFactor35efl | 5.1 |
SceneType | Directly photographed |
SensingMethod | One-chip color area |
Shadows2012 | +13 |
ShadowTint | 0 |
Sharpness | 0 |
ShutterSpeed | 1/9 |
ShutterSpeedValue | 1/9 |
Software | Adobe Photoshop Lightroom Classic 10.1.1 (Macintosh) |
SplitToningBalance | 0 |
SplitToningHighlightHue | 0 |
SplitToningHighlightSaturation | 0 |
SplitToningShadowHue | 0 |
SplitToningShadowSaturation | 0 |
State | Viken |
SubjectArea | 2002 1503 2213 1327 |
Texture | +5 |
ToneCurveName2012 | Linear |
ToneCurvePV2012 | 0, 0, 255, 255 |
ToneCurvePV2012Blue | 0, 0, 255, 255 |
ToneCurvePV2012Green | 0, 0, 255, 255 |
ToneCurvePV2012Red | 0, 0, 255, 255 |
Transformation | Cylindrical |
UsageTerms | All rights reserved |
Version | 13.1 |
Vibrance | +12 |
VignetteAmount | 0 |
VirtualFocalLength | 0.577877 |
VirtualImageXCenter | 0.400988 |
VirtualImageYCenter | 0.328993 |
WhiteBalance (1) | Custom |
WhiteBalance | Auto |
Whites2012 | +22 |