Felt | Verdi |
AlreadyApplied | True |
Aperture | 14.0 |
ApertureValue | 14.0 |
ApproximateFocusDistance | 5.01 |
Artist | Hans Jørgen Lindeløff |
AutoLateralCA | 1 |
BitsPerSample | 8 |
Blacks2012 | -14 |
BlueHue | 0 |
BlueSaturation | 0 |
By-line | Hans Jørgen Lindeløff |
CameraProfile | Adobe Standard |
Caption-Abstract | Rødshuet, Hvaler |
CFAPattern | [Red,Green][Green,Blue] |
CircGradBasedCorrActive | true |
CircGradBasedCorrAmount | 1.000000 |
CircGradBasedCorrBrightness | 0.000000 |
CircGradBasedCorrClarity2012 | 0.000000 |
CircGradBasedCorrContrast2012 | 0.000000 |
CircGradBasedCorrCorrectionRangeMaskType | 0 |
CircGradBasedCorrDefringe | 0.000000 |
CircGradBasedCorrExposure2012 (1) | -0.241315 |
CircGradBasedCorrExposure2012 (2) | -0.048165 |
CircGradBasedCorrExposure2012 (3) | 0.240323 |
CircGradBasedCorrExposure2012 (4) | 0.167866 |
CircGradBasedCorrExposure2012 | 0.165232 |
CircGradBasedCorrHighlights2012 (1) | -0.442147 |
CircGradBasedCorrHighlights2012 (3) | -0.118220 |
CircGradBasedCorrHighlights2012 (4) | -0.413111 |
CircGradBasedCorrHighlights2012 | -0.827711 |
CircGradBasedCorrHue | 240.000000 |
CircGradBasedCorrLocalBlacks2012 (1) | -0.101892 |
CircGradBasedCorrLocalBlacks2012 (2) | -0.072919 |
CircGradBasedCorrLocalBlacks2012 (4) | -0.045011 |
CircGradBasedCorrLocalBlacks2012 | 0.000000 |
CircGradBasedCorrLocalDehaze | 0.000000 |
CircGradBasedCorrLocalHue | 0.000000 |
CircGradBasedCorrLocalTexture | 0.000000 |
CircGradBasedCorrLocalWhites2012 (2) | 0.356081 |
CircGradBasedCorrLocalWhites2012 (3) | 0.151761 |
CircGradBasedCorrLocalWhites2012 (4) | 0.114050 |
CircGradBasedCorrLocalWhites2012 | 0.000000 |
CircGradBasedCorrLuminanceNoise | 0.000000 |
CircGradBasedCorrMaskAngle | 0.513198 |
CircGradBasedCorrMaskBottom (1) | 0.625117 |
CircGradBasedCorrMaskBottom (2) | 0.600604 |
CircGradBasedCorrMaskBottom (3) | 0.904656 |
CircGradBasedCorrMaskBottom (4) | 0.951694 |
CircGradBasedCorrMaskBottom | 0.910682 |
CircGradBasedCorrMaskCenterWeight | 0.000000 |
CircGradBasedCorrMaskFeather | +100 |
CircGradBasedCorrMaskFlipped | true |
CircGradBasedCorrMaskFlow | 0.485112 |
CircGradBasedCorrMaskLeft (1) | 0.515570 |
CircGradBasedCorrMaskLeft (2) | -0.564547 |
CircGradBasedCorrMaskLeft (3) | -0.068830 |
CircGradBasedCorrMaskLeft (4) | 0.397723 |
CircGradBasedCorrMaskLeft | -0.050744 |
CircGradBasedCorrMaskMidpoint | +50 |
CircGradBasedCorrMaskRadius (1) | 0.033162 |
CircGradBasedCorrMaskRadius (2) | 0.022682 |
CircGradBasedCorrMaskRadius (3) | 0.022533 |
CircGradBasedCorrMaskRadius (4) | 0.017111 |
CircGradBasedCorrMaskRadius (5) | 0.017158 |
CircGradBasedCorrMaskRadius | 0.017126 |
CircGradBasedCorrMaskRight (1) | 1.386160 |
CircGradBasedCorrMaskRight (2) | 0.783265 |
CircGradBasedCorrMaskRight (3) | 0.445730 |
CircGradBasedCorrMaskRight (4) | 1.224040 |
CircGradBasedCorrMaskRight | 1.219350 |
CircGradBasedCorrMaskRoundness | 0 |
CircGradBasedCorrMaskTop (1) | 0.280661 |
CircGradBasedCorrMaskTop (2) | 0.323482 |
CircGradBasedCorrMaskTop (3) | 0.596758 |
CircGradBasedCorrMaskTop (4) | 0.578680 |
CircGradBasedCorrMaskTop | 0.494524 |
CircGradBasedCorrMaskValue (2) | 1.000000 |
CircGradBasedCorrMaskValue | 0.000000 |
CircGradBasedCorrMaskVersion | +2 |
CircGradBasedCorrMaskWhat | Mask/Paint |
CircGradBasedCorrMoire | 0.000000 |
CircGradBasedCorrSaturation | 0.000000 |
CircGradBasedCorrShadows2012 (2) | 0.000000 |
CircGradBasedCorrShadows2012 (4) | 0.157694 |
CircGradBasedCorrShadows2012 | 0.397589 |
CircGradBasedCorrSharpness | 0.000000 |
CircGradBasedCorrTemperature (1) | 0.344212 |
CircGradBasedCorrTemperature (2) | 0.197130 |
CircGradBasedCorrTemperature (4) | 0.160084 |
CircGradBasedCorrTemperature | 0.090092 |
CircGradBasedCorrTint (1) | 0.111730 |
CircGradBasedCorrTint (2) | 0.499511 |
CircGradBasedCorrTint (3) | 0.098888 |
CircGradBasedCorrTint (4) | 0.000000 |
CircGradBasedCorrTint | -0.084572 |
CircGradBasedCorrWhat | Correction |
CircleOfConfusion | 0.030 mm |
Clarity2012 | 0 |
ColorComponents | 3 |
ColorGradeBlending | 50 |
ColorGradeGlobalHue | 0 |
ColorGradeGlobalLum | 0 |
ColorGradeGlobalSat | 0 |
ColorGradeHighlightLum | 0 |
ColorGradeMidtoneHue | 0 |
ColorGradeMidtoneLum | 0 |
ColorGradeMidtoneSat | 0 |
ColorGradeShadowLum | 0 |
ColorNoiseReduction | 25 |
ColorNoiseReductionDetail | 50 |
ColorNoiseReductionSmoothness | 50 |
ColorSpace | sRGB |
ColorTemperature | 6500 |
ColorTransform | YCbCr |
Contrast | Normal |
Contrast2012 | 0 |
Copyright | © Hans Jørgen Lindeløff 2020 |
CopyrightFlag | True |
CopyrightNotice | © Hans Jørgen Lindeløff 2020 |
CreateDate (1) | 2020:09:08 20:22:43.38 |
CreateDate | 2020:09:08 20:22:43 |
Creator | Hans Jørgen Lindeløff |
CreatorAddress | Bjørnevågveien 8 |
CreatorCity | Kråkerøy |
CreatorCountry | Norway |
CreatorPostalCode | 1676 |
CreatorWorkEmail | lundeli@mac.com |
CreatorWorkTelephone | +47 92049534 |
CreatorWorkURL | lundeliphoto.no |
CropAngle | 0.513179 |
CropBottom | 0.925873 |
CropConstrainToWarp | 0 |
CropLeft | 0.005013 |
CropRight | 0.994987 |
CropTop | 0.074117 |
CustomRendered | Normal |
DateCreated (1) | 2018:01:02 |
DateCreated | 2018:01:02 14:49:07.571 |
DateTimeOriginal | 2020:09:08 20:22:43 |
DefringeGreenAmount | 0 |
DefringeGreenHueHi | 60 |
DefringeGreenHueLo | 40 |
DefringePurpleAmount | 0 |
DefringePurpleHueHi | 70 |
DefringePurpleHueLo | 30 |
Dehaze | 0 |
Description | Rødshuet, Hvaler |
DigitalZoomRatio | 1 |
DistortionCorrectionAlreadyApplied | True |
DOF | inf (1.08 m - inf) |
Exposure2012 | 0.00 |
ExposureCompensation | 0 |
ExposureMode | Manual |
ExposureProgram | Manual |
ExposureTime | 2.5 |
Flash | Off, Did not fire |
FNumber | 14.0 |
FocalLength | 24.0 mm |
FocalLengthIn35mmFormat | 24 mm |
Format | image/jpeg |
FOV | 73.7 deg |
GainControl | None |
GradientBasedCorrActive | true |
GradientBasedCorrAmount | 1.000000 |
GradientBasedCorrBrightness | 0.000000 |
GradientBasedCorrClarity2012 | 0.000000 |
GradientBasedCorrContrast2012 | 0.000000 |
GradientBasedCorrCorrectionRangeMaskType | 0 |
GradientBasedCorrCorrectionRangeMaskVersion | +2 |
GradientBasedCorrDefringe | 0.000000 |
GradientBasedCorrExposure2012 (1) | -0.092917 |
GradientBasedCorrExposure2012 (2) | -0.125246 |
GradientBasedCorrExposure2012 | -0.094342 |
GradientBasedCorrHighlights2012 | 0.000000 |
GradientBasedCorrHue | 240.000000 |
GradientBasedCorrLocalBlacks2012 (2) | 0.000000 |
GradientBasedCorrLocalBlacks2012 | -0.074654 |
GradientBasedCorrLocalDehaze | 0.000000 |
GradientBasedCorrLocalHue | 0.000000 |
GradientBasedCorrLocalTexture | 0.000000 |
GradientBasedCorrLocalWhites2012 (1) | 0.000000 |
GradientBasedCorrLocalWhites2012 (2) | 0.143284 |
GradientBasedCorrLocalWhites2012 | 0.075280 |
GradientBasedCorrLuminanceNoise | 0.000000 |
GradientBasedCorrMaskFullX (1) | 0.547195 |
GradientBasedCorrMaskFullX (2) | 0.431127 |
GradientBasedCorrMaskFullX | -0.038232 |
GradientBasedCorrMaskFullY (1) | 0.190845 |
GradientBasedCorrMaskFullY (2) | 0.892586 |
GradientBasedCorrMaskFullY | 0.290608 |
GradientBasedCorrMaskValue | 1.000000 |
GradientBasedCorrMaskWhat | Mask/Gradient |
GradientBasedCorrMaskZeroX (1) | 0.544363 |
GradientBasedCorrMaskZeroX (2) | 0.433049 |
GradientBasedCorrMaskZeroX | 0.699502 |
GradientBasedCorrMaskZeroY (1) | 0.543250 |
GradientBasedCorrMaskZeroY (2) | 0.771955 |
GradientBasedCorrMaskZeroY | 0.516888 |
GradientBasedCorrMoire | 0.000000 |
GradientBasedCorrSaturation | 0.000000 |
GradientBasedCorrShadows2012 (2) | 0.000000 |
GradientBasedCorrShadows2012 | 0.272240 |
GradientBasedCorrSharpness | 0.000000 |
GradientBasedCorrTemperature (1) | -0.114957 |
GradientBasedCorrTemperature (2) | 0.000000 |
GradientBasedCorrTemperature | -0.163548 |
GradientBasedCorrTint (1) | 0.205850 |
GradientBasedCorrTint (2) | 0.000000 |
GradientBasedCorrTint | 0.083796 |
GradientBasedCorrWhat | Correction |
GrainAmount | 0 |
GreenHue | 0 |
GreenSaturation | 0 |
HasCrop | True |
HasSettings | True |
Highlights2012 | -99 |
HueAdjustmentAqua | 0 |
HueAdjustmentBlue | 0 |
HueAdjustmentGreen | 0 |
HueAdjustmentMagenta | 0 |
HueAdjustmentOrange | 0 |
HueAdjustmentPurple | 0 |
HueAdjustmentRed | 0 |
HueAdjustmentYellow | 0 |
HyperfocalDistance | 1.37 m |
ImageDescription | Rødshuet, Hvaler |
ImageHeight | 1152 |
ImageNumber | 11433 |
ImageSize | 2048x1152 |
ImageWidth | 2048 |
ISO | 100 |
Lens | 24.0-70.0 mm f/2.8 |
LensID (1) | 147 |
LensID | AF-S Zoom-Nikkor 24-70mm f/2.8G ED |
LensInfo | 24-70mm f/2.8 |
LensManualDistortionAmount | 0 |
LensModel | 24.0-70.0 mm f/2.8 |
LensProfileDistortionScale | 100 |
LensProfileEnable | 1 |
LensProfileIsEmbedded | False |
LensProfileSetup | LensDefaults |
LensProfileVignettingScale | 100 |
LightSource | Unknown |
LightValue | 6.3 |
LookAmount | 1.000000 |
LookGroup | Profiles |
LookName | Adobe Landscape |
LookParametersCameraProfile | Adobe Standard |
LookParametersClarity2012 | +10 |
LookParametersConvertToGrayscale | False |
LookParametersHighlights2012 | -12 |
LookParametersLookTable | 0B3BFB5CFB7DBF7FF175E98F24D316B0 |
LookParametersProcessVersion | 11.0 |
LookParametersShadows2012 | +12 |
LookParametersToneCurvePV2012 | 0, 0, 64, 60, 128, 128, 192, 196, 255, 255 |
LookParametersVersion | 13.2 |
LookSupportsAmount | false |
LookSupportsMonochrome | false |
LookSupportsOutputReferred | false |
LuminanceAdjustmentAqua | 0 |
LuminanceAdjustmentBlue | 0 |
LuminanceAdjustmentGreen | 0 |
LuminanceAdjustmentMagenta | 0 |
LuminanceAdjustmentOrange | 0 |
LuminanceAdjustmentPurple | 0 |
LuminanceAdjustmentRed | 0 |
LuminanceAdjustmentYellow | 0 |
LuminanceNoiseReductionContrast | 0 |
LuminanceNoiseReductionDetail | 50 |
LuminanceSmoothing | 26 |
Make | NIKON CORPORATION |
Marked | True |
MaxApertureValue | 2.8 |
Megapixels | 2.4 |
MeteringMode | Multi-segment |
Model | NIKON D750 |
ModifyDate (1) | 2021:03:26 22:46:16+01:00 |
ModifyDate | 2021:03:26 22:46:16 |
OverrideLookVignette | False |
PaintCorrectionActive | true |
PaintCorrectionAmount | 1.000000 |
PaintCorrectionBrightness | 0.000000 |
PaintCorrectionClarity2012 | 0.000000 |
PaintCorrectionContrast2012 | 0.000000 |
PaintCorrectionCorrectionRangeMaskType | 0 |
PaintCorrectionCorrectionRangeMaskVersion | +2 |
PaintCorrectionDefringe | 0.000000 |
PaintCorrectionExposure2012 (1) | 0.165232 |
PaintCorrectionExposure2012 (3) | 0.221267 |
PaintCorrectionExposure2012 | -0.165008 |
PaintCorrectionHighlights2012 | 0.000000 |
PaintCorrectionHue | 240.000000 |
PaintCorrectionLocalBlacks2012 (2) | -0.049007 |
PaintCorrectionLocalBlacks2012 | 0.000000 |
PaintCorrectionLocalDehaze | 0.000000 |
PaintCorrectionLocalHue | 0.000000 |
PaintCorrectionLocalTexture | 0.000000 |
PaintCorrectionLocalWhites2012 (2) | 0.217234 |
PaintCorrectionLocalWhites2012 | 0.000000 |
PaintCorrectionLuminanceNoise | 0.000000 |
PaintCorrectionMaskCenterWeight | 0.031330 |
PaintCorrectionMaskFlow | 0.441478 |
PaintCorrectionMaskRadius (1) | 0.068272 |
PaintCorrectionMaskRadius (10) | 0.035840 |
PaintCorrectionMaskRadius (11) | 0.035148 |
PaintCorrectionMaskRadius (12) | 0.074386 |
PaintCorrectionMaskRadius (2) | 0.072152 |
PaintCorrectionMaskRadius (3) | 0.037028 |
PaintCorrectionMaskRadius (4) | 0.037027 |
PaintCorrectionMaskRadius (5) | 0.036012 |
PaintCorrectionMaskRadius (6) | 0.036017 |
PaintCorrectionMaskRadius (7) | 0.036815 |
PaintCorrectionMaskRadius (8) | 0.037045 |
PaintCorrectionMaskRadius (9) | 0.036785 |
PaintCorrectionMaskRadius | 0.074471 |
PaintCorrectionMaskValue | 0.652207 |
PaintCorrectionMaskWhat | Mask/Paint |
PaintCorrectionMoire | 0.000000 |
PaintCorrectionSaturation | 0.000000 |
PaintCorrectionShadows2012 | 0.000000 |
PaintCorrectionSharpness | 0.000000 |
PaintCorrectionTemperature (2) | 0.146355 |
PaintCorrectionTemperature (3) | 0.090092 |
PaintCorrectionTemperature | 0.000000 |
PaintCorrectionTint (2) | -0.522675 |
PaintCorrectionTint (3) | -0.084572 |
PaintCorrectionTint | 0.000000 |
PaintCorrectionWhat | Correction |
ParametricDarks | 0 |
ParametricHighlights | 0 |
ParametricHighlightSplit | 75 |
ParametricLights | 0 |
ParametricMidtoneSplit | 50 |
ParametricShadows | 0 |
ParametricShadowSplit | 25 |
PerspectiveAspect | 0 |
PerspectiveHorizontal | 0 |
PerspectiveRotate | 0.0 |
PerspectiveScale | 100 |
PerspectiveUpright | 0 |
PerspectiveVertical | 0 |
PerspectiveX | 0.00 |
PerspectiveY | 0.00 |
PostCropVignetteAmount | -6 |
PostCropVignetteFeather | 50 |
PostCropVignetteHighlightContrast | 0 |
PostCropVignetteMidpoint | 50 |
PostCropVignetteRoundness | 0 |
PostCropVignetteStyle | 1 |
PreservedFileName | D75_1174.NEF |
ProcessVersion | 11.0 |
ProfileDescription | sRGB IEC61966-2.1 |
Rating | 5 |
RawFileName | D75_1174.NEF |
RedHue | 0 |
RedSaturation | 0 |
Rights | © Hans Jørgen Lindeløff 2020 |
Saturation (1) | 0 |
Saturation | Normal |
SaturationAdjustmentAqua | 0 |
SaturationAdjustmentBlue | -9 |
SaturationAdjustmentGreen | 0 |
SaturationAdjustmentMagenta | 0 |
SaturationAdjustmentOrange | -13 |
SaturationAdjustmentPurple | -3 |
SaturationAdjustmentRed | 0 |
SaturationAdjustmentYellow | -13 |
ScaleFactor35efl | 1.0 |
SceneCaptureType | Landscape |
SceneType | Directly photographed |
SensingMethod | One-chip color area |
SensitivityType | Recommended Exposure Index |
SerialNumber | 6128653 |
Shadows2012 | +20 |
ShadowTint | 0 |
SharpenDetail | 25 |
SharpenEdgeMasking | 53 |
SharpenRadius | +1.0 |
Sharpness (1) | 65 |
Sharpness | Normal |
ShutterSpeed | 2.5 |
ShutterSpeedValue | 2.5 |
SplitToningBalance | 0 |
SplitToningHighlightHue | 0 |
SplitToningHighlightSaturation | 0 |
SplitToningShadowHue | 0 |
SplitToningShadowSaturation | 0 |
SubjectDistanceRange | Unknown |
Texture | 0 |
Tint | +10 |
ToneCurveName2012 | Custom |
ToneCurvePV2012 | 0, 0, 69, 65, 156, 162, 255, 255 |
ToneCurvePV2012Blue | 0, 0, 255, 255 |
ToneCurvePV2012Green | 0, 0, 255, 255 |
ToneCurvePV2012Red | 0, 0, 255, 255 |
UsageTerms | All rights reserved |
Version | 13.2 |
Vibrance | 0 |
VignetteAmount | 0 |
VignetteCorrectionAlreadyApplied | True |
WhiteBalance (1) | Cloudy |
WhiteBalance | Manual |
Whites2012 | +30 |