Felt | Verdi |
AlreadyApplied | True |
Aperture | 10.0 |
ApertureValue | 10.0 |
ApproximateFocusDistance | 4294967295 |
Artist | Hans Jørgen Lindeløff |
AutoLateralCA | 1 |
BitsPerSample | 8 |
Blacks2012 | -18 |
BlueHue | 0 |
BlueSaturation | 0 |
By-line | Hans Jørgen Lindeløff |
CameraProfile | Adobe Standard |
Caption-Abstract | Kråkerøybrua |
CFAPattern | [Red,Green][Green,Blue] |
CircGradBasedCorrActive | true |
CircGradBasedCorrAmount | 1.000000 |
CircGradBasedCorrBrightness | 0.000000 |
CircGradBasedCorrClarity2012 (2) | 0.000000 |
CircGradBasedCorrClarity2012 | 0.151489 |
CircGradBasedCorrContrast2012 | 0.000000 |
CircGradBasedCorrCorrectionRangeMaskType | 0 |
CircGradBasedCorrDefringe | 0.000000 |
CircGradBasedCorrExposure2012 (1) | -0.092904 |
CircGradBasedCorrExposure2012 (3) | 0.136481 |
CircGradBasedCorrExposure2012 (6) | 0.179976 |
CircGradBasedCorrExposure2012 | 0.269389 |
CircGradBasedCorrHighlights2012 (1) | 0.000000 |
CircGradBasedCorrHighlights2012 | -0.457315 |
CircGradBasedCorrHue | 240.000000 |
CircGradBasedCorrLocalBlacks2012 | 0.000000 |
CircGradBasedCorrLocalDehaze | 0.000000 |
CircGradBasedCorrLocalHue | 0.000000 |
CircGradBasedCorrLocalTexture | 0.000000 |
CircGradBasedCorrLocalWhites2012 (6) | 0.176904 |
CircGradBasedCorrLocalWhites2012 | 0.000000 |
CircGradBasedCorrLuminanceNoise | 0.000000 |
CircGradBasedCorrMaskAngle (1) | 16.803400 |
CircGradBasedCorrMaskAngle | 0.000000 |
CircGradBasedCorrMaskBottom (1) | 1.078100 |
CircGradBasedCorrMaskBottom (2) | 0.717538 |
CircGradBasedCorrMaskBottom (3) | 0.604845 |
CircGradBasedCorrMaskBottom (4) | 0.742756 |
CircGradBasedCorrMaskBottom (5) | 0.773677 |
CircGradBasedCorrMaskBottom (6) | 0.731808 |
CircGradBasedCorrMaskBottom | 0.818119 |
CircGradBasedCorrMaskCenterWeight | 0.000000 |
CircGradBasedCorrMaskFeather | +100 |
CircGradBasedCorrMaskFlipped | true |
CircGradBasedCorrMaskFlow | 0.565125 |
CircGradBasedCorrMaskLeft (1) | 0.435973 |
CircGradBasedCorrMaskLeft (2) | 0.123776 |
CircGradBasedCorrMaskLeft (3) | 0.807977 |
CircGradBasedCorrMaskLeft (4) | 0.619329 |
CircGradBasedCorrMaskLeft (5) | 0.353548 |
CircGradBasedCorrMaskLeft (6) | 0.437558 |
CircGradBasedCorrMaskLeft | -0.042648 |
CircGradBasedCorrMaskMidpoint | +50 |
CircGradBasedCorrMaskRadius (1) | 0.025354 |
CircGradBasedCorrMaskRadius (2) | 0.025754 |
CircGradBasedCorrMaskRadius | 0.025755 |
CircGradBasedCorrMaskRight (1) | 0.751647 |
CircGradBasedCorrMaskRight (2) | 0.391921 |
CircGradBasedCorrMaskRight (3) | 0.946992 |
CircGradBasedCorrMaskRight (4) | 0.885485 |
CircGradBasedCorrMaskRight (5) | 0.509857 |
CircGradBasedCorrMaskRight (6) | 0.589240 |
CircGradBasedCorrMaskRight | 1.065940 |
CircGradBasedCorrMaskRoundness | 0 |
CircGradBasedCorrMaskTop (1) | 0.609603 |
CircGradBasedCorrMaskTop (2) | 0.530069 |
CircGradBasedCorrMaskTop (3) | 0.506037 |
CircGradBasedCorrMaskTop (4) | 0.530327 |
CircGradBasedCorrMaskTop (5) | 0.439694 |
CircGradBasedCorrMaskTop (6) | 0.631427 |
CircGradBasedCorrMaskTop | 0.499822 |
CircGradBasedCorrMaskValue (4) | 1.000000 |
CircGradBasedCorrMaskValue | 0.000000 |
CircGradBasedCorrMaskVersion | +2 |
CircGradBasedCorrMaskWhat | Mask/Paint |
CircGradBasedCorrMoire | 0.000000 |
CircGradBasedCorrSaturation | 0.000000 |
CircGradBasedCorrShadows2012 (5) | 0.123513 |
CircGradBasedCorrShadows2012 | 0.000000 |
CircGradBasedCorrSharpness | 0.000000 |
CircGradBasedCorrTemperature (1) | 0.000000 |
CircGradBasedCorrTemperature (5) | 0.135923 |
CircGradBasedCorrTemperature | 0.356826 |
CircGradBasedCorrTint (3) | 0.000000 |
CircGradBasedCorrTint | 0.204156 |
CircGradBasedCorrWhat | Correction |
CircleOfConfusion | 0.030 mm |
Clarity2012 | +8 |
ColorComponents | 3 |
ColorGradeBlending | 50 |
ColorGradeGlobalHue | 0 |
ColorGradeGlobalLum | 0 |
ColorGradeGlobalSat | 0 |
ColorGradeHighlightLum | 0 |
ColorGradeMidtoneHue | 0 |
ColorGradeMidtoneLum | 0 |
ColorGradeMidtoneSat | 0 |
ColorGradeShadowLum | 0 |
ColorNoiseReduction | 25 |
ColorNoiseReductionDetail | 50 |
ColorNoiseReductionSmoothness | 50 |
ColorSpace | sRGB |
ColorTemperature | 8100 |
ColorTransform | YCbCr |
Contrast | Normal |
Contrast2012 | 0 |
Copyright | © Hans Jørgen Lindeløff 2020 |
CopyrightFlag | True |
CopyrightNotice | © Hans Jørgen Lindeløff 2020 |
CreateDate (1) | 2020:09:10 20:21:32.79 |
CreateDate | 2020:09:10 20:21:32 |
Creator | Hans Jørgen Lindeløff |
CreatorAddress | Bjørnevågveien 8 |
CreatorCity | Kråkerøy |
CreatorCountry | Norway |
CreatorPostalCode | 1676 |
CreatorWorkEmail | lundeli@mac.com |
CreatorWorkTelephone | +47 92049534 |
CreatorWorkURL | lundeliphoto.no |
CropAngle | 0 |
CropBottom | 0.970561 |
CropConstrainToWarp | 1 |
CropLeft | 0.071197 |
CropRight | 0.932943 |
CropTop | 0.244428 |
CustomRendered | Normal |
DateCreated (1) | 2018:01:02 |
DateCreated | 2018:01:02 14:49:07.571 |
DateTimeOriginal | 2020:09:10 20:21:32 |
DefringeGreenAmount | 0 |
DefringeGreenHueHi | 60 |
DefringeGreenHueLo | 40 |
DefringePurpleAmount | 0 |
DefringePurpleHueHi | 70 |
DefringePurpleHueLo | 30 |
Dehaze | 0 |
Description | Kråkerøybrua |
DigitalZoomRatio | 1 |
DistortionCorrectionAlreadyApplied | True |
DOF | inf (1.92 m - inf) |
Exposure2012 | -0.45 |
ExposureCompensation | 0 |
ExposureMode | Manual |
ExposureProgram | Manual |
ExposureTime | 25 |
Flash | Off, Did not fire |
FNumber | 10.0 |
FocalLength | 24.0 mm |
FocalLengthIn35mmFormat | 24 mm |
Format | image/jpeg |
FOV | 73.7 deg |
GainControl | None |
GradientBasedCorrActive | true |
GradientBasedCorrAmount | 1.000000 |
GradientBasedCorrBrightness | 0.000000 |
GradientBasedCorrClarity2012 | 0.000000 |
GradientBasedCorrContrast2012 | 0.000000 |
GradientBasedCorrCorrectionRangeMaskType | 0 |
GradientBasedCorrDefringe | 0.000000 |
GradientBasedCorrExposure2012 | -0.153919 |
GradientBasedCorrHighlights2012 | 0.000000 |
GradientBasedCorrHue | 240.000000 |
GradientBasedCorrLocalBlacks2012 | 0.000000 |
GradientBasedCorrLocalDehaze | 0.000000 |
GradientBasedCorrLocalHue | 0.000000 |
GradientBasedCorrLocalTexture | 0.000000 |
GradientBasedCorrLocalWhites2012 | 0.000000 |
GradientBasedCorrLuminanceNoise | 0.000000 |
GradientBasedCorrMaskFullX | 0.522153 |
GradientBasedCorrMaskFullY | 0.247938 |
GradientBasedCorrMaskValue | 1.000000 |
GradientBasedCorrMaskWhat | Mask/Gradient |
GradientBasedCorrMaskZeroX | 0.521512 |
GradientBasedCorrMaskZeroY | 0.489401 |
GradientBasedCorrMoire | 0.000000 |
GradientBasedCorrSaturation | 0.000000 |
GradientBasedCorrShadows2012 | 0.000000 |
GradientBasedCorrSharpness | 0.000000 |
GradientBasedCorrTemperature | 0.000000 |
GradientBasedCorrTint | 0.000000 |
GradientBasedCorrWhat | Correction |
GrainAmount | 0 |
GreenHue | 0 |
GreenSaturation | 0 |
HasCrop | True |
HasSettings | True |
Highlights2012 | -31 |
HueAdjustmentAqua | 0 |
HueAdjustmentBlue | 0 |
HueAdjustmentGreen | 0 |
HueAdjustmentMagenta | 0 |
HueAdjustmentOrange | 0 |
HueAdjustmentPurple | 0 |
HueAdjustmentRed | 0 |
HueAdjustmentYellow | 0 |
HyperfocalDistance | 1.92 m |
ImageDescription | Kråkerøybrua |
ImageHeight | 1152 |
ImageNumber | 11470 |
ImageSize | 2048x1152 |
ImageWidth | 2048 |
ISO | 100 |
Lens | 24.0-70.0 mm f/2.8 |
LensID (1) | 147 |
LensID | AF-S Zoom-Nikkor 24-70mm f/2.8G ED |
LensInfo | 24-70mm f/2.8 |
LensManualDistortionAmount | 0 |
LensModel | 24.0-70.0 mm f/2.8 |
LensProfileDistortionScale | 100 |
LensProfileEnable | 1 |
LensProfileIsEmbedded | False |
LensProfileSetup | LensDefaults |
LensProfileVignettingScale | 100 |
LightSource | Unknown |
LightValue | 2.0 |
LookAmount | 1.000000 |
LookGroup | Profiles |
LookName | Adobe Landscape |
LookParametersCameraProfile | Adobe Standard |
LookParametersClarity2012 | +10 |
LookParametersConvertToGrayscale | False |
LookParametersHighlights2012 | -12 |
LookParametersLookTable | 0B3BFB5CFB7DBF7FF175E98F24D316B0 |
LookParametersProcessVersion | 11.0 |
LookParametersShadows2012 | +12 |
LookParametersToneCurvePV2012 | 0, 0, 64, 60, 128, 128, 192, 196, 255, 255 |
LookParametersVersion | 13.2 |
LookSupportsAmount | false |
LookSupportsMonochrome | false |
LookSupportsOutputReferred | false |
LuminanceAdjustmentAqua | 0 |
LuminanceAdjustmentBlue | 0 |
LuminanceAdjustmentGreen | 0 |
LuminanceAdjustmentMagenta | 0 |
LuminanceAdjustmentOrange | 0 |
LuminanceAdjustmentPurple | 0 |
LuminanceAdjustmentRed | 0 |
LuminanceAdjustmentYellow | 0 |
LuminanceNoiseReductionContrast | 0 |
LuminanceNoiseReductionDetail | 50 |
LuminanceSmoothing | 24 |
Make | NIKON CORPORATION |
Marked | True |
MaxApertureValue | 2.8 |
Megapixels | 2.4 |
MeteringMode | Multi-segment |
Model | NIKON D750 |
ModifyDate (1) | 2021:03:29 22:36:12+02:00 |
ModifyDate | 2021:03:29 22:36:12 |
OverrideLookVignette | False |
PaintCorrectionActive | true |
PaintCorrectionAmount | 1.000000 |
PaintCorrectionBrightness | 0.000000 |
PaintCorrectionClarity2012 | 0.000000 |
PaintCorrectionContrast2012 | 0.000000 |
PaintCorrectionCorrectionRangeMaskType | 0 |
PaintCorrectionCorrectionRangeMaskVersion | +2 |
PaintCorrectionDefringe | 0.000000 |
PaintCorrectionExposure2012 (1) | 0.000000 |
PaintCorrectionExposure2012 (2) | 0.211028 |
PaintCorrectionExposure2012 (3) | 0.150925 |
PaintCorrectionExposure2012 (4) | 0.118386 |
PaintCorrectionExposure2012 (5) | 0.232940 |
PaintCorrectionExposure2012 (6) | 0.045840 |
PaintCorrectionExposure2012 | 0.195040 |
PaintCorrectionHighlights2012 (1) | -0.364807 |
PaintCorrectionHighlights2012 (2) | 0.019202 |
PaintCorrectionHighlights2012 | 0.000000 |
PaintCorrectionHue | 240.000000 |
PaintCorrectionLocalBlacks2012 (5) | -0.081475 |
PaintCorrectionLocalBlacks2012 (7) | -0.077098 |
PaintCorrectionLocalBlacks2012 | 0.000000 |
PaintCorrectionLocalDehaze | 0.000000 |
PaintCorrectionLocalHue | 0.000000 |
PaintCorrectionLocalTexture | 0.000000 |
PaintCorrectionLocalWhites2012 (5) | 0.237997 |
PaintCorrectionLocalWhites2012 (8) | 0.183689 |
PaintCorrectionLocalWhites2012 | 0.000000 |
PaintCorrectionLuminanceNoise | 0.000000 |
PaintCorrectionMaskCenterWeight | 0.031330 |
PaintCorrectionMaskFlow | 0.588808 |
PaintCorrectionMaskRadius (1) | 0.002501 |
PaintCorrectionMaskRadius (10) | 0.013204 |
PaintCorrectionMaskRadius (11) | 0.013320 |
PaintCorrectionMaskRadius (12) | 0.013198 |
PaintCorrectionMaskRadius (13) | 0.014915 |
PaintCorrectionMaskRadius (14) | 0.014954 |
PaintCorrectionMaskRadius (15) | 0.037860 |
PaintCorrectionMaskRadius (16) | 0.038562 |
PaintCorrectionMaskRadius (17) | 0.015299 |
PaintCorrectionMaskRadius (18) | 0.015454 |
PaintCorrectionMaskRadius (19) | 0.023579 |
PaintCorrectionMaskRadius (2) | 0.043290 |
PaintCorrectionMaskRadius (20) | 0.009359 |
PaintCorrectionMaskRadius (21) | 0.009402 |
PaintCorrectionMaskRadius (22) | 0.003900 |
PaintCorrectionMaskRadius (23) | 0.023862 |
PaintCorrectionMaskRadius (24) | 0.023809 |
PaintCorrectionMaskRadius (25) | 0.023653 |
PaintCorrectionMaskRadius (26) | 0.023576 |
PaintCorrectionMaskRadius (27) | 0.023338 |
PaintCorrectionMaskRadius (3) | 0.043303 |
PaintCorrectionMaskRadius (4) | 0.042405 |
PaintCorrectionMaskRadius (5) | 0.033221 |
PaintCorrectionMaskRadius (6) | 0.033390 |
PaintCorrectionMaskRadius (7) | 0.033316 |
PaintCorrectionMaskRadius (8) | 0.033856 |
PaintCorrectionMaskRadius (9) | 0.011195 |
PaintCorrectionMaskRadius | 0.023019 |
PaintCorrectionMaskValue | 0.652207 |
PaintCorrectionMaskWhat | Mask/Paint |
PaintCorrectionMoire | 0.000000 |
PaintCorrectionSaturation | 0.000000 |
PaintCorrectionShadows2012 | 0.000000 |
PaintCorrectionSharpness | 0.000000 |
PaintCorrectionTemperature (1) | 0.000000 |
PaintCorrectionTemperature (3) | 0.159817 |
PaintCorrectionTemperature (5) | 0.171083 |
PaintCorrectionTemperature (6) | 0.148222 |
PaintCorrectionTemperature (8) | 0.096565 |
PaintCorrectionTemperature | 0.189627 |
PaintCorrectionTint (1) | 0.000000 |
PaintCorrectionTint (4) | 0.253639 |
PaintCorrectionTint (5) | 0.149306 |
PaintCorrectionTint | 0.080586 |
PaintCorrectionWhat | Correction |
ParametricDarks | 0 |
ParametricHighlights | 0 |
ParametricHighlightSplit | 75 |
ParametricLights | 0 |
ParametricMidtoneSplit | 50 |
ParametricShadows | 0 |
ParametricShadowSplit | 25 |
PerspectiveAspect | 0 |
PerspectiveHorizontal | 0 |
PerspectiveRotate | 0.0 |
PerspectiveScale | 100 |
PerspectiveUpright | 0 |
PerspectiveVertical | -13 |
PerspectiveX | 0.00 |
PerspectiveY | 0.00 |
PostCropVignetteAmount | -5 |
PostCropVignetteFeather | 50 |
PostCropVignetteHighlightContrast | 0 |
PostCropVignetteMidpoint | 50 |
PostCropVignetteRoundness | 0 |
PostCropVignetteStyle | 1 |
PreservedFileName | D75_1210.NEF |
ProcessVersion | 11.0 |
ProfileDescription | sRGB IEC61966-2.1 |
Rating | 5 |
RawFileName | D75_1210.NEF |
RedHue | 0 |
RedSaturation | 0 |
Rights | © Hans Jørgen Lindeløff 2020 |
Saturation (1) | +6 |
Saturation | Normal |
SaturationAdjustmentAqua | 0 |
SaturationAdjustmentBlue | +13 |
SaturationAdjustmentGreen | 0 |
SaturationAdjustmentMagenta | 0 |
SaturationAdjustmentOrange | 0 |
SaturationAdjustmentPurple | +3 |
SaturationAdjustmentRed | 0 |
SaturationAdjustmentYellow | 0 |
ScaleFactor35efl | 1.0 |
SceneCaptureType | Landscape |
SceneType | Directly photographed |
SensingMethod | One-chip color area |
SensitivityType | Recommended Exposure Index |
SerialNumber | 6128653 |
Shadows2012 | +69 |
ShadowTint | 0 |
SharpenDetail | 25 |
SharpenEdgeMasking | 56 |
SharpenRadius | +1.0 |
Sharpness (1) | 65 |
Sharpness | Normal |
ShutterSpeed | 25 |
ShutterSpeedValue | 25 |
SplitToningBalance | 0 |
SplitToningHighlightHue | 0 |
SplitToningHighlightSaturation | 0 |
SplitToningShadowHue | 0 |
SplitToningShadowSaturation | 0 |
SubjectDistanceRange | Unknown |
Texture | 0 |
Tint | +39 |
ToneCurveName2012 | Custom |
ToneCurvePV2012 | 0, 0, 48, 50, 121, 128, 255, 255 |
ToneCurvePV2012Blue | 0, 0, 255, 255 |
ToneCurvePV2012Green | 0, 0, 255, 255 |
ToneCurvePV2012Red | 0, 0, 255, 255 |
UsageTerms | All rights reserved |
Version | 13.2 |
Vibrance | +19 |
VignetteAmount | 0 |
VignetteCorrectionAlreadyApplied | True |
WhiteBalance (1) | Custom |
WhiteBalance | Manual |
Whites2012 | +12 |