Felt | Verdi |
AlreadyApplied | True |
Aperture | 13.0 |
ApertureValue | 13.0 |
ApproximateFocusDistance | 4 |
Artist | Kristinn-Gudlaugsson |
AutoLateralCA | 0 |
BitsPerSample | 8 |
Blacks2012 | -75 |
BlueHue | 0 |
BlueSaturation | 0 |
By-line | Kristinn-Gudlaugsson |
CameraProfile | Adobe Standard |
CircGradBasedCorrActive | true |
CircGradBasedCorrAmount | 1.000000 |
CircGradBasedCorrBrightness | 0.000000 |
CircGradBasedCorrClarity2012 | -0.454644 |
CircGradBasedCorrContrast2012 | 0.000000 |
CircGradBasedCorrCorrectionRangeMaskAreaModelsAreaComponents | 0.097124 0.317327 0.238247 0.136630, 0.315682 0.303197 0.292790 0.168611, 0.534241 0.312879 0.331754 0.166751, 0.752800 0.320539 0.399992 0.128895, 0.971359 0.341238 0.456565 0.126863 |
CircGradBasedCorrCorrectionRangeMaskAreaModelsAreaPosition | 0.757349 0.550478 0 |
CircGradBasedCorrCorrectionRangeMaskColorAmount | 0.406281 |
CircGradBasedCorrCorrectionRangeMaskDepthFeather | 0.500000 |
CircGradBasedCorrCorrectionRangeMaskDepthMax | 1.000000 |
CircGradBasedCorrCorrectionRangeMaskDepthMin | 0.000000 |
CircGradBasedCorrCorrectionRangeMaskLumFeather | 0.283673 |
CircGradBasedCorrCorrectionRangeMaskLumMax | 1.000000 |
CircGradBasedCorrCorrectionRangeMaskLumMin | 0.000000 |
CircGradBasedCorrCorrectionRangeMaskType | +2 |
CircGradBasedCorrCorrectionRangeMaskVersion | +2 |
CircGradBasedCorrDefringe | 0.000000 |
CircGradBasedCorrExposure2012 | 0.091417 |
CircGradBasedCorrHighlights2012 | 0.000000 |
CircGradBasedCorrHue | 0.000000 |
CircGradBasedCorrLocalBlacks2012 | -0.427645 |
CircGradBasedCorrLocalDehaze | -0.202582 |
CircGradBasedCorrLocalHue | 0.000000 |
CircGradBasedCorrLocalTexture | 0.000000 |
CircGradBasedCorrLocalWhites2012 | 0.414062 |
CircGradBasedCorrLuminanceNoise | 0.000000 |
CircGradBasedCorrMaskAngle | 0.000000 |
CircGradBasedCorrMaskBottom | 0.701559 |
CircGradBasedCorrMaskFeather | +67 |
CircGradBasedCorrMaskFlipped | true |
CircGradBasedCorrMaskLeft | 0.338639 |
CircGradBasedCorrMaskMidpoint | +50 |
CircGradBasedCorrMaskRight | 0.935898 |
CircGradBasedCorrMaskRoundness | 0 |
CircGradBasedCorrMaskTop | 0.334267 |
CircGradBasedCorrMaskValue | 1.000000 |
CircGradBasedCorrMaskVersion | +2 |
CircGradBasedCorrMaskWhat | Mask/CircularGradient |
CircGradBasedCorrMoire | 0.000000 |
CircGradBasedCorrSaturation | 0.000000 |
CircGradBasedCorrShadows2012 | 0.000000 |
CircGradBasedCorrSharpness | 0.468921 |
CircGradBasedCorrTemperature | 0.000000 |
CircGradBasedCorrTint | 0.000000 |
CircGradBasedCorrWhat | Correction |
CircleOfConfusion | 0.030 mm |
City | Skútustaðahreppur |
Clarity2012 | 0 |
ColorComponents | 3 |
ColorGradeBlending | 50 |
ColorGradeGlobalHue | 0 |
ColorGradeGlobalLum | 0 |
ColorGradeGlobalSat | 0 |
ColorGradeHighlightLum | 0 |
ColorGradeMidtoneHue | 0 |
ColorGradeMidtoneLum | 0 |
ColorGradeMidtoneSat | 0 |
ColorGradeShadowLum | 0 |
ColorNoiseReduction | 25 |
ColorNoiseReductionDetail | 50 |
ColorNoiseReductionSmoothness | 50 |
ColorSpace | sRGB |
ColorTemperature | 5750 |
ColorTransform | YCbCr |
Contrast | High |
Contrast2012 | +7 |
Copyright | StiniFoto |
CopyrightNotice | StiniFoto |
Country | Iceland |
Country-PrimaryLocationCode | IS |
Country-PrimaryLocationName | Iceland |
CountryCode | IS |
CreateDate | 2021:04:05 17:10:59 |
Creator | Kristinn-Gudlaugsson |
CreatorTool | Adobe Photoshop Lightroom Classic 10.2 (Macintosh) |
CropAngle | 0 |
CropBottom | 1 |
CropConstrainToWarp | 0 |
CropLeft | 0.129708 |
CropRight | 1 |
CropTop | 0 |
CustomRendered | Normal |
DateCreated (1) | 2021:04:05 |
DateCreated | 2021:04:05 17:10:59 |
DateTimeOriginal | 2021:04:05 17:10:59 |
DefringeGreenAmount | 0 |
DefringeGreenHueHi | 60 |
DefringeGreenHueLo | 40 |
DefringePurpleAmount | 0 |
DefringePurpleHueHi | 70 |
DefringePurpleHueLo | 30 |
Dehaze | 0 |
DOF | 2.78 m (3.05 - 5.82 m) |
Exposure2012 | +0.21 |
ExposureCompensation | -0.7 |
ExposureMode | Manual |
ExposureProgram | Not Defined |
ExposureTime | 1/400 |
Flash | Off, Did not fire |
FNumber | 13.0 |
FocalLength | 70.0 mm |
FocalLength35efl | 70.0 mm (35 mm equivalent: 70.0 mm) |
FocalLengthIn35mmFormat | 70 mm |
Format | image/jpeg |
FOV | 28.8 deg |
GPSAltitude (1) | 286.8 m |
GPSAltitude | 286.8 m Above Sea Level |
GPSAltitudeRef | Above Sea Level |
GPSDateStamp | 2021:04:05 |
GPSDateTime | 2021:04:05 16:10:59.283Z |
GPSImgDirection | 23.98 |
GPSImgDirectionRef | True North |
GPSLatitude (1) | 65 deg 34' 37.67" |
GPSLatitude | 65 deg 34' 37.67" N |
GPSLatitudeRef | North |
GPSLongitude (1) | 16 deg 57' 0.58" |
GPSLongitude | 16 deg 57' 0.58" W |
GPSLongitudeRef | West |
GPSMapDatum | WGS-84 |
GPSMeasureMode | 3-Dimensional Measurement |
GPSPosition | 65 deg 34' 37.67" N, 16 deg 57' 0.58" W |
GPSProcessingMethod | GPS |
GPSSatellites | 08 |
GPSSpeed | 0.61 |
GPSSpeedRef | km/h |
GPSStatus | Measurement Active |
GPSTimeStamp | 16:10:59.283 |
GPSTrack | 178.75 |
GPSTrackRef | True North |
GPSVersionID | 2.3.0.0 |
GradientBasedCorrActive | true |
GradientBasedCorrAmount | 1.000000 |
GradientBasedCorrBrightness | 0.000000 |
GradientBasedCorrClarity2012 | 0.000000 |
GradientBasedCorrContrast2012 | 0.000000 |
GradientBasedCorrCorrectionRangeMaskColorAmount (1) | 0.678500 |
GradientBasedCorrCorrectionRangeMaskColorAmount | 0.500000 |
GradientBasedCorrCorrectionRangeMaskDepthFeather | 0.500000 |
GradientBasedCorrCorrectionRangeMaskDepthMax | 1.000000 |
GradientBasedCorrCorrectionRangeMaskDepthMin | 0.000000 |
GradientBasedCorrCorrectionRangeMaskLumFeather (1) | 0.500000 |
GradientBasedCorrCorrectionRangeMaskLumFeather | 0.470278 |
GradientBasedCorrCorrectionRangeMaskLumMax (1) | 1.000000 |
GradientBasedCorrCorrectionRangeMaskLumMax | 0.742119 |
GradientBasedCorrCorrectionRangeMaskLumMin (1) | 0.069404 |
GradientBasedCorrCorrectionRangeMaskLumMin | 0.000000 |
GradientBasedCorrCorrectionRangeMaskPointModels | 0.181195 0.373750 0.344179 0.515560 0.760461 0 |
GradientBasedCorrCorrectionRangeMaskType | +2 |
GradientBasedCorrCorrectionRangeMaskVersion | +2 |
GradientBasedCorrDefringe | 0.000000 |
GradientBasedCorrExposure2012 (1) | -0.227049 |
GradientBasedCorrExposure2012 | -0.327854 |
GradientBasedCorrHighlights2012 | 0.000000 |
GradientBasedCorrHue | 0.000000 |
GradientBasedCorrLocalBlacks2012 | 0.000000 |
GradientBasedCorrLocalDehaze | 0.000000 |
GradientBasedCorrLocalHue | 0.000000 |
GradientBasedCorrLocalTexture | 0.000000 |
GradientBasedCorrLocalWhites2012 | 0.000000 |
GradientBasedCorrLuminanceNoise | 0.000000 |
GradientBasedCorrMaskFullX (1) | 0.535044 |
GradientBasedCorrMaskFullX (2) | 0.519559 |
GradientBasedCorrMaskFullX | -0.030293 |
GradientBasedCorrMaskFullY (1) | -0.043924 |
GradientBasedCorrMaskFullY (2) | 1.204470 |
GradientBasedCorrMaskFullY | 1.017060 |
GradientBasedCorrMaskValue | 1.000000 |
GradientBasedCorrMaskWhat | Mask/Gradient |
GradientBasedCorrMaskZeroX (1) | 0.484922 |
GradientBasedCorrMaskZeroX (2) | 0.546087 |
GradientBasedCorrMaskZeroX | 0.370265 |
GradientBasedCorrMaskZeroY (1) | 0.773438 |
GradientBasedCorrMaskZeroY (2) | 0.593254 |
GradientBasedCorrMaskZeroY | 0.595231 |
GradientBasedCorrMoire | 0.000000 |
GradientBasedCorrSaturation | 0.000000 |
GradientBasedCorrShadows2012 | 0.412190 |
GradientBasedCorrSharpness | 0.000000 |
GradientBasedCorrTemperature | -0.328234 |
GradientBasedCorrTint | 0.084093 |
GradientBasedCorrWhat | Correction |
GrainAmount | 0 |
GreenHue | 0 |
GreenSaturation | 0 |
HasCrop | True |
HasSettings | True |
Highlights2012 | -38 |
HueAdjustmentAqua | 0 |
HueAdjustmentBlue | 0 |
HueAdjustmentGreen | 0 |
HueAdjustmentMagenta | 0 |
HueAdjustmentOrange | 0 |
HueAdjustmentPurple | 0 |
HueAdjustmentRed | 0 |
HueAdjustmentYellow | 0 |
HyperfocalDistance | 12.54 m |
ImageHeight | 1000 |
ImageSize | 1304x1000 |
ImageWidth | 1304 |
ISO | 100 |
Lens | HD PENTAX-D FA 24-70mm F2.8ED SDM WR |
LensID (1) | 8 62 |
LensID | HD PENTAX-D FA 24-70mm F2.8 ED SDM WR |
LensInfo | 24-70mm f/2.8 |
LensManualDistortionAmount | 0 |
LensModel | HD PENTAX-D FA 24-70mm F2.8ED SDM WR |
LensProfileEnable | 0 |
LightValue | 16.0 |
LookAmount | 0.310000 |
LookCluster | MattK |
LookGroup | Matt K - 4 Seasons |
LookName | Spring 1 |
LookParametersConvertToGrayscale | False |
LookParametersProcessVersion | 11.0 |
LookParametersRGBTable | 84D01180C561CFD5700067A2520E43F6 |
LookParametersVersion | 13.2 |
LuminanceAdjustmentAqua | 0 |
LuminanceAdjustmentBlue | 0 |
LuminanceAdjustmentGreen | 0 |
LuminanceAdjustmentMagenta | 0 |
LuminanceAdjustmentOrange | 0 |
LuminanceAdjustmentPurple | 0 |
LuminanceAdjustmentRed | 0 |
LuminanceAdjustmentYellow | 0 |
LuminanceSmoothing | 0 |
Make | RICOH IMAGING COMPANY, LTD. |
Megapixels | 1.3 |
MeteringMode | Spot |
Model | PENTAX K-1 |
ModifyDate (1) | 2021:04:06 15:15:23Z |
ModifyDate | 2021:04:06 15:15:23 |
OverrideLookVignette | False |
PaintCorrectionActive | true |
PaintCorrectionAmount | 1.000000 |
PaintCorrectionBrightness | 0.000000 |
PaintCorrectionClarity2012 | 0.000000 |
PaintCorrectionContrast2012 | 0.000000 |
PaintCorrectionCorrectionRangeMaskColorAmount | 0.500000 |
PaintCorrectionCorrectionRangeMaskDepthFeather | 0.500000 |
PaintCorrectionCorrectionRangeMaskDepthMax | 1.000000 |
PaintCorrectionCorrectionRangeMaskDepthMin | 0.000000 |
PaintCorrectionCorrectionRangeMaskLumFeather | 0.500000 |
PaintCorrectionCorrectionRangeMaskLumMax | 0.685140 |
PaintCorrectionCorrectionRangeMaskLumMin | 0.047351 |
PaintCorrectionCorrectionRangeMaskType | +2 |
PaintCorrectionCorrectionRangeMaskVersion | +2 |
PaintCorrectionDefringe | 0.000000 |
PaintCorrectionExposure2012 | 0.136013 |
PaintCorrectionHighlights2012 | 0.000000 |
PaintCorrectionHue | 0.000000 |
PaintCorrectionLocalBlacks2012 | 0.000000 |
PaintCorrectionLocalDehaze | 0.000000 |
PaintCorrectionLocalHue | 0.000000 |
PaintCorrectionLocalTexture | 0.000000 |
PaintCorrectionLocalWhites2012 | 0.000000 |
PaintCorrectionLuminanceNoise | 0.000000 |
PaintCorrectionMaskCenterWeight | 0.248532 |
PaintCorrectionMaskFlow (1) | 1.000000 |
PaintCorrectionMaskFlow | 0.353839 |
PaintCorrectionMaskRadius | 0.034545 |
PaintCorrectionMaskValue (1) | 1.000000 |
PaintCorrectionMaskValue | 0.278190 |
PaintCorrectionMaskWhat | Mask/Paint |
PaintCorrectionMoire | 0.000000 |
PaintCorrectionSaturation | 0.000000 |
PaintCorrectionShadows2012 | 0.000000 |
PaintCorrectionSharpness | 0.000000 |
PaintCorrectionTemperature | 0.000000 |
PaintCorrectionTint | 0.000000 |
PaintCorrectionWhat | Correction |
ParametricDarks | 0 |
ParametricHighlights | 0 |
ParametricHighlightSplit | 75 |
ParametricLights | 0 |
ParametricMidtoneSplit | 50 |
ParametricShadows | 0 |
ParametricShadowSplit | 25 |
PerspectiveAspect | 0 |
PerspectiveHorizontal | 0 |
PerspectiveRotate | 0.0 |
PerspectiveScale | 100 |
PerspectiveUpright | 0 |
PerspectiveVertical | 0 |
PerspectiveX | 0.00 |
PerspectiveY | 0.00 |
PostCropVignetteAmount | 0 |
PreservedFileName | K1__0201.PEF |
ProcessVersion | 11.0 |
ProfileDescription | sRGB IEC61966-2.1 |
Province-State | Northeastern |
RangeMaskMapInfoRangeMaskMapInfoLabMax | 0.999924 0.512642 0.537728 |
RangeMaskMapInfoRangeMaskMapInfoLabMin | 0.003571 0.487114 0.441855 |
RangeMaskMapInfoRangeMaskMapInfoRGBMax | 0.143084 0.142641 0.149935 |
RangeMaskMapInfoRangeMaskMapInfoRGBMin | 0.003220 0.003296 0.004257 |
RawFileName | K1__0201.PEF |
RedHue | 0 |
RedSaturation | 0 |
Rights | StiniFoto |
Saturation (1) | +5 |
Saturation | Normal |
SaturationAdjustmentAqua | 0 |
SaturationAdjustmentBlue | 0 |
SaturationAdjustmentGreen | 0 |
SaturationAdjustmentMagenta | 0 |
SaturationAdjustmentOrange | 0 |
SaturationAdjustmentPurple | 0 |
SaturationAdjustmentRed | 0 |
SaturationAdjustmentYellow | 0 |
ScaleFactor35efl | 1.0 |
SceneCaptureType | Standard |
SensingMethod | One-chip color area |
SensitivityType | Standard Output Sensitivity |
Shadows2012 | +73 |
ShadowTint | 0 |
SharpenDetail | 25 |
SharpenEdgeMasking | 0 |
SharpenRadius | +1.0 |
Sharpness (1) | 40 |
Sharpness | Hard |
ShutterSpeed | 1/400 |
ShutterSpeedValue | 1/400 |
Software | Adobe Photoshop Lightroom Classic 10.2 (Macintosh) |
SplitToningBalance | 0 |
SplitToningHighlightHue | 0 |
SplitToningHighlightSaturation | 0 |
SplitToningShadowHue | 0 |
SplitToningShadowSaturation | 0 |
StandardOutputSensitivity | 100 |
State | Northeastern |
SubjectDistanceRange | Distant |
Texture | 0 |
Tint | +9 |
ToneCurveName2012 | Linear |
ToneCurvePV2012 | 0, 0, 255, 255 |
ToneCurvePV2012Blue | 0, 0, 255, 255 |
ToneCurvePV2012Green | 0, 0, 255, 255 |
ToneCurvePV2012Red | 0, 0, 255, 255 |
Version | 13.2 |
Vibrance | +17 |
VignetteAmount | 0 |
WhiteBalance (1) | As Shot |
WhiteBalance | Manual |
Whites2012 | +42 |