Felt | Verdi |
AlreadyApplied | True |
Aperture | 13.0 |
ApertureValue | 13.0 |
ApproximateFocusDistance | 4294967295 |
Artist | Hans Jørgen Lindeløff |
AutoLateralCA | 1 |
BitsPerSample | 8 |
Blacks2012 | 0 |
BlueHue | 0 |
BlueSaturation | 0 |
By-line | Hans Jørgen Lindeløff |
CameraProfile | Embedded |
Caption-Abstract | Stuguflåten bro |
CircGradBasedCorrActive | true |
CircGradBasedCorrAmount | 1.000000 |
CircGradBasedCorrBrightness | 0.000000 |
CircGradBasedCorrClarity2012 | 0.000000 |
CircGradBasedCorrContrast2012 | 0.000000 |
CircGradBasedCorrCorrectionRangeMaskColorAmount | 0.500000 |
CircGradBasedCorrCorrectionRangeMaskDepthFeather | 0.500000 |
CircGradBasedCorrCorrectionRangeMaskDepthMax | 1.000000 |
CircGradBasedCorrCorrectionRangeMaskDepthMin | 0.000000 |
CircGradBasedCorrCorrectionRangeMaskLumFeather | 0.500000 |
CircGradBasedCorrCorrectionRangeMaskLumMax | 1.000000 |
CircGradBasedCorrCorrectionRangeMaskLumMin (2) | 0.483479 |
CircGradBasedCorrCorrectionRangeMaskLumMin | 0.000000 |
CircGradBasedCorrCorrectionRangeMaskType (2) | +2 |
CircGradBasedCorrCorrectionRangeMaskType | 0 |
CircGradBasedCorrCorrectionRangeMaskVersion | +2 |
CircGradBasedCorrDefringe | 0.000000 |
CircGradBasedCorrExposure2012 (1) | 0.215263 |
CircGradBasedCorrExposure2012 (2) | 0.000000 |
CircGradBasedCorrExposure2012 | -0.051317 |
CircGradBasedCorrHighlights2012 (1) | -0.323848 |
CircGradBasedCorrHighlights2012 | 0.000000 |
CircGradBasedCorrHue (2) | 240.000000 |
CircGradBasedCorrHue | 0.000000 |
CircGradBasedCorrLocalBlacks2012 | 0.000000 |
CircGradBasedCorrLocalDehaze | 0.000000 |
CircGradBasedCorrLocalHue | 0.000000 |
CircGradBasedCorrLocalTexture | 0.000000 |
CircGradBasedCorrLocalWhites2012 | 0.000000 |
CircGradBasedCorrLuminanceNoise | 0.000000 |
CircGradBasedCorrMaskAngle | 0.000000 |
CircGradBasedCorrMaskBottom (1) | 0.652698 |
CircGradBasedCorrMaskBottom (2) | 1.137380 |
CircGradBasedCorrMaskBottom | 0.457344 |
CircGradBasedCorrMaskCenterWeight (22) | 0.262338 |
CircGradBasedCorrMaskCenterWeight | 0.000000 |
CircGradBasedCorrMaskFeather (2) | +100 |
CircGradBasedCorrMaskFeather | +50 |
CircGradBasedCorrMaskFlipped | true |
CircGradBasedCorrMaskFlow (14) | 0.785778 |
CircGradBasedCorrMaskFlow (21) | 0.671572 |
CircGradBasedCorrMaskFlow | 0.729873 |
CircGradBasedCorrMaskLeft (1) | -0.001344 |
CircGradBasedCorrMaskLeft (2) | -0.029067 |
CircGradBasedCorrMaskLeft | -0.059140 |
CircGradBasedCorrMaskMidpoint | +50 |
CircGradBasedCorrMaskRadius (1) | 0.048044 |
CircGradBasedCorrMaskRadius (10) | 0.026954 |
CircGradBasedCorrMaskRadius (11) | 0.027117 |
CircGradBasedCorrMaskRadius (12) | 0.026911 |
CircGradBasedCorrMaskRadius (13) | 0.028702 |
CircGradBasedCorrMaskRadius (14) | 0.029059 |
CircGradBasedCorrMaskRadius (15) | 0.027923 |
CircGradBasedCorrMaskRadius (16) | 0.016574 |
CircGradBasedCorrMaskRadius (17) | 0.016825 |
CircGradBasedCorrMaskRadius (18) | 0.017091 |
CircGradBasedCorrMaskRadius (19) | 0.015910 |
CircGradBasedCorrMaskRadius (2) | 0.047282 |
CircGradBasedCorrMaskRadius (20) | 0.015850 |
CircGradBasedCorrMaskRadius (21) | 0.018767 |
CircGradBasedCorrMaskRadius (23) | 0.018492 |
CircGradBasedCorrMaskRadius (24) | 0.018894 |
CircGradBasedCorrMaskRadius (25) | 0.078731 |
CircGradBasedCorrMaskRadius (3) | 0.072461 |
CircGradBasedCorrMaskRadius (4) | 0.048491 |
CircGradBasedCorrMaskRadius (5) | 0.050699 |
CircGradBasedCorrMaskRadius (6) | 0.051206 |
CircGradBasedCorrMaskRadius (7) | 0.028142 |
CircGradBasedCorrMaskRadius (8) | 0.028594 |
CircGradBasedCorrMaskRadius (9) | 0.028305 |
CircGradBasedCorrMaskRadius | 0.078129 |
CircGradBasedCorrMaskRight (1) | 0.599019 |
CircGradBasedCorrMaskRight (2) | 1.076090 |
CircGradBasedCorrMaskRight | 0.874695 |
CircGradBasedCorrMaskRoundness | 0 |
CircGradBasedCorrMaskTop (1) | 0.308203 |
CircGradBasedCorrMaskTop (2) | 0.558702 |
CircGradBasedCorrMaskTop | -0.136398 |
CircGradBasedCorrMaskValue (4) | 1.000000 |
CircGradBasedCorrMaskValue | 0.000000 |
CircGradBasedCorrMaskVersion | +2 |
CircGradBasedCorrMaskWhat (23) | Mask/CircularGradient |
CircGradBasedCorrMaskWhat | Mask/Paint |
CircGradBasedCorrMoire | 0.000000 |
CircGradBasedCorrSaturation (3) | -0.514099 |
CircGradBasedCorrSaturation | 0.000000 |
CircGradBasedCorrShadows2012 | 0.000000 |
CircGradBasedCorrSharpness | 0.000000 |
CircGradBasedCorrTemperature (1) | 0.267523 |
CircGradBasedCorrTemperature (2) | 0.000000 |
CircGradBasedCorrTemperature | -0.266908 |
CircGradBasedCorrTint (1) | 0.000000 |
CircGradBasedCorrTint | 0.125244 |
CircGradBasedCorrWhat | Correction |
CircleOfConfusion | 0.030 mm |
Clarity2012 | 0 |
ColorComponents | 3 |
ColorGradeBlending | 50 |
ColorGradeGlobalHue | 0 |
ColorGradeGlobalLum | 0 |
ColorGradeGlobalSat | 0 |
ColorGradeHighlightLum | 0 |
ColorGradeMidtoneHue | 0 |
ColorGradeMidtoneLum | 0 |
ColorGradeMidtoneSat | 0 |
ColorGradeShadowLum | 0 |
ColorNoiseReduction | 25 |
ColorNoiseReductionDetail | 50 |
ColorNoiseReductionSmoothness | 50 |
ColorSpace | sRGB |
ColorTransform | YCbCr |
Contrast | Normal |
Contrast2012 | +19 |
ConvertToGrayscale | False |
Copyright | © Hans Jørgen Lindeløff 2020 |
CopyrightFlag | True |
CopyrightNotice | © Hans Jørgen Lindeløff 2020 |
CreateDate | 2020:07:14 14:57:57 |
Creator | Hans Jørgen Lindeløff |
CreatorAddress | Bjørnevågveien 8 |
CreatorCity | Kråkerøy |
CreatorCountry | Norway |
CreatorPostalCode | 1676 |
CreatorWorkEmail | lundeli@mac.com |
CreatorWorkTelephone | +47 92049534 |
CreatorWorkURL | lundeliphoto.no |
CropAngle | 0 |
CropBottom | 0.993633 |
CropConstrainToWarp | 1 |
CropLeft | 0.005839 |
CropRight | 0.991423 |
CropTop | 0.156469 |
CustomRendered | Normal |
DateCreated (1) | 2018:01:02 |
DateCreated | 2018:01:02 14:49:07.571 |
DateTimeOriginal | 2020:07:14 14:57:57 |
DefringeGreenAmount | 0 |
DefringeGreenHueHi | 60 |
DefringeGreenHueLo | 40 |
DefringePurpleAmount | 0 |
DefringePurpleHueHi | 70 |
DefringePurpleHueLo | 30 |
Dehaze | 0 |
Description | Stuguflåten bro |
DigitalZoomRatio | 1 |
DistortionCorrectionAlreadyApplied | True |
DOF | inf (1.47 m - inf) |
Exposure2012 | 0.00 |
ExposureCompensation | 0 |
ExposureMode | Manual |
ExposureProgram | Manual |
ExposureTime | 3 |
Flash | Off, Did not fire |
FNumber | 13.0 |
FocalLength | 24.0 mm |
FocalLength35efl | 24.0 mm (35 mm equivalent: 24.0 mm) |
FocalLengthIn35mmFormat | 24 mm |
Format | image/jpeg |
FOV | 73.7 deg |
GainControl | None |
GrainAmount | 0 |
GreenHue | 0 |
GreenSaturation | 0 |
HasCrop | True |
HasExtendedXMP | B515AE37C4C885A8D345DA74F390EABB |
HasSettings | True |
Highlights2012 | -36 |
HueAdjustmentAqua | 0 |
HueAdjustmentBlue | 0 |
HueAdjustmentGreen | 0 |
HueAdjustmentMagenta | 0 |
HueAdjustmentOrange | 0 |
HueAdjustmentPurple | 0 |
HueAdjustmentRed | 0 |
HueAdjustmentYellow | 0 |
HyperfocalDistance | 1.47 m |
ImageDescription | Stuguflåten bro |
ImageHeight | 1152 |
ImageNumber | 9403 |
ImageSize | 2048x1152 |
ImageWidth | 2048 |
IncrementalTemperature | +4 |
IncrementalTint | +9 |
ISO | 100 |
Keywords | Tog, longexposure, stuguflåten |
LateralChromaticAberrationCorrectionAlreadyApplied | True |
Lens | 24.0-70.0 mm f/2.8 |
LensID (1) | 147 |
LensID | AF-S Zoom-Nikkor 24-70mm f/2.8G ED |
LensInfo | 24-70mm f/2.8 |
LensManualDistortionAmount | 0 |
LensModel | 24.0-70.0 mm f/2.8 |
LensProfileDistortionScale | 100 |
LensProfileEnable | 1 |
LensProfileFilename | NIKON D3X (Nikon FX 24-70mm f2.8 G ED).lcp |
LensProfileIsEmbedded | False |
LensProfileName | Adobe (Nikon AF-S NIKKOR 24-70mm f/2.8G ED) |
LensProfileSetup | LensDefaults |
LensProfileVignettingScale | 100 |
LightSource | Unknown |
LightValue | 5.8 |
LuminanceAdjustmentAqua | 0 |
LuminanceAdjustmentBlue | 0 |
LuminanceAdjustmentGreen | 0 |
LuminanceAdjustmentMagenta | 0 |
LuminanceAdjustmentOrange | 0 |
LuminanceAdjustmentPurple | 0 |
LuminanceAdjustmentRed | 0 |
LuminanceAdjustmentYellow | 0 |
LuminanceNoiseReductionContrast | 0 |
LuminanceNoiseReductionDetail | 50 |
LuminanceSmoothing | 24 |
Make | NIKON CORPORATION |
Marked | True |
MaxApertureValue | 2.8 |
Megapixels | 2.4 |
MeteringMode | Multi-segment |
Model | NIKON D750 |
ModifyDate (1) | 2021:04:14 04:36:46+02:00 |
ModifyDate | 2021:04:14 04:36:46 |
OverrideLookVignette | False |
PaintCorrectionActive | true |
PaintCorrectionAmount | 1.000000 |
PaintCorrectionBrightness | 0.000000 |
PaintCorrectionClarity2012 | 0.000000 |
PaintCorrectionContrast2012 | 0.000000 |
PaintCorrectionCorrectionRangeMaskColorAmount | 0.500000 |
PaintCorrectionCorrectionRangeMaskDepthFeather | 0.500000 |
PaintCorrectionCorrectionRangeMaskDepthMax | 1.000000 |
PaintCorrectionCorrectionRangeMaskDepthMin | 0.000000 |
PaintCorrectionCorrectionRangeMaskLumFeather | 0.500000 |
PaintCorrectionCorrectionRangeMaskLumMax | 1.000000 |
PaintCorrectionCorrectionRangeMaskLumMin | 0.000000 |
PaintCorrectionCorrectionRangeMaskType | 0 |
PaintCorrectionCorrectionRangeMaskVersion | +2 |
PaintCorrectionDefringe | 0.000000 |
PaintCorrectionExposure2012 (1) | 0.086713 |
PaintCorrectionExposure2012 (2) | 0.142912 |
PaintCorrectionExposure2012 (4) | 0.383880 |
PaintCorrectionExposure2012 (5) | 0.612641 |
PaintCorrectionExposure2012 (6) | -0.079206 |
PaintCorrectionExposure2012 | 0.000000 |
PaintCorrectionHighlights2012 | 0.000000 |
PaintCorrectionHue | 240.000000 |
PaintCorrectionLocalBlacks2012 | 0.000000 |
PaintCorrectionLocalDehaze | 0.000000 |
PaintCorrectionLocalHue (5) | 0.000000 |
PaintCorrectionLocalHue | -0.078292 |
PaintCorrectionLocalTexture | 0.000000 |
PaintCorrectionLocalWhites2012 | 0.000000 |
PaintCorrectionLuminanceNoise | 0.000000 |
PaintCorrectionMaskCenterWeight | 0.031330 |
PaintCorrectionMaskFlow | 0.607650 |
PaintCorrectionMaskRadius (1) | 0.060931 |
PaintCorrectionMaskRadius (10) | 0.067111 |
PaintCorrectionMaskRadius (11) | 0.072042 |
PaintCorrectionMaskRadius (12) | 0.071807 |
PaintCorrectionMaskRadius (13) | 0.069623 |
PaintCorrectionMaskRadius (14) | 0.037742 |
PaintCorrectionMaskRadius (15) | 0.026747 |
PaintCorrectionMaskRadius (16) | 0.029480 |
PaintCorrectionMaskRadius (17) | 0.030358 |
PaintCorrectionMaskRadius (18) | 0.030920 |
PaintCorrectionMaskRadius (19) | 0.030491 |
PaintCorrectionMaskRadius (2) | 0.059621 |
PaintCorrectionMaskRadius (20) | 0.030306 |
PaintCorrectionMaskRadius (21) | 0.028192 |
PaintCorrectionMaskRadius (22) | 0.029073 |
PaintCorrectionMaskRadius (23) | 0.029530 |
PaintCorrectionMaskRadius (24) | 0.028598 |
PaintCorrectionMaskRadius (25) | 0.028203 |
PaintCorrectionMaskRadius (26) | 0.028616 |
PaintCorrectionMaskRadius (27) | 0.028917 |
PaintCorrectionMaskRadius (28) | 0.050129 |
PaintCorrectionMaskRadius (29) | 0.049699 |
PaintCorrectionMaskRadius (3) | 0.059724 |
PaintCorrectionMaskRadius (30) | 0.052789 |
PaintCorrectionMaskRadius (31) | 0.050457 |
PaintCorrectionMaskRadius (4) | 0.059807 |
PaintCorrectionMaskRadius (5) | 0.060893 |
PaintCorrectionMaskRadius (6) | 0.012436 |
PaintCorrectionMaskRadius (7) | 0.012442 |
PaintCorrectionMaskRadius (8) | 0.065737 |
PaintCorrectionMaskRadius (9) | 0.063966 |
PaintCorrectionMaskRadius | 0.050604 |
PaintCorrectionMaskValue | 0.652207 |
PaintCorrectionMaskWhat | Mask/Paint |
PaintCorrectionMoire | 0.000000 |
PaintCorrectionSaturation (1) | -0.240730 |
PaintCorrectionSaturation | 0.000000 |
PaintCorrectionShadows2012 | 0.000000 |
PaintCorrectionSharpness | 0.000000 |
PaintCorrectionTemperature (1) | 0.414249 |
PaintCorrectionTemperature (3) | 0.267523 |
PaintCorrectionTemperature (5) | 0.183784 |
PaintCorrectionTemperature (6) | 0.031024 |
PaintCorrectionTemperature | 0.000000 |
PaintCorrectionTint (1) | -0.564335 |
PaintCorrectionTint (2) | 0.000000 |
PaintCorrectionTint (6) | 0.073435 |
PaintCorrectionTint | -0.509832 |
PaintCorrectionWhat | Correction |
ParametricDarks | 0 |
ParametricHighlights | 0 |
ParametricHighlightSplit | 75 |
ParametricLights | 0 |
ParametricMidtoneSplit | 50 |
ParametricShadows | 0 |
ParametricShadowSplit | 25 |
PerspectiveAspect | 0 |
PerspectiveHorizontal | 0 |
PerspectiveRotate | 0.0 |
PerspectiveScale | 100 |
PerspectiveUpright | 0 |
PerspectiveVertical | +17 |
PerspectiveX | 0.00 |
PerspectiveY | 0.00 |
PostCropVignetteAmount | -18 |
PostCropVignetteFeather | 50 |
PostCropVignetteHighlightContrast | 0 |
PostCropVignetteMidpoint | 50 |
PostCropVignetteRoundness | 0 |
PostCropVignetteStyle | 1 |
PreservedFileName | D75_9216.NEF |
ProcessVersion | 11.0 |
ProfileDescription | sRGB IEC61966-2.1 |
Rating | 5 |
RawFileName | |
RedHue | 0 |
RedSaturation | 0 |
Rights | © Hans Jørgen Lindeløff 2020 |
Saturation (1) | -10 |
Saturation | Normal |
SaturationAdjustmentAqua | 0 |
SaturationAdjustmentBlue | 0 |
SaturationAdjustmentGreen | 0 |
SaturationAdjustmentMagenta | 0 |
SaturationAdjustmentOrange | 0 |
SaturationAdjustmentPurple | 0 |
SaturationAdjustmentRed | 0 |
SaturationAdjustmentYellow | 0 |
ScaleFactor35efl | 1.0 |
SceneCaptureType | Landscape |
SceneType | Directly photographed |
SensingMethod | One-chip color area |
SensitivityType | Recommended Exposure Index |
SerialNumber | 6128653 |
Shadows2012 | 0 |
ShadowTint | 0 |
SharpenDetail | 25 |
SharpenEdgeMasking | 62 |
SharpenRadius | +1.0 |
Sharpness (1) | 62 |
Sharpness | Normal |
ShutterSpeed | 3 |
ShutterSpeedValue | 3 |
Software | Adobe Photoshop Lightroom Classic 10.2 (Macintosh) |
SplitToningBalance | 0 |
SplitToningHighlightHue | 0 |
SplitToningHighlightSaturation | 0 |
SplitToningShadowHue | 0 |
SplitToningShadowSaturation | 0 |
Subject | Tog, longexposure, stuguflåten |
SubjectDistanceRange | Unknown |
Texture | 0 |
ToneCurveName2012 | Custom |
ToneCurvePV2012 | 0, 0, 65, 62, 156, 170, 255, 255 |
ToneCurvePV2012Blue | 0, 0, 255, 255 |
ToneCurvePV2012Green | 0, 0, 255, 255 |
ToneCurvePV2012Red | 0, 0, 255, 255 |
Transformation | Perspective |
UsageTerms | All rights reserved |
Version | 13.2 |
Vibrance | 0 |
VignetteAmount | 0 |
VignetteCorrectionAlreadyApplied | True |
VirtualFocalLength | 0.659601 |
VirtualImageXCenter | 0.500757 |
VirtualImageYCenter | 0.334623 |
WhiteBalance (1) | Custom |
WhiteBalance | Auto |
Whites2012 | 0 |