Felt | Verdi |
AlreadyApplied | True |
Aperture | 8.0 |
ApertureValue | 8.0 |
ApproximateFocusDistance | 2 |
Artist | Hans Jørgen Lindeløff |
AutoLateralCA | 1 |
BitsPerSample | 8 |
Blacks2012 | -2 |
BlueHue | 0 |
BlueSaturation | 0 |
By-line | Hans Jørgen Lindeløff |
CameraProfile | Adobe Standard |
CFAPattern | [Red,Green][Green,Blue] |
CircGradBasedCorrActive | true |
CircGradBasedCorrAmount | 1.000000 |
CircGradBasedCorrBrightness | 0.000000 |
CircGradBasedCorrClarity2012 (2) | 0.124687 |
CircGradBasedCorrClarity2012 | 0.000000 |
CircGradBasedCorrContrast2012 | 0.000000 |
CircGradBasedCorrCorrectionRangeMaskType | 0 |
CircGradBasedCorrCorrectionRangeMaskVersion | +2 |
CircGradBasedCorrDefringe | 0.000000 |
CircGradBasedCorrExposure2012 (1) | 0.167819 |
CircGradBasedCorrExposure2012 (2) | 0.200146 |
CircGradBasedCorrExposure2012 | 0.141051 |
CircGradBasedCorrHighlights2012 (1) | -0.416140 |
CircGradBasedCorrHighlights2012 (2) | -0.279422 |
CircGradBasedCorrHighlights2012 | -0.323375 |
CircGradBasedCorrHue | 240.000000 |
CircGradBasedCorrLocalBlacks2012 (1) | -0.206155 |
CircGradBasedCorrLocalBlacks2012 (2) | -0.113892 |
CircGradBasedCorrLocalBlacks2012 | -0.130798 |
CircGradBasedCorrLocalDehaze | 0.000000 |
CircGradBasedCorrLocalHue | 0.000000 |
CircGradBasedCorrLocalTexture | 0.000000 |
CircGradBasedCorrLocalWhites2012 (1) | 0.356403 |
CircGradBasedCorrLocalWhites2012 (2) | 0.225880 |
CircGradBasedCorrLocalWhites2012 | 0.185382 |
CircGradBasedCorrLuminanceNoise | 0.000000 |
CircGradBasedCorrMaskAngle | 0.563402 |
CircGradBasedCorrMaskBottom (1) | 0.757260 |
CircGradBasedCorrMaskBottom (2) | 0.909450 |
CircGradBasedCorrMaskBottom | 0.634302 |
CircGradBasedCorrMaskCenterWeight | 0.063749 |
CircGradBasedCorrMaskFeather | +100 |
CircGradBasedCorrMaskFlipped | true |
CircGradBasedCorrMaskFlow (10) | 0.765545 |
CircGradBasedCorrMaskFlow | 0.598498 |
CircGradBasedCorrMaskLeft (1) | -0.110136 |
CircGradBasedCorrMaskLeft (2) | -0.140843 |
CircGradBasedCorrMaskLeft | 0.732109 |
CircGradBasedCorrMaskMidpoint | +50 |
CircGradBasedCorrMaskRadius (1) | 0.033417 |
CircGradBasedCorrMaskRadius (10) | 0.048523 |
CircGradBasedCorrMaskRadius (11) | 0.023208 |
CircGradBasedCorrMaskRadius (12) | 0.044271 |
CircGradBasedCorrMaskRadius (2) | 0.032848 |
CircGradBasedCorrMaskRadius (3) | 0.076713 |
CircGradBasedCorrMaskRadius (4) | 0.077229 |
CircGradBasedCorrMaskRadius (5) | 0.027861 |
CircGradBasedCorrMaskRadius (6) | 0.026863 |
CircGradBasedCorrMaskRadius (7) | 0.027846 |
CircGradBasedCorrMaskRadius (8) | 0.047593 |
CircGradBasedCorrMaskRadius (9) | 0.048678 |
CircGradBasedCorrMaskRadius | 0.043132 |
CircGradBasedCorrMaskRight (1) | 0.757286 |
CircGradBasedCorrMaskRight (2) | 0.956260 |
CircGradBasedCorrMaskRight | 0.936967 |
CircGradBasedCorrMaskRoundness | 0 |
CircGradBasedCorrMaskTop (1) | 0.443739 |
CircGradBasedCorrMaskTop (2) | 0.400282 |
CircGradBasedCorrMaskTop | 0.511910 |
CircGradBasedCorrMaskValue (6) | 0.000000 |
CircGradBasedCorrMaskValue | 1.000000 |
CircGradBasedCorrMaskVersion | +2 |
CircGradBasedCorrMaskWhat (9) | Mask/Paint |
CircGradBasedCorrMoire | 0.000000 |
CircGradBasedCorrSaturation | 0.000000 |
CircGradBasedCorrShadows2012 (1) | 0.626529 |
CircGradBasedCorrShadows2012 (2) | -0.105091 |
CircGradBasedCorrShadows2012 | 0.000000 |
CircGradBasedCorrSharpness | 0.000000 |
CircGradBasedCorrTemperature (1) | 0.064511 |
CircGradBasedCorrTemperature (2) | 0.062901 |
CircGradBasedCorrTemperature | 0.063470 |
CircGradBasedCorrTint (1) | 0.106985 |
CircGradBasedCorrTint (2) | 0.173646 |
CircGradBasedCorrTint | 0.000000 |
CircGradBasedCorrWhat | Correction |
CircleOfConfusion | 0.030 mm |
Clarity2012 | +9 |
ColorComponents | 3 |
ColorGradeBlending | 50 |
ColorGradeGlobalHue | 0 |
ColorGradeGlobalLum | 0 |
ColorGradeGlobalSat | 0 |
ColorGradeHighlightLum | 0 |
ColorGradeMidtoneHue | 0 |
ColorGradeMidtoneLum | 0 |
ColorGradeMidtoneSat | 0 |
ColorGradeShadowLum | 0 |
ColorNoiseReduction | 25 |
ColorNoiseReductionDetail | 50 |
ColorNoiseReductionSmoothness | 50 |
ColorSpace | sRGB |
ColorTemperature | 6500 |
ColorTransform | YCbCr |
Contrast | Normal |
Contrast2012 | 0 |
Copyright | © Hans Jørgen Lindeløff 2021 |
CopyrightFlag | True |
CopyrightNotice | © Hans Jørgen Lindeløff 2021 |
CreateDate (1) | 2021:04:27 20:43:42.67 |
CreateDate | 2021:04:27 20:43:42 |
Creator | Hans Jørgen Lindeløff |
CreatorAddress | Bjørnevågveien 8 |
CreatorCity | Kråkerøy |
CreatorCountry | Norway |
CreatorPostalCode | 1676 |
CreatorWorkEmail | lundeli@mac.com |
CreatorWorkTelephone | +47 92049534 |
CreatorWorkURL | lundeliphoto.no |
CropAngle | 0.563402 |
CropBottom | 0.873932 |
CropConstrainToWarp | 1 |
CropLeft | 0.014688 |
CropRight | 0.95573 |
CropTop | 0.062633 |
CustomRendered | Normal |
DateCreated (1) | 2018:01:02 |
DateCreated | 2018:01:02 14:49:07.571 |
DateTimeOriginal | 2021:04:27 20:43:42 |
DefringeGreenAmount | 0 |
DefringeGreenHueHi | 60 |
DefringeGreenHueLo | 40 |
DefringePurpleAmount | 0 |
DefringePurpleHueHi | 70 |
DefringePurpleHueLo | 30 |
Dehaze | 0 |
DigitalZoomRatio | 1 |
DistortionCorrectionAlreadyApplied | True |
DOF | inf (0.70 m - inf) |
Exposure2012 | 0.00 |
ExposureCompensation | +2 |
ExposureMode | Manual |
ExposureProgram | Manual |
ExposureTime | 1/60 |
Flash | Off, Did not fire |
FNumber | 8.0 |
FocalLength | 16.0 mm |
FocalLengthIn35mmFormat | 16 mm |
Format | image/jpeg |
FOV | 96.7 deg |
GainControl | None |
GradientBasedCorrActive | true |
GradientBasedCorrAmount | 1.000000 |
GradientBasedCorrBrightness | 0.000000 |
GradientBasedCorrClarity2012 | 0.000000 |
GradientBasedCorrContrast2012 | 0.000000 |
GradientBasedCorrCorrectionRangeMaskType | 0 |
GradientBasedCorrCorrectionRangeMaskVersion | +2 |
GradientBasedCorrDefringe | 0.000000 |
GradientBasedCorrExposure2012 | 0.001372 |
GradientBasedCorrHighlights2012 | -0.316185 |
GradientBasedCorrHue | 240.000000 |
GradientBasedCorrLocalBlacks2012 | -0.148569 |
GradientBasedCorrLocalDehaze | 0.000000 |
GradientBasedCorrLocalHue | 0.000000 |
GradientBasedCorrLocalTexture | 0.000000 |
GradientBasedCorrLocalWhites2012 | 0.349034 |
GradientBasedCorrLuminanceNoise | 0.000000 |
GradientBasedCorrMaskFullX | 0.515408 |
GradientBasedCorrMaskFullY | 0.339931 |
GradientBasedCorrMaskValue | 1.000000 |
GradientBasedCorrMaskWhat | Mask/Gradient |
GradientBasedCorrMaskZeroX | 0.528185 |
GradientBasedCorrMaskZeroY | 0.541708 |
GradientBasedCorrMoire | 0.000000 |
GradientBasedCorrSaturation | 0.000000 |
GradientBasedCorrShadows2012 | 0.127658 |
GradientBasedCorrSharpness | 0.000000 |
GradientBasedCorrTemperature | -0.121700 |
GradientBasedCorrTint | 0.199368 |
GradientBasedCorrWhat | Correction |
GrainAmount | 0 |
GreenHue | 0 |
GreenSaturation | 0 |
HasCrop | True |
HasExtendedXMP | 8354BAF03A050283BD4AD608072F89D7 |
HasSettings | True |
Highlights2012 | -34 |
HueAdjustmentAqua | 0 |
HueAdjustmentBlue | 0 |
HueAdjustmentGreen | 0 |
HueAdjustmentMagenta | 0 |
HueAdjustmentOrange | 0 |
HueAdjustmentPurple | 0 |
HueAdjustmentRed | 0 |
HueAdjustmentYellow | 0 |
HyperfocalDistance | 1.07 m |
ImageHeight | 1152 |
ImageNumber | 13561 |
ImageSize | 2048x1152 |
ImageWidth | 2048 |
ISO | 100 |
Lens | 16.0-35.0 mm f/4.0 |
LensID (1) | 163 |
LensID | AF-S Nikkor 16-35mm f/4G ED VR |
LensInfo | 16-35mm f/4 |
LensManualDistortionAmount | 0 |
LensModel | 16.0-35.0 mm f/4.0 |
LensProfileDistortionScale | 100 |
LensProfileEnable | 1 |
LensProfileIsEmbedded | False |
LensProfileSetup | LensDefaults |
LensProfileVignettingScale | 100 |
LightSource | Unknown |
LightValue | 11.9 |
LookAmount | 1.000000 |
LookGroup | Profiles |
LookName | Adobe Landscape |
LookParametersCameraProfile | Adobe Standard |
LookParametersClarity2012 | +10 |
LookParametersConvertToGrayscale | False |
LookParametersHighlights2012 | -12 |
LookParametersLookTable | 0B3BFB5CFB7DBF7FF175E98F24D316B0 |
LookParametersProcessVersion | 11.0 |
LookParametersShadows2012 | +12 |
LookParametersToneCurvePV2012 | 0, 0, 64, 60, 128, 128, 192, 196, 255, 255 |
LookParametersVersion | 13.2 |
LookSupportsAmount | false |
LookSupportsMonochrome | false |
LookSupportsOutputReferred | false |
LuminanceAdjustmentAqua | 0 |
LuminanceAdjustmentBlue | 0 |
LuminanceAdjustmentGreen | 0 |
LuminanceAdjustmentMagenta | 0 |
LuminanceAdjustmentOrange | 0 |
LuminanceAdjustmentPurple | 0 |
LuminanceAdjustmentRed | 0 |
LuminanceAdjustmentYellow | 0 |
LuminanceNoiseReductionContrast | 0 |
LuminanceNoiseReductionDetail | 50 |
LuminanceSmoothing | 25 |
Make | NIKON CORPORATION |
Marked | True |
MaxApertureValue | 4.0 |
Megapixels | 2.4 |
MeteringMode | Center-weighted average |
Model | NIKON D750 |
ModifyDate (1) | 2021:05:05 00:56:36+02:00 |
ModifyDate | 2021:05:05 00:56:36 |
OverrideLookVignette | False |
PaintCorrectionActive | true |
PaintCorrectionAmount | 1.000000 |
PaintCorrectionBrightness | 0.000000 |
PaintCorrectionClarity2012 | 0.000000 |
PaintCorrectionContrast2012 | 0.000000 |
PaintCorrectionCorrectionRangeMaskType | 0 |
PaintCorrectionCorrectionRangeMaskVersion | +2 |
PaintCorrectionDefringe | 0.000000 |
PaintCorrectionExposure2012 (1) | -0.066599 |
PaintCorrectionExposure2012 (2) | 0.211405 |
PaintCorrectionExposure2012 (3) | 0.064599 |
PaintCorrectionExposure2012 (4) | 0.113980 |
PaintCorrectionExposure2012 (5) | 0.000000 |
PaintCorrectionExposure2012 | -0.093107 |
PaintCorrectionHighlights2012 (1) | -0.620585 |
PaintCorrectionHighlights2012 (2) | -0.171348 |
PaintCorrectionHighlights2012 (3) | -0.201479 |
PaintCorrectionHighlights2012 | 0.000000 |
PaintCorrectionHue | 240.000000 |
PaintCorrectionLocalBlacks2012 (1) | 0.000000 |
PaintCorrectionLocalBlacks2012 (2) | -0.148569 |
PaintCorrectionLocalBlacks2012 (3) | -0.127744 |
PaintCorrectionLocalBlacks2012 | -0.088023 |
PaintCorrectionLocalDehaze | 0.000000 |
PaintCorrectionLocalHue | 0.000000 |
PaintCorrectionLocalTexture | 0.000000 |
PaintCorrectionLocalWhites2012 (2) | 0.356403 |
PaintCorrectionLocalWhites2012 (3) | 0.195970 |
PaintCorrectionLocalWhites2012 (5) | 0.000000 |
PaintCorrectionLocalWhites2012 | 0.090913 |
PaintCorrectionLuminanceNoise | 0.000000 |
PaintCorrectionMaskCenterWeight | 0.000000 |
PaintCorrectionMaskFlow | 0.678801 |
PaintCorrectionMaskRadius (1) | 0.016984 |
PaintCorrectionMaskRadius (10) | 0.135407 |
PaintCorrectionMaskRadius (11) | 0.135803 |
PaintCorrectionMaskRadius (12) | 0.090968 |
PaintCorrectionMaskRadius (13) | 0.093792 |
PaintCorrectionMaskRadius (14) | 0.094506 |
PaintCorrectionMaskRadius (15) | 0.039404 |
PaintCorrectionMaskRadius (16) | 0.071518 |
PaintCorrectionMaskRadius (17) | 0.080626 |
PaintCorrectionMaskRadius (18) | 0.071768 |
PaintCorrectionMaskRadius (19) | 0.081014 |
PaintCorrectionMaskRadius (2) | 0.050536 |
PaintCorrectionMaskRadius (20) | 0.079722 |
PaintCorrectionMaskRadius (21) | 0.072131 |
PaintCorrectionMaskRadius (22) | 0.017512 |
PaintCorrectionMaskRadius (23) | 0.065074 |
PaintCorrectionMaskRadius (24) | 0.064176 |
PaintCorrectionMaskRadius (3) | 0.022560 |
PaintCorrectionMaskRadius (4) | 0.137106 |
PaintCorrectionMaskRadius (5) | 0.135123 |
PaintCorrectionMaskRadius (6) | 0.132713 |
PaintCorrectionMaskRadius (7) | 0.143251 |
PaintCorrectionMaskRadius (8) | 0.145727 |
PaintCorrectionMaskRadius (9) | 0.135932 |
PaintCorrectionMaskRadius | 0.064735 |
PaintCorrectionMaskValue | 0.557498 |
PaintCorrectionMaskWhat | Mask/Paint |
PaintCorrectionMoire | 0.000000 |
PaintCorrectionSaturation | 0.000000 |
PaintCorrectionShadows2012 | 0.000000 |
PaintCorrectionSharpness | 0.000000 |
PaintCorrectionTemperature (1) | 0.146495 |
PaintCorrectionTemperature (2) | 0.312175 |
PaintCorrectionTemperature (3) | -0.144964 |
PaintCorrectionTemperature (4) | 0.204980 |
PaintCorrectionTemperature (5) | -0.148606 |
PaintCorrectionTemperature | 0.063470 |
PaintCorrectionTint (1) | 0.197453 |
PaintCorrectionTint (3) | 0.199368 |
PaintCorrectionTint (4) | 0.145525 |
PaintCorrectionTint | 0.000000 |
PaintCorrectionWhat | Correction |
ParametricDarks | 0 |
ParametricHighlights | 0 |
ParametricHighlightSplit | 75 |
ParametricLights | 0 |
ParametricMidtoneSplit | 50 |
ParametricShadows | 0 |
ParametricShadowSplit | 25 |
PerspectiveAspect | 0 |
PerspectiveHorizontal | 0 |
PerspectiveRotate | 0.0 |
PerspectiveScale | 99 |
PerspectiveUpright | 0 |
PerspectiveVertical | -24 |
PerspectiveX | 0.00 |
PerspectiveY | 0.00 |
PostCropVignetteAmount | -8 |
PostCropVignetteFeather | 50 |
PostCropVignetteHighlightContrast | 0 |
PostCropVignetteMidpoint | 50 |
PostCropVignetteRoundness | 0 |
PostCropVignetteStyle | 1 |
PreservedFileName | D75_3196.NEF |
ProcessVersion | 11.0 |
ProfileDescription | sRGB IEC61966-2.1 |
RawFileName | D75_3196.NEF |
RedHue | 0 |
RedSaturation | 0 |
Rights | © Hans Jørgen Lindeløff 2021 |
Saturation (1) | +6 |
Saturation | Normal |
SaturationAdjustmentAqua | 0 |
SaturationAdjustmentBlue | 0 |
SaturationAdjustmentGreen | 0 |
SaturationAdjustmentMagenta | 0 |
SaturationAdjustmentOrange | 0 |
SaturationAdjustmentPurple | 0 |
SaturationAdjustmentRed | 0 |
SaturationAdjustmentYellow | 0 |
ScaleFactor35efl | 1.0 |
SceneCaptureType | Landscape |
SceneType | Directly photographed |
SensingMethod | One-chip color area |
SensitivityType | Recommended Exposure Index |
SerialNumber | 6128653 |
Shadows2012 | +60 |
ShadowTint | 0 |
SharpenDetail | 25 |
SharpenEdgeMasking | 58 |
SharpenRadius | +1.0 |
Sharpness (1) | 64 |
Sharpness | Normal |
ShutterSpeed | 1/60 |
ShutterSpeedValue | 1/60 |
SplitToningBalance | 0 |
SplitToningHighlightHue | 0 |
SplitToningHighlightSaturation | 0 |
SplitToningShadowHue | 0 |
SplitToningShadowSaturation | 0 |
SubjectDistanceRange | Unknown |
Texture | 0 |
Tint | +10 |
ToneCurveName2012 | Custom |
ToneCurvePV2012 | 0, 0, 74, 68, 166, 173, 255, 255 |
ToneCurvePV2012Blue | 0, 0, 255, 255 |
ToneCurvePV2012Green | 0, 0, 255, 255 |
ToneCurvePV2012Red | 0, 0, 255, 255 |
UsageTerms | All rights reserved |
Version | 13.2 |
Vibrance | +20 |
VignetteAmount | 0 |
VignetteCorrectionAlreadyApplied | True |
WhiteBalance (1) | Cloudy |
WhiteBalance | Auto |
Whites2012 | +28 |