Felt | Verdi |
AlreadyApplied | True |
Aperture | 16.0 |
ApertureValue | 16.0 |
Artist | Morten Eriksen |
AutoLateralCA | 0 |
BitsPerSample | 8 |
Blacks2012 | 0 |
BlueHue | 0 |
BlueSaturation | 0 |
BrightnessValue | 8.99765625 |
By-line | Morten Eriksen |
CameraProfile | Adobe Standard |
CircleOfConfusion | 0.030 mm |
Clarity2012 | 0 |
ColorComponents | 3 |
ColorGradeBlending | 50 |
ColorGradeGlobalHue | 0 |
ColorGradeGlobalLum | 0 |
ColorGradeGlobalSat | 0 |
ColorGradeHighlightLum | 0 |
ColorGradeMidtoneHue | 0 |
ColorGradeMidtoneLum | 0 |
ColorGradeMidtoneSat | 0 |
ColorGradeShadowLum | 0 |
ColorMode | RGB |
ColorNoiseReduction | 25 |
ColorNoiseReductionDetail | 50 |
ColorNoiseReductionSmoothness | 50 |
ColorSpace | Uncalibrated |
ColorTemperature | 5350 |
ColorTransform | YCbCr |
Contrast | Normal |
Contrast2012 | +61 |
Copyright | Morten Eriksen |
CopyrightNotice | Morten Eriksen |
CreateDate | 2021:05:27 17:20:04 |
Creator | Morten Eriksen |
CreatorTool | ILCE-7RM4 v1.20 |
CustomRendered | Normal |
DateCreated (1) | 2021:05:27 |
DateCreated | 2021:05:27 17:20:04+02:00 |
DateTimeOriginal | 2021:05:27 17:20:04 |
DefringeGreenAmount | 0 |
DefringeGreenHueHi | 60 |
DefringeGreenHueLo | 40 |
DefringePurpleAmount | 0 |
DefringePurpleHueHi | 70 |
DefringePurpleHueLo | 30 |
Dehaze | +56 |
DigitalZoomRatio | 1 |
DistortionCorrectionAlreadyApplied | True |
ExifImageHeight | 6029 |
ExifImageWidth | 9197 |
Exposure2012 | 0.00 |
ExposureCompensation | 0 |
ExposureMode | Manual |
ExposureProgram | Manual |
ExposureTime | 1/50 |
Flash | Off, Did not fire |
FNumber | 16.0 |
FocalLength | 26.0 mm |
FocalLength35efl | 26.0 mm (35 mm equivalent: 26.0 mm) |
FocalLengthIn35mmFormat | 26 mm |
Format | image/jpeg |
FOV | 69.4 deg |
GrainAmount | 0 |
GreenHue | 0 |
GreenSaturation | 0 |
HasCrop | False |
HasSettings | True |
Highlights2012 | -40 |
HueAdjustmentAqua | 0 |
HueAdjustmentBlue | 0 |
HueAdjustmentGreen | 0 |
HueAdjustmentMagenta | 0 |
HueAdjustmentOrange | 0 |
HueAdjustmentPurple | 0 |
HueAdjustmentRed | 0 |
HueAdjustmentYellow | 0 |
HyperfocalDistance | 1.41 m |
ICCProfileName | Adobe RGB (1998) |
ImageHeight | 6029 |
ImageSize | 9197x6029 |
ImageWidth | 9197 |
ISO | 160 |
LateralChromaticAberrationCorrectionAlreadyApplied | True |
Lens | FE 24-70mm F2.8 GM |
LensDistortInfo | 33252/32768 -66031397/1073741824 44803711/1073741824 4624076/1073741824 |
LensInfo | 24-70mm f/2.8 |
LensManualDistortionAmount | 0 |
LensModel | FE 24-70mm F2.8 GM |
LensProfileDistortionScale | 100 |
LensProfileEnable | 1 |
LensProfileFilename | SONY (Sony FE 24-70mm f2.8 GM) - RAW.lcp |
LensProfileIsEmbedded | False |
LensProfileName | Adobe (Sony FE 24-70mm f/2.8 GM) |
LensProfileSetup | LensDefaults |
LensProfileVignettingScale | 100 |
LightSource | Unknown |
LightValue | 13.0 |
LookAmount | 1.000000 |
LookCopyright | © 2018 Adobe Systems, Inc. |
LookGroup | Profiles |
LookName | Adobe Color |
LookParametersCameraProfile | Adobe Standard |
LookParametersConvertToGrayscale | False |
LookParametersLookTable | E1095149FDB39D7A057BAB208837E2E1 |
LookParametersProcessVersion | 11.0 |
LookParametersToneCurvePV2012 | 0, 0, 22, 16, 40, 35, 127, 127, 224, 230, 240, 246, 255, 255 |
LookParametersToneCurvePV2012Blue | 0, 0, 255, 255 |
LookParametersToneCurvePV2012Green | 0, 0, 255, 255 |
LookParametersToneCurvePV2012Red | 0, 0, 255, 255 |
LookParametersVersion | 13.2 |
LookSupportsAmount | false |
LookSupportsMonochrome | false |
LookSupportsOutputReferred | false |
LuminanceAdjustmentAqua | 0 |
LuminanceAdjustmentBlue | 0 |
LuminanceAdjustmentGreen | 0 |
LuminanceAdjustmentMagenta | 0 |
LuminanceAdjustmentOrange | 0 |
LuminanceAdjustmentPurple | 0 |
LuminanceAdjustmentRed | 0 |
LuminanceAdjustmentYellow | 0 |
LuminanceNoiseReductionContrast | 0 |
LuminanceNoiseReductionDetail | 50 |
LuminanceSmoothing | 50 |
Make | SONY |
MaxApertureValue | 2.8 |
Megapixels | 55.4 |
MeteringMode | Multi-segment |
Model | ILCE-7RM4 |
ModifyDate (1) | 2021:05:27 18:19:51+02:00 |
ModifyDate | 2021:05:27 18:19:51 |
Orientation | Horizontal (normal) |
OverrideLookVignette | False |
ParametricDarks | 0 |
ParametricHighlights | -42 |
ParametricHighlightSplit | 75 |
ParametricLights | +21 |
ParametricMidtoneSplit | 50 |
ParametricShadows | +67 |
ParametricShadowSplit | 25 |
PerspectiveAspect | 0 |
PerspectiveHorizontal | 0 |
PerspectiveRotate | 0.0 |
PerspectiveScale | 100 |
PerspectiveUpright | 0 |
PerspectiveVertical | 0 |
PerspectiveX | 0.00 |
PerspectiveY | 0.00 |
PostCropVignetteAmount | 0 |
ProcessVersion | 11.0 |
ProfileDescription | Adobe RGB (1998) |
Rating | 0 |
RecommendedExposureIndex | 160 |
RedHue | 0 |
RedSaturation | 0 |
Rights | Morten Eriksen |
Saturation (1) | +37 |
Saturation | Normal |
SaturationAdjustmentAqua | 0 |
SaturationAdjustmentBlue | 0 |
SaturationAdjustmentGreen | 0 |
SaturationAdjustmentMagenta | 0 |
SaturationAdjustmentOrange | 0 |
SaturationAdjustmentPurple | 0 |
SaturationAdjustmentRed | 0 |
SaturationAdjustmentYellow | 0 |
ScaleFactor35efl | 1.0 |
SceneCaptureType | Standard |
SceneType | Directly photographed |
SensitivityType | Recommended Exposure Index |
Shadows2012 | +40 |
ShadowTint | 0 |
SharpenDetail | 25 |
SharpenEdgeMasking | 0 |
SharpenRadius | +1.0 |
Sharpness (1) | 40 |
Sharpness | Normal |
ShutterSpeed | 1/50 |
ShutterSpeedValue | 1/50 |
Software | Adobe Photoshop 21.2 (Windows) |
SplitToningBalance | 0 |
SplitToningHighlightHue | 0 |
SplitToningHighlightSaturation | 0 |
SplitToningShadowHue | 0 |
SplitToningShadowSaturation | 0 |
Texture | 0 |
Tint | +13 |
ToneCurveName2012 | Linear |
ToneCurvePV2012 | 0, 0, 255, 255 |
ToneCurvePV2012Blue | 0, 0, 255, 255 |
ToneCurvePV2012Green | 0, 0, 255, 255 |
ToneCurvePV2012Red | 0, 0, 255, 255 |
URL_List | |
Version | 13.2 |
Vibrance | +38 |
VignetteAmount | 0 |
VignetteCorrectionAlreadyApplied | True |
WhiteBalance (1) | As Shot |
WhiteBalance | Auto |
Whites2012 | 0 |