Felt | Verdi |
AlreadyApplied | True |
Aperture | 18.0 |
ApertureValue | 18.0 |
ApproximateFocusDistance | 4294967295 |
Artist | Hans Jørgen Lindeløff |
AutoLateralCA | 1 |
BitsPerSample | 8 |
Blacks2012 | -7 |
BlueHue | 0 |
BlueSaturation | 0 |
By-line | Hans Jørgen Lindeløff |
CameraProfile | Adobe Standard |
Caption-Abstract | Innerdalstårnet |
CFAPattern | [Red,Green][Green,Blue] |
CircGradBasedCorrActive | true |
CircGradBasedCorrAmount | 1.000000 |
CircGradBasedCorrBrightness | 0.000000 |
CircGradBasedCorrClarity2012 | 0.000000 |
CircGradBasedCorrContrast2012 (3) | 0.186592 |
CircGradBasedCorrContrast2012 | 0.000000 |
CircGradBasedCorrCorrectionRangeMaskType | 0 |
CircGradBasedCorrCorrectionRangeMaskVersion | +1 |
CircGradBasedCorrDefringe | 0.000000 |
CircGradBasedCorrExposure2012 (1) | 0.171875 |
CircGradBasedCorrExposure2012 (2) | 0.077943 |
CircGradBasedCorrExposure2012 (4) | 0.077580 |
CircGradBasedCorrExposure2012 (5) | 0.128361 |
CircGradBasedCorrExposure2012 | 0.000000 |
CircGradBasedCorrHighlights2012 | 0.000000 |
CircGradBasedCorrHue (1) | 233.000000 |
CircGradBasedCorrHue | 240.000000 |
CircGradBasedCorrLocalBlacks2012 (3) | -0.081214 |
CircGradBasedCorrLocalBlacks2012 | 0.000000 |
CircGradBasedCorrLocalDehaze | 0.000000 |
CircGradBasedCorrLocalTexture | 0.000000 |
CircGradBasedCorrLocalWhites2012 (1) | 0.193859 |
CircGradBasedCorrLocalWhites2012 (3) | 0.397892 |
CircGradBasedCorrLocalWhites2012 (4) | 0.000000 |
CircGradBasedCorrLocalWhites2012 | 0.286519 |
CircGradBasedCorrLuminanceNoise | 0.000000 |
CircGradBasedCorrMaskAngle (2) | -5.649490 |
CircGradBasedCorrMaskAngle | 0.000000 |
CircGradBasedCorrMaskBottom (1) | 1.053270 |
CircGradBasedCorrMaskBottom (2) | 0.520600 |
CircGradBasedCorrMaskBottom (3) | 0.983818 |
CircGradBasedCorrMaskBottom (4) | 0.887093 |
CircGradBasedCorrMaskBottom (5) | 0.560929 |
CircGradBasedCorrMaskBottom | 0.632360 |
CircGradBasedCorrMaskCenterWeight | 0.000000 |
CircGradBasedCorrMaskFeather | +100 |
CircGradBasedCorrMaskFlipped | true |
CircGradBasedCorrMaskFlow | 1.000000 |
CircGradBasedCorrMaskLeft (1) | -0.027750 |
CircGradBasedCorrMaskLeft (2) | 0.642304 |
CircGradBasedCorrMaskLeft (3) | 0.017799 |
CircGradBasedCorrMaskLeft (4) | 0.093254 |
CircGradBasedCorrMaskLeft (5) | 0.602589 |
CircGradBasedCorrMaskLeft | 0.024276 |
CircGradBasedCorrMaskMidpoint | +50 |
CircGradBasedCorrMaskRadius (1) | 0.036555 |
CircGradBasedCorrMaskRadius (2) | 0.036807 |
CircGradBasedCorrMaskRadius (3) | 0.036152 |
CircGradBasedCorrMaskRadius (4) | 0.037571 |
CircGradBasedCorrMaskRadius | 0.038131 |
CircGradBasedCorrMaskRight (1) | 0.196585 |
CircGradBasedCorrMaskRight (2) | 1.100190 |
CircGradBasedCorrMaskRight (3) | 0.504909 |
CircGradBasedCorrMaskRight (4) | 1.028790 |
CircGradBasedCorrMaskRight (5) | 0.818307 |
CircGradBasedCorrMaskRight | 0.519079 |
CircGradBasedCorrMaskRoundness | 0 |
CircGradBasedCorrMaskTop (1) | 0.388106 |
CircGradBasedCorrMaskTop (2) | 0.419857 |
CircGradBasedCorrMaskTop (3) | 0.143474 |
CircGradBasedCorrMaskTop (4) | 0.479631 |
CircGradBasedCorrMaskTop (5) | 0.479703 |
CircGradBasedCorrMaskTop | 0.081548 |
CircGradBasedCorrMaskValue (3) | 0.000000 |
CircGradBasedCorrMaskValue | 1.000000 |
CircGradBasedCorrMaskVersion | +2 |
CircGradBasedCorrMaskWhat (3) | Mask/Paint |
CircGradBasedCorrMaskWhat | Mask/CircularGradient |
CircGradBasedCorrMoire | 0.000000 |
CircGradBasedCorrSaturation (5) | 0.229885 |
CircGradBasedCorrSaturation (9) | -0.178416 |
CircGradBasedCorrSaturation | 0.000000 |
CircGradBasedCorrShadows2012 | 0.000000 |
CircGradBasedCorrSharpness | 0.000000 |
CircGradBasedCorrTemperature (1) | 0.367733 |
CircGradBasedCorrTemperature (2) | 0.102471 |
CircGradBasedCorrTemperature (3) | 0.819064 |
CircGradBasedCorrTemperature (4) | 0.000000 |
CircGradBasedCorrTemperature (5) | 0.223292 |
CircGradBasedCorrTemperature | 0.804688 |
CircGradBasedCorrTint (1) | -0.088027 |
CircGradBasedCorrTint (3) | 0.197073 |
CircGradBasedCorrTint (4) | 0.000000 |
CircGradBasedCorrTint (5) | 0.340661 |
CircGradBasedCorrTint | 0.153706 |
CircGradBasedCorrWhat | Correction |
CircleOfConfusion | 0.020 mm |
Clarity2012 | +10 |
ColorComponents | 3 |
ColorGradeBlending | 50 |
ColorGradeGlobalHue | 0 |
ColorGradeGlobalLum | 0 |
ColorGradeGlobalSat | 0 |
ColorGradeHighlightLum | 0 |
ColorGradeMidtoneHue | 0 |
ColorGradeMidtoneLum | 0 |
ColorGradeMidtoneSat | 0 |
ColorGradeShadowLum | 0 |
ColorNoiseReduction | 25 |
ColorNoiseReductionDetail | 50 |
ColorNoiseReductionSmoothness | 50 |
ColorSpace | sRGB |
ColorTemperature | 7661 |
ColorTransform | YCbCr |
Contrast | Normal |
Contrast2012 | 0 |
Copyright | © Hans Jørgen Lindeløff 2017 |
CopyrightFlag | True |
CopyrightNotice | © Hans Jørgen Lindeløff 2017 |
CreateDate (1) | 2017:10:09 08:56:23.701 |
CreateDate | 2017:10:09 08:56:23 |
Creator | Hans Jørgen Lindeløff |
CreatorAddress | Bjørnevågveien 8 |
CreatorCity | Kråkerøy |
CreatorCountry | Norway |
CreatorPostalCode | 1676 |
CreatorWorkEmail | lundeli@me.com |
CreatorWorkTelephone | +47 92049534 |
CreatorWorkURL | lundeliphoto.no |
CropAngle | 0 |
CropBottom | 0.891869 |
CropConstrainToWarp | 1 |
CropLeft | 0.002321 |
CropRight | 0.998183 |
CropTop | 0.046118 |
CustomRendered | Normal |
DateCreated (1) | 2017:10:09 |
DateCreated | 2017:10:09 08:56:22.20 |
DateTimeOriginal | 2017:10:09 08:56:23 |
DefringeGreenAmount | 0 |
DefringeGreenHueHi | 60 |
DefringeGreenHueLo | 40 |
DefringePurpleAmount | 0 |
DefringePurpleHueHi | 70 |
DefringePurpleHueLo | 30 |
Dehaze | 0 |
Description | Innerdalstårnet |
DigitalZoomRatio | 1 |
DistortionCorrectionAlreadyApplied | True |
DOF | inf (0.28 m - inf) |
Exposure2012 | +0.65 |
ExposureCompensation | -8/3 |
ExposureMode | Manual |
ExposureProgram | Manual |
ExposureTime | 1/100 |
Flash | Off, Did not fire |
FNumber | 18.0 |
FocalLength | 10.0 mm |
FocalLengthIn35mmFormat | 15 mm |
Format | image/jpeg |
FOV | 100.4 deg |
GainControl | None |
GradientBasedCorrActive | true |
GradientBasedCorrAmount | 1.000000 |
GradientBasedCorrBrightness | 0.000000 |
GradientBasedCorrClarity2012 | 0.000000 |
GradientBasedCorrContrast2012 | 0.000000 |
GradientBasedCorrCorrectionRangeMaskType | +2 |
GradientBasedCorrCorrectionRangeMaskVersion | +2 |
GradientBasedCorrDefringe | 0.000000 |
GradientBasedCorrExposure2012 | -0.036701 |
GradientBasedCorrHighlights2012 | 0.000000 |
GradientBasedCorrHue | 240.000000 |
GradientBasedCorrLocalBlacks2012 | 0.000000 |
GradientBasedCorrLocalDehaze | 0.000000 |
GradientBasedCorrLocalTexture | 0.000000 |
GradientBasedCorrLocalWhites2012 | 0.000000 |
GradientBasedCorrLuminanceNoise | 0.000000 |
GradientBasedCorrMaskFullX | 0.543137 |
GradientBasedCorrMaskFullY | 0.248963 |
GradientBasedCorrMaskValue | 1.000000 |
GradientBasedCorrMaskWhat | Mask/Gradient |
GradientBasedCorrMaskZeroX | 0.542274 |
GradientBasedCorrMaskZeroY | 0.445396 |
GradientBasedCorrMoire | 0.000000 |
GradientBasedCorrSaturation | 0.000000 |
GradientBasedCorrShadows2012 | 0.000000 |
GradientBasedCorrSharpness | 0.000000 |
GradientBasedCorrTemperature | 0.000000 |
GradientBasedCorrTint | 0.000000 |
GradientBasedCorrWhat | Correction |
GrainAmount | 0 |
GreenHue | 0 |
GreenSaturation | 0 |
HasCrop | True |
HasExtendedXMP | 7FAD88FAC89DDEA9F8FD666C96368133 |
HasSettings | True |
Highlights2012 | -37 |
HueAdjustmentAqua | 0 |
HueAdjustmentBlue | 0 |
HueAdjustmentGreen | 0 |
HueAdjustmentMagenta | 0 |
HueAdjustmentOrange | 0 |
HueAdjustmentPurple | 0 |
HueAdjustmentRed | 0 |
HueAdjustmentYellow | 0 |
HyperfocalDistance | 0.28 m |
ImageDescription | Innerdalstårnet |
ImageHeight | 1152 |
ImageNumber | 12016 |
ImageSize | 2048x1152 |
ImageWidth | 2048 |
IsMergedHDR | True |
ISO | 100 |
Keywords | 500px, Innerdalen, Soloppgang |
Lens | 10.0-20.0 mm f/4.0-5.6 |
LensID (1) | 249 |
LensID | Sigma 10-20mm F4-5.6 EX DC HSM |
LensInfo | 10-20mm f/4-5.6 |
LensManualDistortionAmount | 0 |
LensModel | 10.0-20.0 mm f/4.0-5.6 |
LensProfileDistortionScale | 100 |
LensProfileEnable | 1 |
LensProfileIsEmbedded | False |
LensProfileSetup | Custom |
LensProfileVignettingScale | 100 |
LightSource | Unknown |
LightValue | 15.0 |
LookAmount | 1.000000 |
LookGroup | Profiles |
LookName | Adobe Landscape |
LookParametersCameraProfile | Adobe Standard |
LookParametersClarity2012 | +10 |
LookParametersConvertToGrayscale | False |
LookParametersHighlights2012 | -12 |
LookParametersLookTable | 0B3BFB5CFB7DBF7FF175E98F24D316B0 |
LookParametersProcessVersion | 11.0 |
LookParametersShadows2012 | +12 |
LookParametersToneCurvePV2012 | 0, 0, 64, 60, 128, 128, 192, 196, 255, 255 |
LookParametersVersion | 13.3 |
LookSupportsAmount | false |
LookSupportsMonochrome | false |
LookSupportsOutputReferred | false |
LuminanceAdjustmentAqua | 0 |
LuminanceAdjustmentBlue | 0 |
LuminanceAdjustmentGreen | 0 |
LuminanceAdjustmentMagenta | 0 |
LuminanceAdjustmentOrange | 0 |
LuminanceAdjustmentPurple | 0 |
LuminanceAdjustmentRed | 0 |
LuminanceAdjustmentYellow | 0 |
LuminanceNoiseReductionContrast | 0 |
LuminanceNoiseReductionDetail | 50 |
LuminanceSmoothing | 24 |
Make | NIKON CORPORATION |
Marked | True |
MaxApertureValue | 4.0 |
Megapixels | 2.4 |
MeteringMode | Center-weighted average |
Model | NIKON D7000 |
ModifyDate (1) | 2021:07:14 23:10:30+02:00 |
ModifyDate | 2021:07:14 23:10:30 |
OverrideLookVignette | False |
PaintCorrectionActive | true |
PaintCorrectionAmount | 1.000000 |
PaintCorrectionBrightness | 0.000000 |
PaintCorrectionClarity2012 | 0.000000 |
PaintCorrectionContrast2012 | 0.000000 |
PaintCorrectionCorrectionRangeMaskLumMin | 0.000000 |
PaintCorrectionCorrectionRangeMaskType | 0 |
PaintCorrectionCorrectionRangeMaskVersion (4) | +2 |
PaintCorrectionCorrectionRangeMaskVersion | +1 |
PaintCorrectionDefringe | 0.000000 |
PaintCorrectionExposure2012 (1) | 0.077943 |
PaintCorrectionExposure2012 (2) | -0.119186 |
PaintCorrectionExposure2012 (3) | -0.112555 |
PaintCorrectionExposure2012 (4) | 0.099201 |
PaintCorrectionExposure2012 | 0.169331 |
PaintCorrectionHighlights2012 (3) | -0.175055 |
PaintCorrectionHighlights2012 | 0.000000 |
PaintCorrectionHue | 233.000000 |
PaintCorrectionLocalBlacks2012 (2) | -0.005178 |
PaintCorrectionLocalBlacks2012 | 0.000000 |
PaintCorrectionLocalDehaze | 0.000000 |
PaintCorrectionLocalTexture | 0.000000 |
PaintCorrectionLocalWhites2012 (2) | 0.000000 |
PaintCorrectionLocalWhites2012 (3) | 0.206395 |
PaintCorrectionLocalWhites2012 | 0.193859 |
PaintCorrectionLuminanceNoise | 0.000000 |
PaintCorrectionMaskCenterWeight (9) | 0.024666 |
PaintCorrectionMaskCenterWeight | 0.031330 |
PaintCorrectionMaskFlow (7) | 0.732856 |
PaintCorrectionMaskFlow | 0.663730 |
PaintCorrectionMaskRadius (1) | 0.023527 |
PaintCorrectionMaskRadius (10) | 0.040290 |
PaintCorrectionMaskRadius (11) | 0.029960 |
PaintCorrectionMaskRadius (12) | 0.028578 |
PaintCorrectionMaskRadius (13) | 0.029155 |
PaintCorrectionMaskRadius (14) | 0.067032 |
PaintCorrectionMaskRadius (2) | 0.012790 |
PaintCorrectionMaskRadius (3) | 0.013081 |
PaintCorrectionMaskRadius (4) | 0.012255 |
PaintCorrectionMaskRadius (5) | 0.012993 |
PaintCorrectionMaskRadius (6) | 0.010646 |
PaintCorrectionMaskRadius (7) | 0.010657 |
PaintCorrectionMaskRadius (8) | 0.040647 |
PaintCorrectionMaskRadius (9) | 0.040695 |
PaintCorrectionMaskRadius | 0.059179 |
PaintCorrectionMaskValue (7) | 0.688077 |
PaintCorrectionMaskValue | 0.677290 |
PaintCorrectionMaskWhat | Mask/Paint |
PaintCorrectionMoire | 0.000000 |
PaintCorrectionSaturation | 0.000000 |
PaintCorrectionShadows2012 | 0.000000 |
PaintCorrectionSharpness | 0.000000 |
PaintCorrectionTemperature (1) | 0.102471 |
PaintCorrectionTemperature (2) | 0.165153 |
PaintCorrectionTemperature (3) | 0.379360 |
PaintCorrectionTemperature (4) | 0.111101 |
PaintCorrectionTemperature | 0.000000 |
PaintCorrectionTint (2) | 0.103107 |
PaintCorrectionTint (3) | 0.021802 |
PaintCorrectionTint | 0.000000 |
PaintCorrectionWhat | Correction |
ParametricDarks | 0 |
ParametricHighlights | 0 |
ParametricHighlightSplit | 75 |
ParametricLights | 0 |
ParametricMidtoneSplit | 50 |
ParametricShadows | 0 |
ParametricShadowSplit | 25 |
PerspectiveAspect | 0 |
PerspectiveHorizontal | 0 |
PerspectiveRotate | 0.0 |
PerspectiveScale | 100 |
PerspectiveUpright | 0 |
PerspectiveVertical | -13 |
PerspectiveX | 0.00 |
PerspectiveY | 0.00 |
PostCropVignetteAmount | -6 |
PostCropVignetteFeather | 50 |
PostCropVignetteHighlightContrast | 0 |
PostCropVignetteMidpoint | 50 |
PostCropVignetteRoundness | 0 |
PostCropVignetteStyle | 1 |
ProcessVersion | 11.0 |
ProfileDescription | sRGB IEC61966-2.1 |
Rating | 5 |
RawFileName | |
RedHue | 0 |
RedSaturation | 0 |
Rights | © Hans Jørgen Lindeløff 2017 |
Saturation (1) | +9 |
Saturation | Normal |
SaturationAdjustmentAqua | 0 |
SaturationAdjustmentBlue | 0 |
SaturationAdjustmentGreen | 0 |
SaturationAdjustmentMagenta | 0 |
SaturationAdjustmentOrange | 0 |
SaturationAdjustmentPurple | 0 |
SaturationAdjustmentRed | 0 |
SaturationAdjustmentYellow | 0 |
ScaleFactor35efl | 1.5 |
SceneCaptureType | Landscape |
SceneType | Directly photographed |
SensingMethod | One-chip color area |
SensitivityType | Recommended Exposure Index |
SerialNumber | 6199246 |
Shadows2012 | +100 |
ShadowTint | 0 |
SharpenDetail | 25 |
SharpenEdgeMasking | 52 |
SharpenRadius | +1.0 |
Sharpness (1) | 65 |
Sharpness | Normal |
ShutterSpeed | 1/100 |
ShutterSpeedValue | 1/100 |
SplitToningBalance | 0 |
SplitToningHighlightHue | 0 |
SplitToningHighlightSaturation | 0 |
SplitToningShadowHue | 0 |
SplitToningShadowSaturation | 0 |
Subject | 500px, Innerdalen, Soloppgang |
SubjectDistanceRange | Unknown |
Texture | 0 |
Tint | +28 |
ToneCurveName2012 | Custom |
ToneCurvePV2012 | 0, 0, 67, 81, 148, 176, 255, 255 |
ToneCurvePV2012Blue | 0, 0, 255, 255 |
ToneCurvePV2012Green | 0, 0, 255, 255 |
ToneCurvePV2012Red | 0, 0, 255, 255 |
URL | lundeliphoto.no |
Version | 13.3 |
Vibrance | +20 |
VignetteAmount | 0 |
VignetteCorrectionAlreadyApplied | True |
WebStatement | lundeliphoto.no |
WhiteBalance (1) | Custom |
WhiteBalance | Auto |
Whites2012 | +28 |