Felt | Verdi |
AlreadyApplied | True |
Aperture | 1.6 |
ApertureValue | 1.6 |
Artist | Hans Jørgen Lindeløff |
AutoLateralCA | 1 |
BitsPerSample | 8 |
Blacks2012 | +4 |
BlueHue | 0 |
BlueSaturation | 0 |
BrightnessValue | 8.92265283 |
By-line | Hans Jørgen Lindeløff |
CameraProfile | Adobe Standard |
CircGradBasedCorrActive | true |
CircGradBasedCorrAmount | 1.000000 |
CircGradBasedCorrBrightness | 0.000000 |
CircGradBasedCorrClarity2012 | 0.000000 |
CircGradBasedCorrContrast2012 | 0.000000 |
CircGradBasedCorrCorrectionRangeMaskColorAmount | 0.500000 |
CircGradBasedCorrCorrectionRangeMaskDepthFeather | 0.500000 |
CircGradBasedCorrCorrectionRangeMaskDepthMax | 1.000000 |
CircGradBasedCorrCorrectionRangeMaskDepthMin | 0.000000 |
CircGradBasedCorrCorrectionRangeMaskLumFeather | 0.500000 |
CircGradBasedCorrCorrectionRangeMaskLumMax | 1.000000 |
CircGradBasedCorrCorrectionRangeMaskLumMin | 0.000000 |
CircGradBasedCorrCorrectionRangeMaskType | 0 |
CircGradBasedCorrCorrectionRangeMaskVersion | +2 |
CircGradBasedCorrDefringe | 0.000000 |
CircGradBasedCorrExposure2012 | 0.133950 |
CircGradBasedCorrHighlights2012 | -0.626936 |
CircGradBasedCorrHue | 240.000000 |
CircGradBasedCorrLocalBlacks2012 | -0.138780 |
CircGradBasedCorrLocalDehaze | 0.000000 |
CircGradBasedCorrLocalHue | 0.000000 |
CircGradBasedCorrLocalTexture | 0.154273 |
CircGradBasedCorrLocalWhites2012 | 0.153007 |
CircGradBasedCorrLuminanceNoise | 0.000000 |
CircGradBasedCorrMaskAngle | 0.000000 |
CircGradBasedCorrMaskBottom | 0.848340 |
CircGradBasedCorrMaskFeather | +100 |
CircGradBasedCorrMaskFlipped | true |
CircGradBasedCorrMaskLeft | 0.021627 |
CircGradBasedCorrMaskMidpoint | +50 |
CircGradBasedCorrMaskRight | 1.060430 |
CircGradBasedCorrMaskRoundness | 0 |
CircGradBasedCorrMaskTop | 0.276508 |
CircGradBasedCorrMaskValue | 1.000000 |
CircGradBasedCorrMaskVersion | +2 |
CircGradBasedCorrMaskWhat | Mask/CircularGradient |
CircGradBasedCorrMoire | 0.000000 |
CircGradBasedCorrSaturation | 0.000000 |
CircGradBasedCorrShadows2012 | 0.128651 |
CircGradBasedCorrSharpness | 0.000000 |
CircGradBasedCorrTemperature | 0.125217 |
CircGradBasedCorrTint | -0.006913 |
CircGradBasedCorrWhat | Correction |
CircleOfConfusion | 0.006 mm |
City | Valldal |
Clarity2012 | +6 |
ColorComponents | 3 |
ColorGradeBlending | 50 |
ColorGradeGlobalHue | 0 |
ColorGradeGlobalLum | 0 |
ColorGradeGlobalSat | 0 |
ColorGradeHighlightLum | 0 |
ColorGradeMidtoneHue | 0 |
ColorGradeMidtoneLum | 0 |
ColorGradeMidtoneSat | 0 |
ColorGradeShadowLum | 0 |
ColorNoiseReduction | 25 |
ColorNoiseReductionDetail | 50 |
ColorNoiseReductionSmoothness | 50 |
ColorSpace | sRGB |
ColorTemperature | 6010 |
ColorTransform | YCbCr |
Contrast2012 | 0 |
Copyright | © Hans Jørgen Lindeløff 2021 |
CopyrightFlag | True |
CopyrightNotice | © Hans Jørgen Lindeløff 2021 |
Country | Norway |
Country-PrimaryLocationCode | NO |
Country-PrimaryLocationName | Norway |
CountryCode | NO |
CreateDate (1) | 2021:06:19 10:31:38.1+02:00 |
CreateDate | 2021:06:19 10:31:38 |
Creator | Hans Jørgen Lindeløff |
CreatorAddress | Bjørnevågveien 8 |
CreatorCity | Kråkerøy |
CreatorCountry | Norway |
CreatorPostalCode | 1676 |
CreatorTool | Adobe Photoshop Lightroom Classic 10.3 (Macintosh) |
CreatorWorkEmail | lundeli@mac.com |
CreatorWorkTelephone | +47 92049534 |
CreatorWorkURL | lundeliphoto.no |
CropAngle | 0 |
CropBottom | 0.867905 |
CropConstrainToWarp | 1 |
CropLeft | 0.041502 |
CropRight | 0.958454 |
CropTop | 0.117357 |
DateCreated (1) | 2018:01:02 |
DateCreated | 2018:01:02 14:49:07.571 |
DateTimeOriginal | 2021:06:19 10:31:38 |
DefringeGreenAmount | 0 |
DefringeGreenHueHi | 60 |
DefringeGreenHueLo | 40 |
DefringePurpleAmount | 0 |
DefringePurpleHueHi | 70 |
DefringePurpleHueLo | 30 |
Dehaze | 0 |
DistortionCorrectionAlreadyApplied | True |
Exposure2012 | -0.90 |
ExposureCompensation | 0 |
ExposureMode | Auto |
ExposureProgram | Program AE |
ExposureTime | 1/2000 |
Flash | Auto, Did not fire |
FNumber | 1.6 |
FocalLength | 5.1 mm |
FocalLength35efl | 5.1 mm (35 mm equivalent: 26.0 mm) |
FocalLengthIn35mmFormat | 26 mm |
Format | image/jpeg |
FOV | 69.4 deg |
GPSAltitude | 268.9 m |
GPSDestBearing | 205.2159574 |
GPSDestBearingRef | Magnetic North |
GPSHPositioningError | 4.649204914 m |
GPSImgDirection | 225 |
GPSImgDirectionRef | Magnetic North |
GPSLatitude (1) | 62 deg 19' 45.45" |
GPSLatitude | 62 deg 19' 45.45" N |
GPSLatitudeRef | North |
GPSLongitude (1) | 7 deg 28' 55.39" |
GPSLongitude | 7 deg 28' 55.39" E |
GPSLongitudeRef | East |
GPSPosition | 62 deg 19' 45.45" N, 7 deg 28' 55.39" E |
GPSSpeed | 0.2300000042 |
GPSSpeedRef | km/h |
GPSVersionID | 2.2.0.0 |
GradientBasedCorrActive | true |
GradientBasedCorrAmount | 1.000000 |
GradientBasedCorrBrightness | 0.000000 |
GradientBasedCorrClarity2012 | 0.000000 |
GradientBasedCorrContrast2012 | 0.000000 |
GradientBasedCorrCorrectionRangeMaskColorAmount | 0.500000 |
GradientBasedCorrCorrectionRangeMaskDepthFeather | 0.500000 |
GradientBasedCorrCorrectionRangeMaskDepthMax | 1.000000 |
GradientBasedCorrCorrectionRangeMaskDepthMin | 0.000000 |
GradientBasedCorrCorrectionRangeMaskLumFeather | 0.491657 |
GradientBasedCorrCorrectionRangeMaskLumMax | 1.000000 |
GradientBasedCorrCorrectionRangeMaskLumMin | 0.662824 |
GradientBasedCorrCorrectionRangeMaskType | +2 |
GradientBasedCorrCorrectionRangeMaskVersion | +2 |
GradientBasedCorrDefringe | 0.000000 |
GradientBasedCorrExposure2012 | -0.086517 |
GradientBasedCorrHighlights2012 | 0.000000 |
GradientBasedCorrHue | 240.000000 |
GradientBasedCorrLocalBlacks2012 | 0.000000 |
GradientBasedCorrLocalDehaze | 0.000000 |
GradientBasedCorrLocalHue | 0.000000 |
GradientBasedCorrLocalTexture | 0.000000 |
GradientBasedCorrLocalWhites2012 | 0.000000 |
GradientBasedCorrLuminanceNoise | 0.000000 |
GradientBasedCorrMaskCenterWeight | 0.063749 |
GradientBasedCorrMaskFlow | 0.588303 |
GradientBasedCorrMaskFullX | 0.516919 |
GradientBasedCorrMaskFullY | 0.193440 |
GradientBasedCorrMaskRadius | 0.104099 |
GradientBasedCorrMaskValue (1) | 1.000000 |
GradientBasedCorrMaskValue | 0.000000 |
GradientBasedCorrMaskWhat (1) | Mask/Gradient |
GradientBasedCorrMaskWhat | Mask/Paint |
GradientBasedCorrMaskZeroX | 0.521661 |
GradientBasedCorrMaskZeroY | 0.428423 |
GradientBasedCorrMoire | 0.000000 |
GradientBasedCorrSaturation | 0.000000 |
GradientBasedCorrShadows2012 | 0.000000 |
GradientBasedCorrSharpness | 0.000000 |
GradientBasedCorrTemperature | 0.000000 |
GradientBasedCorrTint | 0.000000 |
GradientBasedCorrWhat | Correction |
GrainAmount | 0 |
GreenHue | 0 |
GreenSaturation | 0 |
HasCrop | True |
HasSettings | True |
Highlights2012 | -50 |
HueAdjustmentAqua | 0 |
HueAdjustmentBlue | 0 |
HueAdjustmentGreen | 0 |
HueAdjustmentMagenta | 0 |
HueAdjustmentOrange | 0 |
HueAdjustmentPurple | 0 |
HueAdjustmentRed | 0 |
HueAdjustmentYellow | 0 |
HyperfocalDistance | 2.76 m |
ImageHeight | 1152 |
ImageSize | 2048x1152 |
ImageWidth | 2048 |
IsMergedPanorama | True |
ISO | 32 |
LateralChromaticAberrationCorrectionAlreadyApplied | True |
Lens | iPhone 12 Pro Max back triple camera 5.1mm f/1.6 |
LensInfo (1) | 1.53999996185121-7.5mm f/1.6-2.4 |
LensInfo | 1.539999962-7.5mm f/1.6-2.4 |
LensMake | Apple |
LensManualDistortionAmount | 0 |
LensModel | iPhone 12 Pro Max back triple camera 5.1mm f/1.6 |
LensProfileDistortionScale | 100 |
LensProfileEnable | 1 |
LensProfileFilename | Apple iPhone (Apple iPhone 12 Pro Max back camera 5.1mm f1.6) - RAW.lcp |
LensProfileIsEmbedded | False |
LensProfileName | Adobe (Apple iPhone 12 Pro Max back camera 5.1mm f/1.6) |
LensProfileSetup | LensDefaults |
LensProfileVignettingScale | 100 |
LightValue | 14.0 |
LookAmount | 1.000000 |
LookGroup | Profiles |
LookName | Apple ProRaw |
LookParametersCameraProfile | Apple Embedded Color Profile |
LookParametersConvertToGrayscale | False |
LookParametersProcessVersion | 11.0 |
LookParametersProfileGainTableMap | 100 |
LookParametersVersion | 13.3 |
LookSupportsMonochrome | false |
LookSupportsOutputReferred | false |
LuminanceAdjustmentAqua | 0 |
LuminanceAdjustmentBlue | 0 |
LuminanceAdjustmentGreen | 0 |
LuminanceAdjustmentMagenta | 0 |
LuminanceAdjustmentOrange | 0 |
LuminanceAdjustmentPurple | 0 |
LuminanceAdjustmentRed | 0 |
LuminanceAdjustmentYellow | 0 |
LuminanceSmoothing | 0 |
Make | Apple |
Marked | True |
Megapixels | 2.4 |
MeteringMode | Multi-segment |
MissingCameraProfile | Apple Embedded Color Profile |
Model | iPhone 12 Pro Max |
ModifyDate (1) | 2021:07:18 00:10:35+02:00 |
ModifyDate | 2021:07:18 00:10:35 |
OverrideLookVignette | False |
PaintCorrectionActive | true |
PaintCorrectionAmount | 1.000000 |
PaintCorrectionBrightness | 0.000000 |
PaintCorrectionClarity2012 | 0.000000 |
PaintCorrectionContrast2012 | 0.224136 |
PaintCorrectionCorrectionRangeMaskColorAmount | 0.500000 |
PaintCorrectionCorrectionRangeMaskDepthFeather | 0.500000 |
PaintCorrectionCorrectionRangeMaskDepthMax | 1.000000 |
PaintCorrectionCorrectionRangeMaskDepthMin | 0.000000 |
PaintCorrectionCorrectionRangeMaskLumFeather | 0.500000 |
PaintCorrectionCorrectionRangeMaskLumMax | 1.000000 |
PaintCorrectionCorrectionRangeMaskLumMin | 0.000000 |
PaintCorrectionCorrectionRangeMaskType | 0 |
PaintCorrectionCorrectionRangeMaskVersion | +2 |
PaintCorrectionDefringe | 0.000000 |
PaintCorrectionExposure2012 | 0.000000 |
PaintCorrectionHighlights2012 | -0.235836 |
PaintCorrectionHue | 240.000000 |
PaintCorrectionLocalBlacks2012 | -0.250034 |
PaintCorrectionLocalDehaze | 0.000000 |
PaintCorrectionLocalHue | 0.000000 |
PaintCorrectionLocalTexture | 0.000000 |
PaintCorrectionLocalWhites2012 | 0.299080 |
PaintCorrectionLuminanceNoise | 0.000000 |
PaintCorrectionMaskCenterWeight | 0.000000 |
PaintCorrectionMaskFlow | 0.489147 |
PaintCorrectionMaskRadius (1) | 0.037102 |
PaintCorrectionMaskRadius (6) | 0.021131 |
PaintCorrectionMaskRadius | 0.015999 |
PaintCorrectionMaskValue | 0.526325 |
PaintCorrectionMaskWhat | Mask/Paint |
PaintCorrectionMoire | 0.000000 |
PaintCorrectionSaturation | 0.000000 |
PaintCorrectionShadows2012 | 0.000000 |
PaintCorrectionSharpness | 0.000000 |
PaintCorrectionTemperature | -0.223663 |
PaintCorrectionTint | -0.787251 |
PaintCorrectionWhat | Correction |
ParametricDarks | 0 |
ParametricHighlights | 0 |
ParametricHighlightSplit | 75 |
ParametricLights | 0 |
ParametricMidtoneSplit | 50 |
ParametricShadows | 0 |
ParametricShadowSplit | 25 |
PerspectiveAspect | 0 |
PerspectiveHorizontal | 0 |
PerspectiveRotate | 0.0 |
PerspectiveScale | 100 |
PerspectiveUpright | 0 |
PerspectiveVertical | 0 |
PerspectiveX | 0.00 |
PerspectiveY | 0.00 |
PostCropVignetteAmount | -11 |
PostCropVignetteFeather | 50 |
PostCropVignetteHighlightContrast | 0 |
PostCropVignetteMidpoint | 50 |
PostCropVignetteRoundness | 0 |
PostCropVignetteStyle | 1 |
PreservedFileName | IMG_2949.DNG |
ProcessVersion | 11.0 |
ProfileDescription | sRGB IEC61966-2.1 |
Province-State | Møre og Romsdal |
RangeMaskMapInfoRangeMaskMapInfoLabMax | 0.999832 0.512901 0.556848 |
RangeMaskMapInfoRangeMaskMapInfoLabMin | 0.003845 0.476570 0.463539 |
RangeMaskMapInfoRangeMaskMapInfoRGBMax | 0.104326 0.108339 0.123400 |
RangeMaskMapInfoRangeMaskMapInfoRGBMin | 0.000961 0.001099 0.000931 |
Rating | 5 |
RawFileName | |
RedHue | 0 |
RedSaturation | 0 |
Rights | © Hans Jørgen Lindeløff 2021 |
Saturation | +8 |
SaturationAdjustmentAqua | 0 |
SaturationAdjustmentBlue | 0 |
SaturationAdjustmentGreen | 0 |
SaturationAdjustmentMagenta | 0 |
SaturationAdjustmentOrange | 0 |
SaturationAdjustmentPurple | 0 |
SaturationAdjustmentRed | 0 |
SaturationAdjustmentYellow | 0 |
ScaleFactor35efl | 5.1 |
SceneType | Directly photographed |
SensingMethod | One-chip color area |
Shadows2012 | +100 |
ShadowTint | 0 |
SharpenDetail | 25 |
SharpenEdgeMasking | 0 |
SharpenRadius | +1.4 |
Sharpness | 50 |
ShutterSpeed | 1/2000 |
ShutterSpeedValue | 1/2000 |
Software | Adobe Photoshop Lightroom Classic 10.3 (Macintosh) |
SplitToningBalance | 0 |
SplitToningHighlightHue | 0 |
SplitToningHighlightSaturation | 0 |
SplitToningShadowHue | 0 |
SplitToningShadowSaturation | 0 |
State | Møre og Romsdal |
SubjectArea | 2002 1503 2213 1327 |
Texture | 0 |
Tint | +18 |
ToneCurveName2012 | Custom |
ToneCurvePV2012 | 0, 0, 67, 64, 191, 198, 255, 255 |
ToneCurvePV2012Blue | 0, 0, 255, 255 |
ToneCurvePV2012Green | 0, 0, 255, 255 |
ToneCurvePV2012Red | 0, 0, 255, 255 |
Transformation | Spherical |
UsageTerms | All rights reserved |
Version | 13.3 |
Vibrance | +22 |
VignetteAmount | 0 |
VirtualFocalLength | 0.576421 |
VirtualImageXCenter | 0.711595 |
VirtualImageYCenter | 0.334517 |
WhiteBalance (1) | Custom |
WhiteBalance | Auto |
Whites2012 | +53 |