Felt | Verdi |
AlreadyApplied | True |
Aperture | 11.0 |
ApertureValue | 11.0 |
ApproximateFocusDistance | 4294967295 |
Artist | Hans Jørgen Lindeløff |
AutoLateralCA | 1 |
BitsPerSample | 8 |
Blacks2012 | -20 |
BlueHue | 0 |
BlueSaturation | 0 |
By-line | Hans Jørgen Lindeløff |
CameraProfile | Adobe Standard |
CFAPattern | [Red,Green][Green,Blue] |
CircGradBasedCorrActive | true |
CircGradBasedCorrAmount | 1.000000 |
CircGradBasedCorrBrightness | 0.000000 |
CircGradBasedCorrClarity2012 | 0.000000 |
CircGradBasedCorrContrast2012 | 0.000000 |
CircGradBasedCorrCorrectionRangeMaskType | 0 |
CircGradBasedCorrCorrectionRangeMaskVersion | +2 |
CircGradBasedCorrDefringe | 0.000000 |
CircGradBasedCorrExposure2012 (1) | -0.086599 |
CircGradBasedCorrExposure2012 (2) | 0.132296 |
CircGradBasedCorrExposure2012 | 0.124551 |
CircGradBasedCorrHighlights2012 (1) | -0.331174 |
CircGradBasedCorrHighlights2012 (2) | -0.537941 |
CircGradBasedCorrHighlights2012 | -0.191798 |
CircGradBasedCorrHue | 240.000000 |
CircGradBasedCorrLocalBlacks2012 (1) | -0.099330 |
CircGradBasedCorrLocalBlacks2012 (2) | -0.148601 |
CircGradBasedCorrLocalBlacks2012 | 0.000000 |
CircGradBasedCorrLocalDehaze | 0.000000 |
CircGradBasedCorrLocalHue | 0.000000 |
CircGradBasedCorrLocalTexture | 0.000000 |
CircGradBasedCorrLocalWhites2012 (1) | 0.161404 |
CircGradBasedCorrLocalWhites2012 (2) | 0.251025 |
CircGradBasedCorrLocalWhites2012 | 0.000000 |
CircGradBasedCorrLuminanceNoise | 0.000000 |
CircGradBasedCorrMaskAngle | 0.000000 |
CircGradBasedCorrMaskBottom (1) | 0.527571 |
CircGradBasedCorrMaskBottom (2) | 0.792654 |
CircGradBasedCorrMaskBottom | 0.625981 |
CircGradBasedCorrMaskFeather | +100 |
CircGradBasedCorrMaskFlipped | true |
CircGradBasedCorrMaskLeft (1) | -0.184104 |
CircGradBasedCorrMaskLeft (2) | 0.032774 |
CircGradBasedCorrMaskLeft | 0.005434 |
CircGradBasedCorrMaskMidpoint | +50 |
CircGradBasedCorrMaskRight (1) | 0.317096 |
CircGradBasedCorrMaskRight (2) | 0.973470 |
CircGradBasedCorrMaskRight | 0.398499 |
CircGradBasedCorrMaskRoundness | 0 |
CircGradBasedCorrMaskTop (1) | 0.259910 |
CircGradBasedCorrMaskTop (2) | 0.376270 |
CircGradBasedCorrMaskTop | 0.499964 |
CircGradBasedCorrMaskValue | 1.000000 |
CircGradBasedCorrMaskVersion | +2 |
CircGradBasedCorrMaskWhat | Mask/CircularGradient |
CircGradBasedCorrMoire | 0.000000 |
CircGradBasedCorrSaturation | 0.000000 |
CircGradBasedCorrShadows2012 (2) | 0.281993 |
CircGradBasedCorrShadows2012 | 0.000000 |
CircGradBasedCorrSharpness (2) | 0.121171 |
CircGradBasedCorrSharpness | 0.000000 |
CircGradBasedCorrTemperature (1) | 0.229141 |
CircGradBasedCorrTemperature | 0.283495 |
CircGradBasedCorrTint (1) | 0.000000 |
CircGradBasedCorrTint | 0.156854 |
CircGradBasedCorrWhat | Correction |
CircleOfConfusion | 0.030 mm |
Clarity2012 | 0 |
ColorComponents | 3 |
ColorGradeBlending | 50 |
ColorGradeGlobalHue | 0 |
ColorGradeGlobalLum | 0 |
ColorGradeGlobalSat | 0 |
ColorGradeHighlightLum | 0 |
ColorGradeMidtoneHue | 0 |
ColorGradeMidtoneLum | 0 |
ColorGradeMidtoneSat | 0 |
ColorGradeShadowLum | 0 |
ColorNoiseReduction | 25 |
ColorNoiseReductionDetail | 50 |
ColorNoiseReductionSmoothness | 50 |
ColorSpace | sRGB |
ColorTemperature | 6500 |
ColorTransform | YCbCr |
Contrast | Normal |
Contrast2012 | +4 |
Copyright | © Hans Jørgen Lindeløff 2021 |
CopyrightFlag | True |
CopyrightNotice | © Hans Jørgen Lindeløff 2021 |
CreateDate (1) | 2021:08:31 20:44:22.031 |
CreateDate | 2021:08:31 20:44:22 |
Creator | Hans Jørgen Lindeløff |
CreatorAddress | Bjørnevågveien 8 |
CreatorCity | Kråkerøy |
CreatorCountry | Norway |
CreatorPostalCode | 1676 |
CreatorWorkEmail | lundeli@mac.com |
CreatorWorkTelephone | +47 92049534 |
CreatorWorkURL | lundeliphoto.no |
CropAngle | 0 |
CropBottom | 0.874065 |
CropConstrainToWarp | 0 |
CropLeft | 0.023614 |
CropRight | 0.989745 |
CropTop | 0.150429 |
CustomRendered | Normal |
DateCreated (1) | 2018:01:02 |
DateCreated | 2018:01:02 14:49:07.571 |
DateTimeOriginal | 2021:08:31 20:44:22 |
DefringeGreenAmount | 0 |
DefringeGreenHueHi | 60 |
DefringeGreenHueLo | 40 |
DefringePurpleAmount | 0 |
DefringePurpleHueHi | 70 |
DefringePurpleHueLo | 30 |
Dehaze | 0 |
DigitalZoomRatio | 1 |
DistortionCorrectionAlreadyApplied | True |
DOF | inf (1.74 m - inf) |
Exposure2012 | -0.40 |
ExposureCompensation | -2 |
ExposureMode | Manual |
ExposureProgram | Manual |
ExposureTime | 1/5 |
Flash | Off, Did not fire |
FNumber | 11.0 |
FocalLength | 24.0 mm |
FocalLengthIn35mmFormat | 24 mm |
Format | image/jpeg |
FOV | 73.7 deg |
GainControl | None |
GradientBasedCorrActive | true |
GradientBasedCorrAmount | 1.000000 |
GradientBasedCorrBrightness | 0.000000 |
GradientBasedCorrClarity2012 | 0.000000 |
GradientBasedCorrContrast2012 | 0.000000 |
GradientBasedCorrCorrectionRangeMaskType | 0 |
GradientBasedCorrCorrectionRangeMaskVersion | +2 |
GradientBasedCorrDefringe | 0.000000 |
GradientBasedCorrExposure2012 | -0.095733 |
GradientBasedCorrHighlights2012 | 0.000000 |
GradientBasedCorrHue | 240.000000 |
GradientBasedCorrLocalBlacks2012 | 0.000000 |
GradientBasedCorrLocalDehaze | 0.000000 |
GradientBasedCorrLocalHue | 0.000000 |
GradientBasedCorrLocalTexture | 0.000000 |
GradientBasedCorrLocalWhites2012 | 0.000000 |
GradientBasedCorrLuminanceNoise | 0.000000 |
GradientBasedCorrMaskFullX | 0.540568 |
GradientBasedCorrMaskFullY | 0.134666 |
GradientBasedCorrMaskValue | 1.000000 |
GradientBasedCorrMaskWhat | Mask/Gradient |
GradientBasedCorrMaskZeroX | 0.526184 |
GradientBasedCorrMaskZeroY | 0.519103 |
GradientBasedCorrMoire | 0.000000 |
GradientBasedCorrSaturation | 0.000000 |
GradientBasedCorrShadows2012 | 0.000000 |
GradientBasedCorrSharpness | 0.000000 |
GradientBasedCorrTemperature | -0.051743 |
GradientBasedCorrTint | 0.152094 |
GradientBasedCorrWhat | Correction |
GrainAmount | 0 |
GreenHue | 0 |
GreenSaturation | 0 |
HasCrop | True |
HasExtendedXMP | 527F0801CCACB479D8348310F0899E12 |
HasSettings | True |
Highlights2012 | -68 |
HueAdjustmentAqua | 0 |
HueAdjustmentBlue | 0 |
HueAdjustmentGreen | 0 |
HueAdjustmentMagenta | 0 |
HueAdjustmentOrange | 0 |
HueAdjustmentPurple | 0 |
HueAdjustmentRed | 0 |
HueAdjustmentYellow | 0 |
HyperfocalDistance | 1.74 m |
ImageHeight | 1024 |
ImageNumber | 16932 |
ImageSize | 2048x1024 |
ImageWidth | 2048 |
IsMergedHDR | True |
ISO | 100 |
Keywords | Mercedes, Solnedgang, oslo |
Lens | 24.0-70.0 mm f/2.8 |
LensID (1) | 170 |
LensID | AF-S Nikkor 24-70mm f/2.8E ED VR |
LensInfo | 24-70mm f/2.8 |
LensManualDistortionAmount | 0 |
LensModel | 24.0-70.0 mm f/2.8 |
LensProfileDistortionScale | 100 |
LensProfileEnable | 1 |
LensProfileIsEmbedded | False |
LensProfileSetup | LensDefaults |
LensProfileVignettingScale | 100 |
LightSource | Unknown |
LightValue | 9.2 |
LookAmount | 1.000000 |
LookGroup | Profiles |
LookName | Adobe Landscape |
LookParametersCameraProfile | Adobe Standard |
LookParametersClarity2012 | +10 |
LookParametersConvertToGrayscale | False |
LookParametersHighlights2012 | -12 |
LookParametersLookTable | 0B3BFB5CFB7DBF7FF175E98F24D316B0 |
LookParametersProcessVersion | 11.0 |
LookParametersShadows2012 | +12 |
LookParametersToneCurvePV2012 | 0, 0, 64, 60, 128, 128, 192, 196, 255, 255 |
LookParametersVersion | 13.3 |
LookSupportsAmount | false |
LookSupportsMonochrome | false |
LookSupportsOutputReferred | false |
LuminanceAdjustmentAqua | 0 |
LuminanceAdjustmentBlue | 0 |
LuminanceAdjustmentGreen | 0 |
LuminanceAdjustmentMagenta | 0 |
LuminanceAdjustmentOrange | 0 |
LuminanceAdjustmentPurple | 0 |
LuminanceAdjustmentRed | 0 |
LuminanceAdjustmentYellow | 0 |
LuminanceNoiseReductionContrast | 0 |
LuminanceNoiseReductionDetail | 50 |
LuminanceSmoothing | 26 |
Make | NIKON CORPORATION |
Marked | True |
MaxApertureValue | 2.8 |
Megapixels | 2.1 |
MeteringMode | Multi-segment |
Model | NIKON D750 |
ModifyDate (1) | 2021:09:02 19:25:37+02:00 |
ModifyDate | 2021:09:02 19:25:37 |
OverrideLookVignette | False |
PaintCorrectionActive | true |
PaintCorrectionAmount | 1.000000 |
PaintCorrectionBrightness | 0.000000 |
PaintCorrectionClarity2012 | 0.000000 |
PaintCorrectionContrast2012 | 0.000000 |
PaintCorrectionCorrectionRangeMaskLumMin | 0.000000 |
PaintCorrectionCorrectionRangeMaskType | 0 |
PaintCorrectionCorrectionRangeMaskVersion | +2 |
PaintCorrectionDefringe | 0.000000 |
PaintCorrectionExposure2012 (10) | 0.114216 |
PaintCorrectionExposure2012 (2) | 0.150584 |
PaintCorrectionExposure2012 (3) | 0.198344 |
PaintCorrectionExposure2012 (4) | 0.159170 |
PaintCorrectionExposure2012 (5) | -0.068986 |
PaintCorrectionExposure2012 (6) | -0.107816 |
PaintCorrectionExposure2012 (7) | -0.116156 |
PaintCorrectionExposure2012 (8) | -0.106838 |
PaintCorrectionExposure2012 (9) | 0.000000 |
PaintCorrectionExposure2012 | -0.121383 |
PaintCorrectionHighlights2012 (1) | -0.073860 |
PaintCorrectionHighlights2012 (10) | -0.281677 |
PaintCorrectionHighlights2012 (9) | 0.000000 |
PaintCorrectionHighlights2012 | -0.053150 |
PaintCorrectionHue | 240.000000 |
PaintCorrectionLocalBlacks2012 (8) | -0.262845 |
PaintCorrectionLocalBlacks2012 | 0.000000 |
PaintCorrectionLocalDehaze | 0.000000 |
PaintCorrectionLocalHue | 0.000000 |
PaintCorrectionLocalTexture | 0.000000 |
PaintCorrectionLocalWhites2012 (9) | 0.319935 |
PaintCorrectionLocalWhites2012 | 0.000000 |
PaintCorrectionLuminanceNoise | 0.000000 |
PaintCorrectionMaskCenterWeight | 0.025662 |
PaintCorrectionMaskFlow (9) | 0.697142 |
PaintCorrectionMaskFlow | 0.574800 |
PaintCorrectionMaskRadius (1) | 0.062066 |
PaintCorrectionMaskRadius (10) | 0.020476 |
PaintCorrectionMaskRadius (11) | 0.020451 |
PaintCorrectionMaskRadius (12) | 0.064235 |
PaintCorrectionMaskRadius (13) | 0.047129 |
PaintCorrectionMaskRadius (14) | 0.036850 |
PaintCorrectionMaskRadius (15) | 0.020810 |
PaintCorrectionMaskRadius (16) | 0.002880 |
PaintCorrectionMaskRadius (17) | 0.002865 |
PaintCorrectionMaskRadius (18) | 0.078760 |
PaintCorrectionMaskRadius (19) | 0.078403 |
PaintCorrectionMaskRadius (2) | 0.030864 |
PaintCorrectionMaskRadius (20) | 0.021401 |
PaintCorrectionMaskRadius (21) | 0.021366 |
PaintCorrectionMaskRadius (22) | 0.003843 |
PaintCorrectionMaskRadius (23) | 0.003842 |
PaintCorrectionMaskRadius (24) | 0.003841 |
PaintCorrectionMaskRadius (25) | 0.010860 |
PaintCorrectionMaskRadius (26) | 0.010870 |
PaintCorrectionMaskRadius (27) | 0.010875 |
PaintCorrectionMaskRadius (28) | 0.069363 |
PaintCorrectionMaskRadius (29) | 0.026367 |
PaintCorrectionMaskRadius (3) | 0.028899 |
PaintCorrectionMaskRadius (30) | 0.019616 |
PaintCorrectionMaskRadius (31) | 0.020477 |
PaintCorrectionMaskRadius (32) | 0.035077 |
PaintCorrectionMaskRadius (33) | 0.036316 |
PaintCorrectionMaskRadius (34) | 0.035929 |
PaintCorrectionMaskRadius (35) | 0.035088 |
PaintCorrectionMaskRadius (36) | 0.035584 |
PaintCorrectionMaskRadius (37) | 0.031778 |
PaintCorrectionMaskRadius (4) | 0.031113 |
PaintCorrectionMaskRadius (5) | 0.031166 |
PaintCorrectionMaskRadius (6) | 0.031006 |
PaintCorrectionMaskRadius (7) | 0.089124 |
PaintCorrectionMaskRadius (8) | 0.031342 |
PaintCorrectionMaskRadius (9) | 0.030537 |
PaintCorrectionMaskRadius | 0.029858 |
PaintCorrectionMaskValue | 0.604296 |
PaintCorrectionMaskWhat | Mask/Paint |
PaintCorrectionMoire | 0.000000 |
PaintCorrectionSaturation | 0.000000 |
PaintCorrectionShadows2012 (10) | 0.094671 |
PaintCorrectionShadows2012 | 0.000000 |
PaintCorrectionSharpness | 0.000000 |
PaintCorrectionTemperature (10) | 0.157956 |
PaintCorrectionTemperature (2) | 0.229141 |
PaintCorrectionTemperature (4) | 0.146490 |
PaintCorrectionTemperature (5) | 0.243106 |
PaintCorrectionTemperature (7) | 0.000000 |
PaintCorrectionTemperature (8) | 0.182525 |
PaintCorrectionTemperature | 0.276094 |
PaintCorrectionTint (10) | 0.000000 |
PaintCorrectionTint (6) | 0.162499 |
PaintCorrectionTint (8) | 0.056248 |
PaintCorrectionTint | 0.181745 |
PaintCorrectionWhat | Correction |
ParametricDarks | 0 |
ParametricHighlights | 0 |
ParametricHighlightSplit | 75 |
ParametricLights | 0 |
ParametricMidtoneSplit | 50 |
ParametricShadows | 0 |
ParametricShadowSplit | 25 |
PerspectiveAspect | 0 |
PerspectiveHorizontal | 0 |
PerspectiveRotate | 0.0 |
PerspectiveScale | 100 |
PerspectiveUpright | 0 |
PerspectiveVertical | -9 |
PerspectiveX | 0.00 |
PerspectiveY | 0.00 |
PostCropVignetteAmount | -14 |
PostCropVignetteFeather | 50 |
PostCropVignetteHighlightContrast | 0 |
PostCropVignetteMidpoint | 50 |
PostCropVignetteRoundness | 0 |
PostCropVignetteStyle | 1 |
PreservedFileName | _D755917.NEF |
ProcessVersion | 11.0 |
ProfileDescription | sRGB IEC61966-2.1 |
Rating | 5 |
RawFileName | |
RedHue | 0 |
RedSaturation | 0 |
Rights | © Hans Jørgen Lindeløff 2021 |
Saturation (1) | +2 |
Saturation | Normal |
SaturationAdjustmentAqua | 0 |
SaturationAdjustmentBlue | 0 |
SaturationAdjustmentGreen | 0 |
SaturationAdjustmentMagenta | 0 |
SaturationAdjustmentOrange | 0 |
SaturationAdjustmentPurple | 0 |
SaturationAdjustmentRed | 0 |
SaturationAdjustmentYellow | 0 |
ScaleFactor35efl | 1.0 |
SceneCaptureType | Landscape |
SceneType | Directly photographed |
SensingMethod | One-chip color area |
SensitivityType | Recommended Exposure Index |
SerialNumber | 6128653 |
Shadows2012 | +52 |
ShadowTint | 0 |
SharpenDetail | 25 |
SharpenEdgeMasking | 61 |
SharpenRadius | +1.0 |
Sharpness (1) | 40 |
Sharpness | Normal |
ShutterSpeed | 1/5 |
ShutterSpeedValue | 1/5 |
SplitToningBalance | 0 |
SplitToningHighlightHue | 0 |
SplitToningHighlightSaturation | 0 |
SplitToningShadowHue | 0 |
SplitToningShadowSaturation | 0 |
Subject | Mercedes, Solnedgang, oslo |
SubjectDistanceRange | Unknown |
Texture | 0 |
Tint | +10 |
ToneCurveName2012 | Custom |
ToneCurvePV2012 | 0, 0, 58, 57, 167, 176, 255, 255 |
ToneCurvePV2012Blue | 0, 0, 255, 255 |
ToneCurvePV2012Green | 0, 0, 255, 255 |
ToneCurvePV2012Red | 0, 0, 255, 255 |
UsageTerms | All rights reserved |
Version | 13.3 |
Vibrance | +16 |
VignetteAmount | 0 |
VignetteCorrectionAlreadyApplied | True |
WhiteBalance (1) | Cloudy |
WhiteBalance | Auto |
Whites2012 | +34 |