Felt | Verdi |
AlreadyApplied | True |
Aperture | 13.0 |
ApertureValue | 13.0 |
ApproximateFocusDistance | 4294967295 |
Artist | Hans Jørgen Lindeløff |
AutoLateralCA | 1 |
BitsPerSample | 8 |
Blacks2012 | -12 |
BlueHue | 0 |
BlueSaturation | 0 |
By-line | Hans Jørgen Lindeløff |
CameraProfile | Adobe Standard |
CFAPattern | [Red,Green][Green,Blue] |
CircleOfConfusion | 0.030 mm |
Clarity2012 | 0 |
ColorComponents | 3 |
ColorGradeBlending | 50 |
ColorGradeGlobalHue | 0 |
ColorGradeGlobalLum | 0 |
ColorGradeGlobalSat | 0 |
ColorGradeHighlightLum | 0 |
ColorGradeMidtoneHue | 0 |
ColorGradeMidtoneLum | 0 |
ColorGradeMidtoneSat | 0 |
ColorGradeShadowLum | 0 |
ColorNoiseReduction | 25 |
ColorNoiseReductionDetail | 50 |
ColorNoiseReductionSmoothness | 50 |
ColorSpace | sRGB |
ColorTemperature | 6500 |
ColorTransform | YCbCr |
Contrast | Normal |
Contrast2012 | +5 |
Copyright | © Hans Jørgen Lindeløff 2021 |
CopyrightFlag | True |
CopyrightNotice | © Hans Jørgen Lindeløff 2021 |
CreateDate (1) | 2021:09:19 15:15:56.2311 |
CreateDate | 2021:09:19 15:15:56 |
Creator | Hans Jørgen Lindeløff |
CreatorAddress | Bjørnevågveien 8 |
CreatorCity | Kråkerøy |
CreatorCountry | Norway |
CreatorPostalCode | 1676 |
CreatorWorkEmail | lundeli@mac.com |
CreatorWorkTelephone | +47 92049534 |
CreatorWorkURL | lundeliphoto.no |
CropAngle | 0 |
CropBottom | 0.93569 |
CropConstrainToWarp | 1 |
CropLeft | 0.03366 |
CropRight | 0.947006 |
CropTop | 0.053924 |
CustomRendered | Normal |
DateCreated (1) | 2018:01:02 |
DateCreated | 2018:01:02 14:49:07.571 |
DateTimeOriginal | 2021:09:19 15:15:56 |
DefringeGreenAmount | 0 |
DefringeGreenHueHi | 60 |
DefringeGreenHueLo | 40 |
DefringePurpleAmount | 0 |
DefringePurpleHueHi | 70 |
DefringePurpleHueLo | 30 |
Dehaze | 0 |
DigitalZoomRatio | 1 |
DistortionCorrectionAlreadyApplied | True |
DOF | inf (1.47 m - inf) |
Exposure2012 | +0.40 |
ExposureCompensation | -2 |
ExposureMode | Manual |
ExposureProgram | Manual |
ExposureTime | 1/250 |
Flash | Off, Did not fire |
FNumber | 13.0 |
FocalLength | 24.0 mm |
FocalLength35efl | 24.0 mm (35 mm equivalent: 24.0 mm) |
FocalLengthIn35mmFormat | 24 mm |
Format | image/jpeg |
FOV | 73.7 deg |
GainControl | None |
GradientBasedCorrActive | true |
GradientBasedCorrAmount | 1.000000 |
GradientBasedCorrBrightness | 0.000000 |
GradientBasedCorrClarity2012 (2) | 0.158285 |
GradientBasedCorrClarity2012 | 0.000000 |
GradientBasedCorrContrast2012 | 0.000000 |
GradientBasedCorrCorrectionRangeMaskLumMax | 1.000000 |
GradientBasedCorrCorrectionRangeMaskLumMin | 0.000000 |
GradientBasedCorrCorrectionRangeMaskType (1) | +2 |
GradientBasedCorrCorrectionRangeMaskType | 0 |
GradientBasedCorrCorrectionRangeMaskVersion | +2 |
GradientBasedCorrDefringe | 0.000000 |
GradientBasedCorrExposure2012 (1) | -0.273569 |
GradientBasedCorrExposure2012 (2) | 0.113368 |
GradientBasedCorrExposure2012 (3) | -0.093471 |
GradientBasedCorrExposure2012 (4) | -0.127779 |
GradientBasedCorrExposure2012 | -0.083801 |
GradientBasedCorrHighlights2012 (2) | -0.370175 |
GradientBasedCorrHighlights2012 | 0.000000 |
GradientBasedCorrHue | 240.000000 |
GradientBasedCorrLocalBlacks2012 (1) | -0.128918 |
GradientBasedCorrLocalBlacks2012 | 0.000000 |
GradientBasedCorrLocalDehaze | 0.000000 |
GradientBasedCorrLocalHue | 0.000000 |
GradientBasedCorrLocalTexture | 0.000000 |
GradientBasedCorrLocalWhites2012 (1) | 0.417284 |
GradientBasedCorrLocalWhites2012 | 0.000000 |
GradientBasedCorrLuminanceNoise | 0.000000 |
GradientBasedCorrMaskCenterWeight | 0.000303 |
GradientBasedCorrMaskFlow (1) | 0.887367 |
GradientBasedCorrMaskFlow | 0.468636 |
GradientBasedCorrMaskFullX (1) | 0.492006 |
GradientBasedCorrMaskFullX (2) | 0.464695 |
GradientBasedCorrMaskFullX (3) | 0.449936 |
GradientBasedCorrMaskFullX (4) | 0.488275 |
GradientBasedCorrMaskFullX | 0.191387 |
GradientBasedCorrMaskFullY (1) | 0.317159 |
GradientBasedCorrMaskFullY (2) | 0.456682 |
GradientBasedCorrMaskFullY (3) | 0.969698 |
GradientBasedCorrMaskFullY (4) | 0.036472 |
GradientBasedCorrMaskFullY | 0.070539 |
GradientBasedCorrMaskRadius (1) | 0.040541 |
GradientBasedCorrMaskRadius (2) | 0.023136 |
GradientBasedCorrMaskRadius (5) | 0.012056 |
GradientBasedCorrMaskRadius (6) | 0.052666 |
GradientBasedCorrMaskRadius | 0.034635 |
GradientBasedCorrMaskValue (4) | 0.000000 |
GradientBasedCorrMaskValue | 1.000000 |
GradientBasedCorrMaskWhat (7) | Mask/Paint |
GradientBasedCorrMaskWhat | Mask/Gradient |
GradientBasedCorrMaskZeroX (1) | 0.493654 |
GradientBasedCorrMaskZeroX (2) | 0.461461 |
GradientBasedCorrMaskZeroX (3) | 0.451508 |
GradientBasedCorrMaskZeroX (4) | 0.485911 |
GradientBasedCorrMaskZeroX | 0.233952 |
GradientBasedCorrMaskZeroY (1) | 0.401265 |
GradientBasedCorrMaskZeroY (2) | 0.244056 |
GradientBasedCorrMaskZeroY (3) | 0.699977 |
GradientBasedCorrMaskZeroY (4) | 0.377082 |
GradientBasedCorrMaskZeroY | 0.366301 |
GradientBasedCorrMoire | 0.000000 |
GradientBasedCorrSaturation | 0.000000 |
GradientBasedCorrShadows2012 | 0.000000 |
GradientBasedCorrSharpness | 0.000000 |
GradientBasedCorrTemperature (2) | 0.087366 |
GradientBasedCorrTemperature | 0.000000 |
GradientBasedCorrTint | 0.000000 |
GradientBasedCorrWhat | Correction |
GrainAmount | 0 |
GreenHue | 0 |
GreenSaturation | 0 |
HasCrop | True |
HasExtendedXMP | 673360EE0D64A40780D49630ED35F061 |
HasSettings | True |
Highlights2012 | -75 |
HueAdjustmentAqua | 0 |
HueAdjustmentBlue | 0 |
HueAdjustmentGreen | 0 |
HueAdjustmentMagenta | 0 |
HueAdjustmentOrange | 0 |
HueAdjustmentPurple | 0 |
HueAdjustmentRed | 0 |
HueAdjustmentYellow | 0 |
HyperfocalDistance | 1.47 m |
ImageHeight | 1152 |
ImageNumber | 18994 |
ImageSize | 2048x1152 |
ImageWidth | 2048 |
IsMergedHDR | True |
IsMergedPanorama | True |
ISO | 100 |
Keywords | Hardangervidda, Haugastøl, høst |
Lens | 24.0-70.0 mm f/2.8 |
LensID (1) | 170 |
LensID | AF-S Nikkor 24-70mm f/2.8E ED VR |
LensInfo | 24-70mm f/2.8 |
LensManualDistortionAmount | 0 |
LensModel | 24.0-70.0 mm f/2.8 |
LensProfileDistortionScale | 100 |
LensProfileEnable | 1 |
LensProfileIsEmbedded | False |
LensProfileSetup | LensDefaults |
LensProfileVignettingScale | 100 |
LightSource | Unknown |
LightValue | 15.4 |
LookAmount | 1.000000 |
LookGroup | Profiles |
LookName | Adobe Landscape |
LookParametersCameraProfile | Adobe Standard |
LookParametersClarity2012 | +10 |
LookParametersConvertToGrayscale | False |
LookParametersHighlights2012 | -12 |
LookParametersLookTable | 0B3BFB5CFB7DBF7FF175E98F24D316B0 |
LookParametersProcessVersion | 11.0 |
LookParametersShadows2012 | +12 |
LookParametersToneCurvePV2012 | 0, 0, 64, 60, 128, 128, 192, 196, 255, 255 |
LookParametersVersion | 13.3 |
LookSupportsAmount | false |
LookSupportsMonochrome | false |
LookSupportsOutputReferred | false |
LuminanceAdjustmentAqua | 0 |
LuminanceAdjustmentBlue | 0 |
LuminanceAdjustmentGreen | 0 |
LuminanceAdjustmentMagenta | 0 |
LuminanceAdjustmentOrange | 0 |
LuminanceAdjustmentPurple | 0 |
LuminanceAdjustmentRed | 0 |
LuminanceAdjustmentYellow | 0 |
LuminanceNoiseReductionContrast | 0 |
LuminanceNoiseReductionDetail | 50 |
LuminanceSmoothing | 23 |
Make | NIKON CORPORATION |
Marked | True |
MaxApertureValue | 2.8 |
Megapixels | 2.4 |
MeteringMode | Center-weighted average |
Model | NIKON D750 |
ModifyDate (1) | 2021:09:21 15:40:07+02:00 |
ModifyDate | 2021:09:21 15:40:07 |
OverrideLookVignette | False |
PaintCorrectionActive | true |
PaintCorrectionAmount | 1.000000 |
PaintCorrectionBrightness | 0.000000 |
PaintCorrectionClarity2012 (2) | 0.121518 |
PaintCorrectionClarity2012 | 0.000000 |
PaintCorrectionContrast2012 | 0.000000 |
PaintCorrectionCorrectionRangeMaskDepthMax | 1.000000 |
PaintCorrectionCorrectionRangeMaskDepthMin | 0.000000 |
PaintCorrectionCorrectionRangeMaskLumFeather | 0.500000 |
PaintCorrectionCorrectionRangeMaskLumMax | 1.000000 |
PaintCorrectionCorrectionRangeMaskLumMin | 0.000000 |
PaintCorrectionCorrectionRangeMaskType | 0 |
PaintCorrectionCorrectionRangeMaskVersion | +2 |
PaintCorrectionDefringe | 0.000000 |
PaintCorrectionExposure2012 (1) | -0.192183 |
PaintCorrectionExposure2012 (2) | 0.079519 |
PaintCorrectionExposure2012 (3) | 0.055908 |
PaintCorrectionExposure2012 (4) | 0.007405 |
PaintCorrectionExposure2012 (5) | -0.019851 |
PaintCorrectionExposure2012 (6) | 0.000000 |
PaintCorrectionExposure2012 | -0.015848 |
PaintCorrectionHighlights2012 (4) | -0.388407 |
PaintCorrectionHighlights2012 | 0.000000 |
PaintCorrectionHue | 240.000000 |
PaintCorrectionLocalBlacks2012 (1) | -0.156253 |
PaintCorrectionLocalBlacks2012 (6) | -0.034100 |
PaintCorrectionLocalBlacks2012 | 0.000000 |
PaintCorrectionLocalDehaze | 0.000000 |
PaintCorrectionLocalHue | 0.000000 |
PaintCorrectionLocalTexture | 0.000000 |
PaintCorrectionLocalWhites2012 (2) | 0.186617 |
PaintCorrectionLocalWhites2012 (3) | 0.000000 |
PaintCorrectionLocalWhites2012 (5) | 0.298935 |
PaintCorrectionLocalWhites2012 | 0.371167 |
PaintCorrectionLuminanceNoise | 0.000000 |
PaintCorrectionMaskCenterWeight (11) | 0.025662 |
PaintCorrectionMaskCenterWeight (18) | 0.000303 |
PaintCorrectionMaskCenterWeight | 0.000000 |
PaintCorrectionMaskFlow (20) | 0.646588 |
PaintCorrectionMaskFlow (6) | 0.599906 |
PaintCorrectionMaskFlow | 1.000000 |
PaintCorrectionMaskRadius (10) | 0.021660 |
PaintCorrectionMaskRadius (15) | 0.032424 |
PaintCorrectionMaskRadius (17) | 0.023136 |
PaintCorrectionMaskRadius (18) | 0.012056 |
PaintCorrectionMaskRadius (19) | 0.040541 |
PaintCorrectionMaskRadius (2) | 0.037953 |
PaintCorrectionMaskRadius (21) | 0.006728 |
PaintCorrectionMaskRadius (23) | 0.005601 |
PaintCorrectionMaskRadius (29) | 0.001296 |
PaintCorrectionMaskRadius (31) | 0.007875 |
PaintCorrectionMaskRadius (37) | 0.059196 |
PaintCorrectionMaskRadius (38) | 0.059782 |
PaintCorrectionMaskRadius (39) | 0.028999 |
PaintCorrectionMaskRadius (4) | 0.011287 |
PaintCorrectionMaskRadius (40) | 0.029087 |
PaintCorrectionMaskRadius (41) | 0.029190 |
PaintCorrectionMaskRadius (42) | 0.028777 |
PaintCorrectionMaskRadius (43) | 0.029203 |
PaintCorrectionMaskRadius (44) | 0.029220 |
PaintCorrectionMaskRadius (45) | 0.029294 |
PaintCorrectionMaskRadius (46) | 0.029277 |
PaintCorrectionMaskRadius (52) | 0.023154 |
PaintCorrectionMaskRadius (54) | 0.040572 |
PaintCorrectionMaskRadius (56) | 0.034662 |
PaintCorrectionMaskRadius (58) | 0.052707 |
PaintCorrectionMaskRadius (59) | 0.017558 |
PaintCorrectionMaskRadius (6) | 0.049305 |
PaintCorrectionMaskRadius (60) | 0.034752 |
PaintCorrectionMaskRadius (61) | 0.006052 |
PaintCorrectionMaskRadius (62) | 0.006054 |
PaintCorrectionMaskRadius (63) | 0.006047 |
PaintCorrectionMaskRadius (64) | 0.006045 |
PaintCorrectionMaskRadius (65) | 0.006056 |
PaintCorrectionMaskRadius (66) | 0.006059 |
PaintCorrectionMaskRadius (67) | 0.006062 |
PaintCorrectionMaskRadius (68) | 0.005872 |
PaintCorrectionMaskRadius (69) | 0.005907 |
PaintCorrectionMaskRadius (70) | 0.005923 |
PaintCorrectionMaskRadius (71) | 0.064447 |
PaintCorrectionMaskRadius (72) | 0.062443 |
PaintCorrectionMaskRadius (73) | 0.063436 |
PaintCorrectionMaskRadius (74) | 0.065533 |
PaintCorrectionMaskRadius (75) | 0.048206 |
PaintCorrectionMaskRadius (76) | 0.042846 |
PaintCorrectionMaskRadius (77) | 0.040517 |
PaintCorrectionMaskRadius | 0.042026 |
PaintCorrectionMaskValue (16) | 0.000000 |
PaintCorrectionMaskValue | 0.604296 |
PaintCorrectionMaskWhat | Mask/Paint |
PaintCorrectionMoire | 0.000000 |
PaintCorrectionSaturation (1) | -0.550421 |
PaintCorrectionSaturation | 0.000000 |
PaintCorrectionShadows2012 | 0.000000 |
PaintCorrectionSharpness | 0.000000 |
PaintCorrectionTemperature (1) | -0.267673 |
PaintCorrectionTemperature | 0.000000 |
PaintCorrectionTint (1) | -0.647554 |
PaintCorrectionTint | 0.000000 |
PaintCorrectionWhat | Correction |
ParametricDarks | 0 |
ParametricHighlights | 0 |
ParametricHighlightSplit | 75 |
ParametricLights | 0 |
ParametricMidtoneSplit | 50 |
ParametricShadows | 0 |
ParametricShadowSplit | 25 |
PerspectiveAspect | 0 |
PerspectiveHorizontal | 0 |
PerspectiveRotate | 0.0 |
PerspectiveScale | 100 |
PerspectiveUpright | 0 |
PerspectiveVertical | 0 |
PerspectiveX | 0.00 |
PerspectiveY | 0.00 |
PostCropVignetteAmount | -5 |
PostCropVignetteFeather | 50 |
PostCropVignetteHighlightContrast | 0 |
PostCropVignetteMidpoint | 50 |
PostCropVignetteRoundness | 0 |
PostCropVignetteStyle | 1 |
PreservedFileName | _D757952.NEF |
ProcessVersion | 11.0 |
ProfileDescription | sRGB IEC61966-2.1 |
Rating | 5 |
RawFileName | |
RedHue | 0 |
RedSaturation | 0 |
Rights | © Hans Jørgen Lindeløff 2021 |
Saturation (1) | -5 |
Saturation | Normal |
SaturationAdjustmentAqua | 0 |
SaturationAdjustmentBlue | 0 |
SaturationAdjustmentGreen | 0 |
SaturationAdjustmentMagenta | 0 |
SaturationAdjustmentOrange | 0 |
SaturationAdjustmentPurple | 0 |
SaturationAdjustmentRed | 0 |
SaturationAdjustmentYellow | 0 |
ScaleFactor35efl | 1.0 |
SceneCaptureType | Landscape |
SceneType | Directly photographed |
SensingMethod | One-chip color area |
SensitivityType | Recommended Exposure Index |
SerialNumber | 6128653 |
Shadows2012 | +40 |
ShadowTint | 0 |
SharpenDetail | 25 |
SharpenEdgeMasking | 57 |
SharpenRadius | +1.0 |
Sharpness (1) | 58 |
Sharpness | Normal |
ShutterSpeed | 1/250 |
ShutterSpeedValue | 1/250 |
SplitToningBalance | 0 |
SplitToningHighlightHue | 0 |
SplitToningHighlightSaturation | 0 |
SplitToningShadowHue | 0 |
SplitToningShadowSaturation | 0 |
Subject | Hardangervidda, Haugastøl, høst |
SubjectDistanceRange | Unknown |
Texture | 0 |
Tint | +10 |
ToneCurveName2012 | Custom |
ToneCurvePV2012 | 0, 0, 38, 36, 129, 145, 255, 255 |
ToneCurvePV2012Blue | 0, 0, 255, 255 |
ToneCurvePV2012Green | 0, 0, 255, 255 |
ToneCurvePV2012Red | 0, 0, 255, 255 |
Transformation | Spherical |
UsageTerms | All rights reserved |
Version | 13.3 |
Vibrance | +15 |
VignetteAmount | 0 |
VignetteCorrectionAlreadyApplied | True |
VirtualFocalLength | 0.424158 |
VirtualImageXCenter | 0.452366 |
VirtualImageYCenter | 0.289661 |
WhiteBalance (1) | Cloudy |
WhiteBalance | Auto |
Whites2012 | +16 |