Felt | Verdi |
AlreadyApplied | True |
Aperture | 5.0 |
ApertureValue | 5.0 |
ApproximateFocusDistance | 2147483647 |
Artist | J.Tangerud |
AutoLateralCA | 0 |
BitsPerSample | 8 |
Blacks2012 | -54 |
BlueHue | 0 |
BlueSaturation | 0 |
By-line | J.Tangerud |
CameraProfile | Adobe Standard |
CircGradBasedCorrActive | True |
CircGradBasedCorrAmount | 1.000000 |
CircGradBasedCorrBrightness | 0.000000 |
CircGradBasedCorrClarity2012 | 0.348669 |
CircGradBasedCorrContrast2012 (1) | 0.000000 |
CircGradBasedCorrContrast2012 | 0.149836 |
CircGradBasedCorrDefringe | 0.000000 |
CircGradBasedCorrExposure2012 (1) | 0.275318 |
CircGradBasedCorrExposure2012 (2) | 0.050685 |
CircGradBasedCorrExposure2012 | 0.189477 |
CircGradBasedCorrHighlights2012 | -1.000000 |
CircGradBasedCorrHue | 233.214996 |
CircGradBasedCorrLuminanceNoise | 0.000000 |
CircGradBasedCorrMaskAngle (1) | 34.945000 |
CircGradBasedCorrMaskAngle | -40.337700 |
CircGradBasedCorrMaskBottom (1) | 1.263050 |
CircGradBasedCorrMaskBottom (2) | 0.161065 |
CircGradBasedCorrMaskBottom | 0.746801 |
CircGradBasedCorrMaskFeather (2) | +83 |
CircGradBasedCorrMaskFeather | +90 |
CircGradBasedCorrMaskFlipped | True |
CircGradBasedCorrMaskLeft (1) | 1.062410 |
CircGradBasedCorrMaskLeft (2) | 0.171582 |
CircGradBasedCorrMaskLeft | 0.424002 |
CircGradBasedCorrMaskMidpoint | +50 |
CircGradBasedCorrMaskRight (1) | 0.493302 |
CircGradBasedCorrMaskRight (2) | 0.503044 |
CircGradBasedCorrMaskRight | 0.966964 |
CircGradBasedCorrMaskRoundness | 0 |
CircGradBasedCorrMaskTop (1) | -1.267160 |
CircGradBasedCorrMaskTop (2) | 0.276769 |
CircGradBasedCorrMaskTop | 1.042540 |
CircGradBasedCorrMaskValue | 1.000000 |
CircGradBasedCorrMaskVersion | +2 |
CircGradBasedCorrMaskWhat | Mask/CircularGradient |
CircGradBasedCorrMoire | 0.000000 |
CircGradBasedCorrSaturation (1) | -0.113567 |
CircGradBasedCorrSaturation | 0.000000 |
CircGradBasedCorrShadows2012 | 0.000000 |
CircGradBasedCorrSharpness | 0.000000 |
CircGradBasedCorrTemperature (1) | 0.400945 |
CircGradBasedCorrTemperature (2) | 0.196181 |
CircGradBasedCorrTemperature | 0.199122 |
CircGradBasedCorrTint | 0.000000 |
CircGradBasedCorrWhat | Correction |
CircleOfConfusion | 0.030 mm |
Clarity2012 | 0 |
ColorComponents | 3 |
ColorNoiseReduction | 35 |
ColorNoiseReductionDetail | 50 |
ColorNoiseReductionSmoothness | 50 |
ColorSpace | sRGB |
ColorTemperature | 6350 |
Contrast2012 | +10 |
Copyright | @Norsewings |
CopyrightNotice | @Norsewings |
CreateDate (1) | 2021:10:10 10:31:48.00+02:00 |
CreateDate | 2021:10:10 10:31:48 |
Creator | J.Tangerud |
CreatorTool | Adobe Photoshop Lightroom Classic 10.4 (Windows) |
CropAngle | 0 |
CropBottom | 0.930569 |
CropConstrainToWarp | 0 |
CropLeft | 0 |
CropRight | 1 |
CropTop | 0.122877 |
CustomRendered | Normal |
DateCreated (1) | 2021:10:10 |
DateCreated | 2021:10:10 10:31:48.00+02:00 |
DateTimeOriginal | 2021:10:10 10:31:48 |
DefringeGreenAmount | 0 |
DefringeGreenHueHi | 60 |
DefringeGreenHueLo | 40 |
DefringePurpleAmount | 0 |
DefringePurpleHueHi | 70 |
DefringePurpleHueLo | 30 |
Dehaze | -25 |
DOF | inf (151.30 m - inf) |
Exposure2012 | -0.60 |
ExposureCompensation | 0 |
ExposureMode | Auto |
ExposureProgram | Program AE |
ExposureTime | 1/125 |
Firmware | 1.2.1 |
Flash | Off, Did not fire |
FlashCompensation | 0 |
FNumber | 5.0 |
FocalLength | 150.0 mm |
FocalLength35efl | 150.0 mm (35 mm equivalent: 151.5 mm) |
Format | image/jpeg |
FOV | 13.5 deg |
GrainAmount | 0 |
GreenHue | +25 |
GreenSaturation | 0 |
HasCrop | True |
HasSettings | True |
Highlights2012 | -100 |
HueAdjustmentAqua | 0 |
HueAdjustmentBlue | 0 |
HueAdjustmentGreen | +10 |
HueAdjustmentMagenta | 0 |
HueAdjustmentOrange | -23 |
HueAdjustmentPurple | 0 |
HueAdjustmentRed | 0 |
HueAdjustmentYellow | +35 |
HyperfocalDistance | 151.30 m |
ImageHeight | 3886 |
ImageNumber | 0 |
ImageSize | 6987x3886 |
ImageWidth | 6987 |
ISO | 100 |
Lens | TAMRON SP 150-600mm F/5-6.3 Di VC USD G2 A022 |
LensID (1) | 747 |
LensID | Tamron SP 150-600mm f/5-6.3 Di VC USD G2 |
LensInfo | 150-600mm f/? |
LensManualDistortionAmount | 0 |
LensModel | TAMRON SP 150-600mm F/5-6.3 Di VC USD G2 A022 |
LensProfileEnable | 0 |
LensSerialNumber | 0000000000 |
LightValue | 11.6 |
LuminanceAdjustmentAqua | 0 |
LuminanceAdjustmentBlue | 0 |
LuminanceAdjustmentGreen | -18 |
LuminanceAdjustmentMagenta | 0 |
LuminanceAdjustmentOrange | +36 |
LuminanceAdjustmentPurple | 0 |
LuminanceAdjustmentRed | 0 |
LuminanceAdjustmentYellow | 0 |
LuminanceNoiseReductionContrast | 0 |
LuminanceNoiseReductionDetail | 50 |
LuminanceSmoothing | 15 |
Make | Canon |
MaxApertureValue | 5.0 |
Megapixels | 27.2 |
MeteringMode | Multi-segment |
Model | Canon EOS 5D Mark IV |
ModifyDate (1) | 2021:10:10 16:40:32+02:00 |
ModifyDate | 2021:10:10 16:40:32 |
OwnerName | J. Tangerud |
ParametricDarks | 0 |
ParametricHighlights | 0 |
ParametricHighlightSplit | 75 |
ParametricLights | 0 |
ParametricMidtoneSplit | 50 |
ParametricShadows | 0 |
ParametricShadowSplit | 25 |
PerspectiveAspect | 0 |
PerspectiveHorizontal | 0 |
PerspectiveRotate | 0.0 |
PerspectiveScale | 100 |
PerspectiveUpright | 0 |
PerspectiveVertical | 0 |
PerspectiveX | 0.00 |
PerspectiveY | 0.00 |
PostCropVignetteAmount | 0 |
PreservedFileName | 4K6A6070.CR2 |
ProcessVersion | 11.0 |
ProfileDescription | sRGB IEC61966-2.1 |
Rating | 5 |
RawFileName | 4K6A6070.CR2 |
RecommendedExposureIndex | 100 |
RedHue | -50 |
RedSaturation | 0 |
Rights | @Norsewings |
Saturation | Normal |
SaturationAdjustmentAqua | 0 |
SaturationAdjustmentBlue | 0 |
SaturationAdjustmentGreen | -50 |
SaturationAdjustmentMagenta | 0 |
SaturationAdjustmentOrange | -20 |
SaturationAdjustmentPurple | 0 |
SaturationAdjustmentRed | 0 |
SaturationAdjustmentYellow | -15 |
ScaleFactor35efl | 1.0 |
SceneCaptureType | Standard |
SensitivityType | Recommended Exposure Index |
SerialNumber | 151056001646 |
Shadows2012 | -18 |
ShadowTint | -24 |
SharpenDetail | 25 |
SharpenEdgeMasking | 66 |
SharpenRadius | +1.2 |
Sharpness | Hard |
ShutterSpeed | 1/125 |
ShutterSpeedValue | 1/125 |
Software | Adobe Photoshop Lightroom Classic 10.4 (Windows) |
SplitToningBalance | 0 |
SplitToningHighlightHue | 37 |
SplitToningHighlightSaturation | 22 |
SplitToningShadowHue | 215 |
SplitToningShadowSaturation | 12 |
Tint | +11 |
ToneCurveName2012 | Custom |
ToneCurvePV2012 | 0, 52, 36, 55, 91, 87, 135, 131, 202, 201, 255, 251 |
ToneCurvePV2012Blue | 0, 0, 25, 8, 87, 83, 149, 170, 200, 220, 255, 255 |
ToneCurvePV2012Green | 0, 0, 28, 12, 63, 38, 92, 82, 146, 163, 183, 204, 255, 255 |
ToneCurvePV2012Red | 0, 0, 38, 8, 71, 43, 98, 88, 144, 166, 197, 220, 255, 255 |
Version | 13.3 |
Vibrance | 0 |
VignetteAmount | 0 |
WhiteBalance | Auto |
Whites2012 | +24 |