Felt | Verdi |
AlreadyApplied | True |
Aperture | 1.8 |
ApertureValue | 1.8 |
Artist | Hans Jørgen Lindeløff |
AutoLateralCA | 1 |
BitsPerSample | 8 |
Blacks2012 | +1 |
BlueHue | 0 |
BlueSaturation | 0 |
BrightnessValue | 3.495050722 |
By-line | Hans Jørgen Lindeløff |
CameraProfile | Embedded |
CircleOfConfusion | 0.004 mm |
City | Isfjorden |
Clarity2012 | 0 |
ColorComponents | 3 |
ColorGradeBlending | 50 |
ColorGradeGlobalHue | 0 |
ColorGradeGlobalLum | 0 |
ColorGradeGlobalSat | 0 |
ColorGradeHighlightLum | 0 |
ColorGradeMidtoneHue | 0 |
ColorGradeMidtoneLum | 0 |
ColorGradeMidtoneSat | 0 |
ColorGradeShadowLum | 0 |
ColorNoiseReduction | 12 |
ColorNoiseReductionDetail | 50 |
ColorNoiseReductionSmoothness | 50 |
ColorSpace | sRGB |
ColorTransform | YCbCr |
Contrast2012 | 0 |
ConvertToGrayscale | False |
Copyright | © Hans Jørgen Lindeløff 2020 |
CopyrightFlag | True |
CopyrightNotice | © Hans Jørgen Lindeløff 2020 |
Country | Norway |
Country-PrimaryLocationCode | NO |
Country-PrimaryLocationName | Norway |
CountryCode | NO |
CreateDate (1) | 2020:07:15 04:01:25.1+02:00 |
CreateDate | 2020:07:15 04:01:25 |
Creator | Hans Jørgen Lindeløff |
CreatorAddress | Bjørnevågveien 8 |
CreatorCity | Kråkerøy |
CreatorCountry | Norway |
CreatorPostalCode | 1676 |
CreatorTool | Adobe Photoshop Lightroom Classic 11.0.1 (Macintosh) |
CreatorWorkEmail | lundeli@mac.com |
CreatorWorkTelephone | +47 92049534 |
CreatorWorkURL | lundeliphoto.no |
CropAngle | 0 |
CropBottom | 1 |
CropConstrainToWarp | 0 |
CropLeft | 0 |
CropRight | 1 |
CropTop | 0 |
DateCreated (1) | 2018:01:02 |
DateCreated | 2018:01:02 14:49:07.571 |
DateTimeOriginal | 2020:07:15 04:01:25 |
DefringeGreenAmount | 0 |
DefringeGreenHueHi | 60 |
DefringeGreenHueLo | 40 |
DefringePurpleAmount | 0 |
DefringePurpleHueHi | 70 |
DefringePurpleHueLo | 30 |
Dehaze | 0 |
DistortionCorrectionAlreadyApplied | True |
Exposure2012 | -0.30 |
ExposureCompensation | -8/3 |
ExposureMode | Auto |
ExposureProgram | Program AE |
ExposureTime | 1/140 |
Flash | Off, Did not fire |
FNumber | 1.8 |
FocalLength | 4.0 mm |
FocalLength35efl | 4.0 mm (35 mm equivalent: 28.0 mm) |
FocalLengthIn35mmFormat | 28 mm |
Format | image/jpeg |
FOV | 65.5 deg |
GPSAltitude | 773.1 m |
GPSDOP | 8.001208277 |
GPSHPositioningError | 8.001208277 m |
GPSImgDirection | 321.3316953 |
GPSImgDirectionRef | True North |
GPSLatitude (1) | 62 deg 30' 14.72" |
GPSLatitude | 62 deg 30' 14.72" N |
GPSLatitudeRef | North |
GPSLongitude (1) | 7 deg 47' 35.56" |
GPSLongitude | 7 deg 47' 35.56" E |
GPSLongitudeRef | East |
GPSPosition | 62 deg 30' 14.72" N, 7 deg 47' 35.56" E |
GPSSpeed | 0.3071881681 |
GPSSpeedRef | km/h |
GPSVersionID | 2.2.0.0 |
GrainAmount | 0 |
GreenHue | 0 |
GreenSaturation | 0 |
HasCrop | False |
HasSettings | True |
Highlights2012 | -19 |
HueAdjustmentAqua | 0 |
HueAdjustmentBlue | 0 |
HueAdjustmentGreen | 0 |
HueAdjustmentMagenta | 0 |
HueAdjustmentOrange | 0 |
HueAdjustmentPurple | 0 |
HueAdjustmentRed | 0 |
HueAdjustmentYellow | 0 |
HyperfocalDistance | 2.07 m |
ImageHeight | 1165 |
ImageSize | 2048x1165 |
ImageWidth | 2048 |
IncrementalTemperature | -1 |
IncrementalTint | 0 |
IsMergedHDR | True |
IsMergedPanorama | True |
ISO | 20 |
Keywords | romsdalen |
LateralChromaticAberrationCorrectionAlreadyApplied | True |
Lens | iPhone X back camera 4mm f/1.8 |
LensInfo | 4mm f/1.8 |
LensMake | Apple |
LensManualDistortionAmount | 0 |
LensModel | iPhone X back camera 4mm f/1.8 |
LensProfileDistortionScale | 100 |
LensProfileEnable | 1 |
LensProfileFilename | Apple iPhone (Apple iPhone X back camera 4mm f1.8).lcp |
LensProfileIsEmbedded | False |
LensProfileName | Adobe (Apple iPhone X back dual camera 4mm f/1.8) |
LensProfileSetup | LensDefaults |
LensProfileVignettingScale | 100 |
LightValue | 11.1 |
LuminanceAdjustmentAqua | 0 |
LuminanceAdjustmentBlue | 0 |
LuminanceAdjustmentGreen | 0 |
LuminanceAdjustmentMagenta | 0 |
LuminanceAdjustmentOrange | 0 |
LuminanceAdjustmentPurple | 0 |
LuminanceAdjustmentRed | 0 |
LuminanceAdjustmentYellow | 0 |
LuminanceNoiseReductionContrast | 0 |
LuminanceNoiseReductionDetail | 50 |
LuminanceSmoothing | 9 |
Make | Apple |
Marked | True |
Megapixels | 2.4 |
MeteringMode | Multi-segment |
Model | iPhone X |
ModifyDate (1) | 2021:12:08 03:28:38+01:00 |
ModifyDate | 2021:12:08 03:28:38 |
OverrideLookVignette | False |
ParametricDarks | 0 |
ParametricHighlights | 0 |
ParametricHighlightSplit | 75 |
ParametricLights | 0 |
ParametricMidtoneSplit | 50 |
ParametricShadows | 0 |
ParametricShadowSplit | 25 |
PerspectiveAspect | 0 |
PerspectiveHorizontal | 0 |
PerspectiveRotate | 0.0 |
PerspectiveScale | 100 |
PerspectiveUpright | 0 |
PerspectiveVertical | 0 |
PerspectiveX | 0.00 |
PerspectiveY | 0.00 |
PostCropVignetteAmount | 0 |
PreservedFileName | APC_5926-hdr-2.dng |
ProcessVersion | 11.0 |
ProfileDescription | sRGB IEC61966-2.1 |
Province-State | Møre og Romsdal |
Rating | 5 |
RawFileName | |
RedHue | 0 |
RedSaturation | 0 |
Rights | © Hans Jørgen Lindeløff 2020 |
Saturation | -10 |
SaturationAdjustmentAqua | 0 |
SaturationAdjustmentBlue | 0 |
SaturationAdjustmentGreen | 0 |
SaturationAdjustmentMagenta | 0 |
SaturationAdjustmentOrange | 0 |
SaturationAdjustmentPurple | 0 |
SaturationAdjustmentRed | 0 |
SaturationAdjustmentYellow | 0 |
ScaleFactor35efl | 7.0 |
SceneType | Directly photographed |
SensingMethod | One-chip color area |
Shadows2012 | +37 |
ShadowTint | 0 |
SharpenDetail | 25 |
SharpenEdgeMasking | 42 |
SharpenRadius | +1.0 |
Sharpness | 59 |
ShutterSpeed | 1/140 |
ShutterSpeedValue | 1/140 |
Software | Adobe Photoshop Lightroom Classic 11.0.1 (Macintosh) |
SplitToningBalance | 0 |
SplitToningHighlightHue | 0 |
SplitToningHighlightSaturation | 0 |
SplitToningShadowHue | 0 |
SplitToningShadowSaturation | 0 |
State | Møre og Romsdal |
Subject | romsdalen |
SubjectArea | 2015 1511 2217 1330 |
Texture | 0 |
ToneCurveName2012 | Linear |
ToneCurvePV2012 | 0, 0, 255, 255 |
ToneCurvePV2012Blue | 0, 0, 255, 255 |
ToneCurvePV2012Green | 0, 0, 255, 255 |
ToneCurvePV2012Red | 0, 0, 255, 255 |
Transformation | Spherical |
UsageTerms | All rights reserved |
Version | 14.0 |
Vibrance | 0 |
VignetteAmount | 0 |
VirtualFocalLength | 0.50069 |
VirtualImageXCenter | 0.433191 |
VirtualImageYCenter | 0.281102 |
WeightedFlatSubject | romsdalen |
WhiteBalance (1) | Custom |
WhiteBalance | Auto |
Whites2012 | +3 |