Felt | Verdi |
AlreadyApplied | True |
Aperture | 13.0 |
ApertureValue | 13.0 |
Artist | Hans Jørgen Lindeløff |
AutoLateralCA | 1 |
BitsPerSample | 8 |
Blacks2012 | -22 |
BlueHue | 0 |
BlueSaturation | 0 |
By-line | Hans Jørgen Lindeløff |
CameraProfile | Adobe Standard |
CFAPattern | [Red,Green][Green,Blue] |
CircleOfConfusion | 0.030 mm |
Clarity2012 | +9 |
ColorComponents | 3 |
ColorGradeBlending | 50 |
ColorGradeGlobalHue | 0 |
ColorGradeGlobalLum | 0 |
ColorGradeGlobalSat | 0 |
ColorGradeHighlightLum | 0 |
ColorGradeMidtoneHue | 0 |
ColorGradeMidtoneLum | 0 |
ColorGradeMidtoneSat | 0 |
ColorGradeShadowLum | 0 |
ColorNoiseReduction | 25 |
ColorNoiseReductionDetail | 50 |
ColorNoiseReductionSmoothness | 50 |
ColorSpace | sRGB |
ColorTemperature | 7712 |
ColorTransform | YCbCr |
CompatibleVersion | 234881024 |
Contrast | Normal |
Contrast2012 | +4 |
Copyright | © Hans Jørgen Lindeløff 2022 |
CopyrightFlag | True |
CopyrightNotice | © Hans Jørgen Lindeløff 2022 |
Country | Norway |
Country-PrimaryLocationCode | NO |
Country-PrimaryLocationName | Norway |
CountryCode | NO |
CreateDate (1) | 2022:03:09 18:19:08.81+01:00 |
CreateDate | 2022:03:09 18:19:08 |
Creator | Hans Jørgen Lindeløff |
CreatorAddress | Bjørnevågveien 8 |
CreatorCity | Kråkerøy |
CreatorCountry | Norway |
CreatorPostalCode | 1676 |
CreatorTool | Adobe Photoshop Lightroom Classic 11.2 (Macintosh) |
CreatorWorkEmail | lundeli@mac.com |
CreatorWorkTelephone | +47 92049534 |
CreatorWorkURL | lundeliphoto.no |
CropAngle | 0 |
CropBottom | 1 |
CropConstrainToWarp | 0 |
CropLeft | 0 |
CropRight | 1 |
CropTop | 0.154572 |
CustomRendered | Custom |
DateCreated (1) | 2018:01:02 |
DateCreated | 2018:01:02 14:49:07.571 |
DateTimeOriginal | 2022:03:09 18:19:08 |
DefringeGreenAmount | 0 |
DefringeGreenHueHi | 60 |
DefringeGreenHueLo | 40 |
DefringePurpleAmount | 0 |
DefringePurpleHueHi | 70 |
DefringePurpleHueLo | 30 |
Dehaze | 0 |
DistortionCorrectionAlreadyApplied | True |
Exposure2012 | -0.20 |
ExposureCompensation | 0 |
ExposureMode | Manual |
ExposureProgram | Manual |
ExposureTime | 2 |
Flash | No Flash |
FNumber | 13.0 |
FocalLength | 24.0 mm |
FocalLength35efl | 24.0 mm (35 mm equivalent: 24.0 mm) |
FocalLengthIn35mmFormat | 24 mm |
Format | image/jpeg |
FOV | 73.7 deg |
GainControl | None |
GPSAltitude (1) | 5 m |
GPSAltitude | 5 m Above Sea Level |
GPSAltitudeRef | Above Sea Level |
GPSDateStamp | 2022:03:09 |
GPSDateTime | 2022:03:09 17:18:01.29Z |
GPSLatitude (1) | 59 deg 2' 15.35" |
GPSLatitude | 59 deg 2' 15.35" N |
GPSLatitudeRef | North |
GPSLongitude (1) | 10 deg 56' 54.20" |
GPSLongitude | 10 deg 56' 54.20" E |
GPSLongitudeRef | East |
GPSMapDatum | WGS-84 |
GPSPosition | 59 deg 2' 15.35" N, 10 deg 56' 54.20" E |
GPSSatellites | 00 |
GPSTimeStamp | 17:18:01.29 |
GPSVersionID | 2.3.0.0 |
GrainAmount | 0 |
GreenHue | 0 |
GreenSaturation | 0 |
HasCrop | True |
HasSettings | True |
Highlights2012 | -45 |
HueAdjustmentAqua | 0 |
HueAdjustmentBlue | 0 |
HueAdjustmentGreen | 0 |
HueAdjustmentMagenta | 0 |
HueAdjustmentOrange | 0 |
HueAdjustmentPurple | 0 |
HueAdjustmentRed | 0 |
HueAdjustmentYellow | 0 |
HyperfocalDistance | 1.47 m |
ImageHeight | 1152 |
ImageNumber | 136 |
ImageSize | 2048x1152 |
ImageWidth | 2048 |
ISO | 64 |
Keywords | Asmaløy, Hvaler, Vikerhavn, blåtimen, salt |
LateralChromaticAberrationCorrectionAlreadyApplied | True |
Lens | NIKKOR Z 24-70mm f/4 S |
LensInfo | 24-70mm f/4 |
LensMake | NIKON |
LensManualDistortionAmount | 0 |
LensModel | NIKKOR Z 24-70mm f/4 S |
LensProfileEnable | 1 |
LensProfileSetup | LensDefaults |
LensSerialNumber | 20305630 |
LightSource | Unknown |
LightValue | 7.0 |
LookAmount | 1 |
LookGroup | Profiles |
LookName | Adobe Landscape |
LookParametersCameraProfile | Adobe Standard |
LookParametersClarity2012 | +10 |
LookParametersConvertToGrayscale | False |
LookParametersHighlights2012 | -12 |
LookParametersLookTable | 0B3BFB5CFB7DBF7FF175E98F24D316B0 |
LookParametersProcessVersion | 11.0 |
LookParametersShadows2012 | +12 |
LookParametersToneCurvePV2012 | 0, 0, 64, 60, 128, 128, 192, 196, 255, 255 |
LookParametersVersion | 14.2 |
LookSupportsAmount | false |
LookSupportsMonochrome | false |
LookSupportsOutputReferred | false |
LuminanceAdjustmentAqua | 0 |
LuminanceAdjustmentBlue | 0 |
LuminanceAdjustmentGreen | 0 |
LuminanceAdjustmentMagenta | 0 |
LuminanceAdjustmentOrange | 0 |
LuminanceAdjustmentPurple | 0 |
LuminanceAdjustmentRed | 0 |
LuminanceAdjustmentYellow | 0 |
LuminanceNoiseReductionContrast | 0 |
LuminanceNoiseReductionDetail | 50 |
LuminanceSmoothing | 25 |
Make | NIKON CORPORATION |
Marked | True |
Megapixels | 2.4 |
MeteringMode | Multi-segment |
Model | NIKON Z 6_2 |
ModifyDate (1) | 2022:03:09 21:58:00+01:00 |
ModifyDate | 2022:03:09 21:58:00 |
OverrideLookVignette | False |
ParametricDarks | 0 |
ParametricHighlights | 0 |
ParametricHighlightSplit | 75 |
ParametricLights | 0 |
ParametricMidtoneSplit | 50 |
ParametricShadows | 0 |
ParametricShadowSplit | 25 |
PerspectiveAspect | 0 |
PerspectiveHorizontal | 0 |
PerspectiveRotate | 0.0 |
PerspectiveScale | 100 |
PerspectiveUpright | 0 |
PerspectiveVertical | 0 |
PerspectiveX | 0.00 |
PerspectiveY | 0.00 |
PostCropVignetteAmount | -10 |
PostCropVignetteFeather | 50 |
PostCropVignetteHighlightContrast | 0 |
PostCropVignetteMidpoint | 50 |
PostCropVignetteRoundness | 0 |
PostCropVignetteStyle | 1 |
PreservedFileName | _Z620136.NEF |
ProcessVersion | 11.0 |
ProfileDescription | sRGB IEC61966-2.1 |
Province-State | Viken |
Rating | 5 |
RawFileName | _Z620136.NEF |
RedHue | 0 |
RedSaturation | 0 |
Rights | © Hans Jørgen Lindeløff 2022 |
Saturation (1) | +5 |
Saturation | Normal |
SaturationAdjustmentAqua | 0 |
SaturationAdjustmentBlue | 0 |
SaturationAdjustmentGreen | 0 |
SaturationAdjustmentMagenta | 0 |
SaturationAdjustmentOrange | 0 |
SaturationAdjustmentPurple | 0 |
SaturationAdjustmentRed | 0 |
SaturationAdjustmentYellow | 0 |
ScaleFactor35efl | 1.0 |
SceneCaptureType | Landscape |
SceneType | Directly photographed |
SensingMethod | One-chip color area |
SensitivityType | Recommended Exposure Index |
SerialNumber | 6044707 |
Shadows2012 | +47 |
ShadowTint | 0 |
SharpenDetail | 25 |
SharpenEdgeMasking | 59 |
SharpenRadius | +1.0 |
Sharpness (1) | 61 |
Sharpness | Normal |
ShutterSpeed | 2 |
ShutterSpeedValue | 2 |
Software | Adobe Photoshop Lightroom Classic 11.2 (Macintosh) |
SplitToningBalance | 0 |
SplitToningHighlightHue | 0 |
SplitToningHighlightSaturation | 0 |
SplitToningShadowHue | 0 |
SplitToningShadowSaturation | 0 |
State | Viken |
Subject | Asmaløy, Hvaler, Vikerhavn, blåtimen, salt |
SubjectDistanceRange | Unknown |
Texture | 0 |
Tint | +10 |
ToneCurveName2012 | Custom |
ToneCurvePV2012 | 0, 0, 61, 58, 185, 195, 255, 255 |
ToneCurvePV2012Blue | 0, 0, 255, 255 |
ToneCurvePV2012Green | 0, 0, 255, 255 |
ToneCurvePV2012Red | 0, 0, 255, 255 |
UsageTerms | All rights reserved |
Version | 14.2 |
Vibrance | +15 |
VignetteAmount | 0 |
VignetteCorrectionAlreadyApplied | True |
WeightedFlatSubject | Hvaler, Asmaløy, Vikerhavn, salt, blåtimen |
WhiteBalance (1) | Custom |
WhiteBalance | Manual |
Whites2012 | +42 |