Felt | Verdi |
AlreadyApplied | True |
Aperture | 9.5 |
ApertureValue | 9.5 |
ApproximateFocusDistance | 2.66 |
Artist | Ulf Robert Stromme |
AutoLateralCA | 0 |
BitsPerSample | 8 |
Blacks2012 | +52 |
BlueHue | 0 |
BlueSaturation | 0 |
By-line | Ulf Robert Stromme |
CameraProfile | Adobe Standard |
CFAPattern | [Red,Green][Green,Blue] |
CircleOfConfusion | 0.030 mm |
Clarity2012 | +19 |
ColorComponents | 3 |
ColorGradeBlending | 50 |
ColorGradeGlobalHue | 0 |
ColorGradeGlobalLum | 0 |
ColorGradeGlobalSat | 0 |
ColorGradeHighlightLum | 0 |
ColorGradeMidtoneHue | 0 |
ColorGradeMidtoneLum | 0 |
ColorGradeMidtoneSat | 0 |
ColorGradeShadowLum | 0 |
ColorMode | RGB |
ColorNoiseReduction | 25 |
ColorNoiseReductionDetail | 50 |
ColorNoiseReductionSmoothness | 50 |
ColorSpace | Uncalibrated |
ColorTemperature | 5900 |
ColorTransform | YCbCr |
Contrast | Normal |
Contrast2012 | -43 |
ConvertToGrayscale | False |
Copyright | Ulf Robert Stromme |
CopyrightNotice | Ulf Robert Stromme |
CreateDate | 2017:08:08 08:25:30 |
Creator | Ulf Robert Stromme |
CreatorTool | Ver.1.10 |
CustomRendered | Normal |
DateCreated (1) | 2017:08:08 |
DateCreated | 2017:08:08 08:25:30.008 |
DateTimeOriginal | 2017:08:08 08:25:30 |
DefringeGreenAmount | 0 |
DefringeGreenHueHi | 60 |
DefringeGreenHueLo | 40 |
DefringePurpleAmount | 0 |
DefringePurpleHueHi | 70 |
DefringePurpleHueLo | 30 |
Dehaze | +17 |
DigitalZoomRatio | 1 |
DOF | 62.37 m (1.36 - 63.73 m) |
ExifImageHeight | 4912 |
ExifImageWidth | 7360 |
Exposure2012 | -1.00 |
ExposureCompensation | -1 |
ExposureMode | Auto |
ExposureProgram | Program AE |
ExposureTime | 1/350 |
Flash | Off, Did not fire |
FNumber | 9.5 |
FocalLength | 28.0 mm |
FocalLength35efl | 28.0 mm (35 mm equivalent: 28.0 mm) |
FocalLengthIn35mmFormat | 28 mm |
Format | image/jpeg |
FOV | 65.5 deg |
GainControl | None |
GrainAmount | 0 |
GreenHue | 0 |
GreenSaturation | 0 |
HasCrop | False |
HasSettings | True |
Highlights2012 | +100 |
HueAdjustmentAqua | 0 |
HueAdjustmentBlue | 0 |
HueAdjustmentGreen | 0 |
HueAdjustmentMagenta | 0 |
HueAdjustmentOrange | 0 |
HueAdjustmentPurple | 0 |
HueAdjustmentRed | 0 |
HueAdjustmentYellow | 0 |
HyperfocalDistance | 2.75 m |
ICCProfileName | Adobe RGB (1998) |
ImageHeight | 4912 |
ImageNumber | 12808 |
ImageSize | 7360x4912 |
ImageWidth | 7360 |
ISO | 100 |
Lens | 28.0-300.0 mm f/3.5-5.6 |
LensID (1) | 165 |
LensID | AF-S Nikkor 28-300mm f/3.5-5.6G ED VR |
LensInfo | 28-300mm f/3.5-5.6 |
LensManualDistortionAmount | 0 |
LensProfileEnable | 0 |
LightSource | Fine Weather |
LightValue | 14.9 |
LuminanceAdjustmentAqua | 0 |
LuminanceAdjustmentBlue | 0 |
LuminanceAdjustmentGreen | 0 |
LuminanceAdjustmentMagenta | 0 |
LuminanceAdjustmentOrange | 0 |
LuminanceAdjustmentPurple | 0 |
LuminanceAdjustmentRed | 0 |
LuminanceAdjustmentYellow | 0 |
LuminanceSmoothing | 0 |
Make | NIKON CORPORATION |
MaxApertureValue | 3.5 |
Megapixels | 36.2 |
MeteringMode | Multi-segment |
Model | NIKON D800 |
ModifyDate (1) | 2022:04:30 13:16:53+02:00 |
ModifyDate | 2022:04:30 13:16:53 |
Orientation | Horizontal (normal) |
OverrideLookVignette | False |
ParametricDarks | 0 |
ParametricHighlights | 0 |
ParametricHighlightSplit | 75 |
ParametricLights | 0 |
ParametricMidtoneSplit | 50 |
ParametricShadows | 0 |
ParametricShadowSplit | 25 |
PerspectiveAspect | 0 |
PerspectiveHorizontal | 0 |
PerspectiveRotate | 0.0 |
PerspectiveScale | 100 |
PerspectiveUpright | 0 |
PerspectiveVertical | 0 |
PerspectiveX | 0.00 |
PerspectiveY | 0.00 |
PostCropVignetteAmount | 0 |
ProcessVersion | 11.0 |
ProfileDescription | Adobe RGB (1998) |
Rating | 0 |
RedHue | 0 |
RedSaturation | 0 |
Rights | Ulf Robert Stromme |
Saturation (1) | +4 |
Saturation | Normal |
SaturationAdjustmentAqua | 0 |
SaturationAdjustmentBlue | 0 |
SaturationAdjustmentGreen | 0 |
SaturationAdjustmentMagenta | 0 |
SaturationAdjustmentOrange | 0 |
SaturationAdjustmentPurple | 0 |
SaturationAdjustmentRed | 0 |
SaturationAdjustmentYellow | 0 |
ScaleFactor35efl | 1.0 |
SceneCaptureType | Standard |
SceneType | Directly photographed |
SensingMethod | One-chip color area |
SensitivityType | Recommended Exposure Index |
SerialNumber | 6086450 |
Shadows2012 | +33 |
ShadowTint | 0 |
SharpenDetail | 45 |
SharpenEdgeMasking | 45 |
SharpenRadius | +1.6 |
Sharpness (1) | 83 |
Sharpness | Hard |
ShutterSpeed | 1/350 |
ShutterSpeedValue | 1/350 |
Software | Adobe Photoshop 23.3 (Macintosh) |
SplitToningBalance | 0 |
SplitToningHighlightHue | 0 |
SplitToningHighlightSaturation | 0 |
SplitToningShadowHue | 0 |
SplitToningShadowSaturation | 0 |
SubjectDistanceRange | Unknown |
Texture | +15 |
Tint | -21 |
ToneCurveName2012 | Linear |
ToneCurvePV2012 | 0, 0, 255, 255 |
ToneCurvePV2012Blue | 0, 0, 255, 255 |
ToneCurvePV2012Green | 0, 0, 255, 255 |
ToneCurvePV2012Red | 0, 0, 255, 255 |
URL_List | |
Version | 14.3 |
Vibrance | +51 |
VignetteAmount | 0 |
WhiteBalance (1) | Custom |
WhiteBalance | Manual |
Whites2012 | +39 |