Felt | Verdi |
AlreadyApplied | True |
Aperture | 1.8 |
ApertureValue | 1.8 |
AutoLateralCA | 0 |
BitsPerSample | 8 |
Blacks2012 | -14 |
BlueHue | 0 |
BlueSaturation | 0 |
BrightnessValue | 7.975429538 |
CameraProfile | Embedded |
CircleOfConfusion | 0.009 mm |
Clarity2012 | +14 |
ColorComponents | 3 |
ColorGradeBlending | 50 |
ColorGradeGlobalHue | 0 |
ColorGradeGlobalLum | 0 |
ColorGradeGlobalSat | 0 |
ColorGradeHighlightLum | 0 |
ColorGradeMidtoneHue | 0 |
ColorGradeMidtoneLum | 0 |
ColorGradeMidtoneSat | 0 |
ColorGradeShadowLum | 0 |
ColorMode | RGB |
ColorNoiseReduction | 0 |
ColorSpace | Uncalibrated |
ColorTransform | YCbCr |
Contrast2012 | -7 |
ConvertToGrayscale | False |
CreateDate | 2022:10:26 13:52:32 |
CreatorTool | 16.0.3 |
DateCreated (1) | 2022:10:26 |
DateCreated | 2022:10:26 13:52:32 |
DateTimeOriginal | 2022:10:26 13:52:32 |
DefringeGreenAmount | 0 |
DefringeGreenHueHi | 60 |
DefringeGreenHueLo | 40 |
DefringePurpleAmount | 0 |
DefringePurpleHueHi | 70 |
DefringePurpleHueLo | 30 |
Dehaze | +40 |
ExifImageHeight | 5418 |
ExifImageWidth | 6048 |
Exposure2012 | -0.10 |
ExposureCompensation | +0.335 |
ExposureMode | Auto |
ExposureProgram | Program AE |
ExposureTime | 1/670 |
Flash | Off, Did not fire |
FNumber | 1.8 |
FocalLength | 6.9 mm |
FocalLength35efl | 6.9 mm (35 mm equivalent: 24.0 mm) |
FocalLengthIn35mmFormat | 24 mm |
Format | image/jpeg |
FOV | 73.7 deg |
GPSAltitude (1) | 248.8050691 m |
GPSAltitude | 248.8 m Above Sea Level |
GPSAltitudeRef | Above Sea Level |
GPSDestBearing | 96.75272367 |
GPSDestBearingRef | Magnetic North |
GPSImgDirection | 96.75272367 |
GPSImgDirectionRef | Magnetic North |
GPSLatitude (1) | 59 deg 49' 35.95" |
GPSLatitude | 59 deg 49' 35.95" N |
GPSLatitudeRef | North |
GPSLongitude (1) | 11 deg 44' 26.27" |
GPSLongitude | 11 deg 44' 26.27" E |
GPSLongitudeRef | East |
GPSPosition | 59 deg 49' 35.95" N, 11 deg 44' 26.27" E |
GPSSpeed | 0 |
GPSSpeedRef | km/h |
GrainAmount | 0 |
GreenHue | 0 |
GreenSaturation | 0 |
HasCrop | False |
HasSettings | True |
Highlights2012 | +7 |
HueAdjustmentAqua | 0 |
HueAdjustmentBlue | 0 |
HueAdjustmentGreen | 0 |
HueAdjustmentMagenta | 0 |
HueAdjustmentOrange | 0 |
HueAdjustmentPurple | 0 |
HueAdjustmentRed | 0 |
HueAdjustmentYellow | 0 |
HyperfocalDistance | 3.04 m |
ICCProfileName | Display P3 |
ImageHeight | 5418 |
ImageSize | 6048x5418 |
ImageWidth | 6048 |
IncrementalTemperature | 0 |
IncrementalTint | 0 |
ISO | 80 |
Lens | iPhone 14 Pro Max back triple camera 6.86mm f/1.78 |
LensInfo (1) | 2.22000002861193-9mm f/1.77999997138807-2.8 |
LensInfo | 2.220000029-9mm f/1.779999971-2.8 |
LensMake | Apple |
LensManualDistortionAmount | 0 |
LensModel | iPhone 14 Pro Max back triple camera 6.86mm f/1.78 |
LensProfileEnable | 0 |
LightValue | 11.4 |
LuminanceAdjustmentAqua | 0 |
LuminanceAdjustmentBlue | 0 |
LuminanceAdjustmentGreen | 0 |
LuminanceAdjustmentMagenta | 0 |
LuminanceAdjustmentOrange | 0 |
LuminanceAdjustmentPurple | 0 |
LuminanceAdjustmentRed | 0 |
LuminanceAdjustmentYellow | 0 |
LuminanceSmoothing | 0 |
Make | Apple |
Megapixels | 32.8 |
MeteringMode | Multi-segment |
Model | iPhone 14 Pro Max |
ModifyDate (1) | 2022:10:26 14:28:44+02:00 |
ModifyDate | 2022:10:26 14:28:44 |
Orientation | Horizontal (normal) |
OverrideLookVignette | False |
ParametricDarks | 0 |
ParametricHighlights | 0 |
ParametricHighlightSplit | 75 |
ParametricLights | 0 |
ParametricMidtoneSplit | 50 |
ParametricShadows | 0 |
ParametricShadowSplit | 25 |
PerspectiveAspect | 0 |
PerspectiveHorizontal | 0 |
PerspectiveRotate | 0.0 |
PerspectiveScale | 100 |
PerspectiveUpright | 0 |
PerspectiveVertical | 0 |
PerspectiveX | 0.00 |
PerspectiveY | 0.00 |
PostCropVignetteAmount | 0 |
ProcessVersion | 11.0 |
ProfileDescription | Display P3 |
Rating | 0 |
RedHue | 0 |
RedSaturation | 0 |
Saturation | 0 |
SaturationAdjustmentAqua | 0 |
SaturationAdjustmentBlue | 0 |
SaturationAdjustmentGreen | 0 |
SaturationAdjustmentMagenta | 0 |
SaturationAdjustmentOrange | 0 |
SaturationAdjustmentPurple | 0 |
SaturationAdjustmentRed | 0 |
SaturationAdjustmentYellow | 0 |
ScaleFactor35efl | 3.5 |
SceneCaptureType | Standard |
SceneType | Directly photographed |
SensingMethod | One-chip color area |
Shadows2012 | -58 |
ShadowTint | 0 |
Sharpness | 0 |
ShutterSpeed | 1/670 |
ShutterSpeedValue | 1/670 |
Software | Adobe Photoshop 24.0 (Macintosh) |
SplitToningBalance | 0 |
SplitToningHighlightHue | 0 |
SplitToningHighlightSaturation | 0 |
SplitToningShadowHue | 0 |
SplitToningShadowSaturation | 0 |
SubjectArea | 4023 3017 4646 2661 |
Texture | -56 |
ToneCurveName2012 | Linear |
ToneCurvePV2012 | 0, 0, 255, 255 |
ToneCurvePV2012Blue | 0, 0, 255, 255 |
ToneCurvePV2012Green | 0, 0, 255, 255 |
ToneCurvePV2012Red | 0, 0, 255, 255 |
URL_List | |
Version | 15.0 |
Vibrance | 0 |
VignetteAmount | 0 |
WhiteBalance (1) | As Shot |
WhiteBalance | Auto |
Whites2012 | +26 |