Felt | Verdi |
AlreadyApplied | True |
AutoLateralCA | 0 |
BitsPerSample (1) | 16, 16, 16 |
BitsPerSample | 16 16 16 |
Blacks2012 | -47 |
BlueHue | 0 |
BlueSaturation | 0 |
CameraProfile | Embedded |
ChromaticityChannel1 | 0.7347 0.2653 |
ChromaticityChannel2 | 0.15961 0.84039 |
ChromaticityChannel3 | 0.03661 0.00011 |
ChromaticityChannels | 3 |
ChromaticityColorant | Unknown (0) |
Clarity2012 | +53 |
ColorGradeBlending | 50 |
ColorGradeGlobalHue | 0 |
ColorGradeGlobalLum | 0 |
ColorGradeGlobalSat | 0 |
ColorGradeHighlightLum | 0 |
ColorGradeMidtoneHue | 0 |
ColorGradeMidtoneLum | 0 |
ColorGradeMidtoneSat | 0 |
ColorGradeShadowLum | 0 |
ColorMode | RGB |
ColorNoiseReduction | 0 |
ColorSpace | Uncalibrated |
Contrast2012 | 0 |
ConvertToGrayscale | False |
CreateDate | 2022:11:23 23:20:23+01:00 |
CreatorTool | Adobe Photoshop Lightroom Classic 11.3.1 (Macintosh) |
CropAngle | 0 |
CropBottom | 0.85246 |
CropConstrainToWarp | 0 |
CropLeft | 0.143815 |
CropRight | 0.99794 |
CropTop | 0.218573 |
DefringeGreenAmount | 0 |
DefringeGreenHueHi | 60 |
DefringeGreenHueLo | 40 |
DefringePurpleAmount | 0 |
DefringePurpleHueHi | 70 |
DefringePurpleHueLo | 30 |
Dehaze | 0 |
ExifImageHeight | 1002 |
ExifImageWidth | 942 |
Exposure2012 | 0.00 |
Format | image/tiff |
GrainAmount | 0 |
GreenHue | 0 |
GreenSaturation | 0 |
HasCrop | True |
HasSettings | True |
Highlights2012 | 0 |
HueAdjustmentAqua | 0 |
HueAdjustmentBlue | 0 |
HueAdjustmentGreen | 0 |
HueAdjustmentMagenta | 0 |
HueAdjustmentOrange | 0 |
HueAdjustmentPurple | 0 |
HueAdjustmentRed | 0 |
HueAdjustmentYellow | 0 |
ICCProfileName | ProPhoto |
ImageHeight (1) | 3367 |
ImageHeight | 1002 |
ImageSize | 942x1002 |
ImageWidth (1) | 3130 |
ImageWidth | 942 |
IncrementalTemperature | 0 |
IncrementalTint | 0 |
LayerBlendModes | Normal, Normal |
LayerCount | 2 |
LayerModifyDates | 2022:12:17 15:09:56+01:00, 2022:12:17 15:09:56+01:00 |
LayerNames | Bakgrunn, God Jul...? |
LayerOpacities | 100%, 100% |
LayerRectangles | 0 0 1002 942, 868 162 910 297 |
LayerUnicodeNames | Bakgrunn, God Jul...? |
LensManualDistortionAmount | 0 |
LensProfileEnable | 0 |
LuminanceAdjustmentAqua | 0 |
LuminanceAdjustmentBlue | 0 |
LuminanceAdjustmentGreen | 0 |
LuminanceAdjustmentMagenta | 0 |
LuminanceAdjustmentOrange | -96 |
LuminanceAdjustmentPurple | 0 |
LuminanceAdjustmentRed | +87 |
LuminanceAdjustmentYellow | 0 |
LuminanceSmoothing | 0 |
Megapixels | 0.944 |
ModifyDate (1) | 2022:12:17 15:09:54+01:00 |
ModifyDate | 2022:12:17 15:09:54 |
Orientation | Horizontal (normal) |
OverrideLookVignette | False |
ParametricDarks | 0 |
ParametricHighlights | 0 |
ParametricHighlightSplit | 75 |
ParametricLights | 0 |
ParametricMidtoneSplit | 50 |
ParametricShadows | 0 |
ParametricShadowSplit | 25 |
PerspectiveAspect | 0 |
PerspectiveHorizontal | 0 |
PerspectiveRotate | 0.0 |
PerspectiveScale | 100 |
PerspectiveUpright | 0 |
PerspectiveVertical | 0 |
PerspectiveX | 0.00 |
PerspectiveY | 0.00 |
PhotometricInterpretation | RGB |
PlanarConfiguration | Chunky |
PostCropVignetteAmount | 0 |
PreservedFileName | IMG_6874 2.jpg |
ProcessVersion | 11.0 |
ProfileDescription | ProPhoto |
RawFileName | |
RedHue | 0 |
RedSaturation | 0 |
RowsPerStrip | 1002 |
SamplesPerPixel | 3 |
Saturation | +33 |
SaturationAdjustmentAqua | 0 |
SaturationAdjustmentBlue | 0 |
SaturationAdjustmentGreen | 0 |
SaturationAdjustmentMagenta | 0 |
SaturationAdjustmentOrange | 0 |
SaturationAdjustmentPurple | 0 |
SaturationAdjustmentRed | -1 |
SaturationAdjustmentYellow | 0 |
Shadows2012 | 0 |
ShadowTint | 0 |
Sharpness | 0 |
Software | Adobe Photoshop 23.4 (Macintosh) |
SplitToningBalance | 0 |
SplitToningHighlightHue | 0 |
SplitToningHighlightSaturation | 0 |
SplitToningShadowHue | 0 |
SplitToningShadowSaturation | 0 |
StripByteCounts | 5663304 |
StripOffsets | 30972 |
SubfileType | Full-resolution Image |
Texture | 0 |
This work is licensed under the Creative Commons Attribution-Share Alike 3.0 United States License. To view a copy of this license, visit http://creativecommons.org/licenses/by-sa/3.0/us/ or send a letter to Creative Commons, 171 Second Street, Suite 300, San Francisco, California, 94105, USA. |
ToneCurveName2012 | Linear |
ToneCurvePV2012 | 0, 0, 255, 255 |
ToneCurvePV2012Blue | 0, 0, 255, 255 |
ToneCurvePV2012Green | 0, 0, 255, 255 |
ToneCurvePV2012Red | 0, 0, 255, 255 |
URL_List | |
Version | 14.3 |
Vibrance | +53 |
VignetteAmount | 0 |
WhiteBalance | As Shot |
Whites2012 | 0 |