Felt | Verdi |
AlreadyApplied | True |
Aperture | 20.0 |
ApertureValue | 20.0 |
ApproximateFocusDistance | 4294967295 |
AutoLateralCA | 0 |
BitsPerSample (1) | 8 8 8 |
BitsPerSample (4) | 16, 16, 16 |
BitsPerSample | 16 16 16 |
Blacks2012 | -66 |
BlueHue | 0 |
BlueSaturation | 0 |
CameraProfile | Embedded |
ChromaticityChannel1 | 0.7347 0.2653 |
ChromaticityChannel2 | 0.15961 0.84039 |
ChromaticityChannel3 | 0.03661 0.00011 |
ChromaticityChannels | 3 |
ChromaticityColorant | Unknown (0) |
Clarity2012 | +1 |
ColorGradeBlending | 50 |
ColorGradeGlobalHue | 0 |
ColorGradeGlobalLum | 0 |
ColorGradeGlobalSat | 0 |
ColorGradeHighlightLum | 0 |
ColorGradeMidtoneHue | 0 |
ColorGradeMidtoneLum | 0 |
ColorGradeMidtoneSat | 0 |
ColorGradeShadowLum | 0 |
ColorMode | RGB |
ColorNoiseReduction | 0 |
ColorSpace | Uncalibrated |
Contrast2012 | 0 |
ConvertToGrayscale | True |
CreateDate | 2013:02:11 18:41:04 |
CreatorTool | Adobe Photoshop Lightroom Classic 11.3.1 (Macintosh) |
CropAngle | 0 |
CropBottom | 1 |
CropConstrainToWarp | 0 |
CropLeft | 0 |
CropRight | 1 |
CropTop | 0 |
CustomRendered | Normal |
DateCreated (1) | 2013:02:11 18:41:04.028 |
DateCreated | 2013:02:11 |
DateTimeOriginal | 2013:02:11 18:41:04 |
Dehaze | 0 |
ExifImageHeight | 592 |
ExifImageWidth | 1252 |
Exposure2012 | +0.05 |
ExposureCompensation | 0 |
ExposureMode | Auto |
ExposureProgram | Aperture-priority AE |
ExposureTime | 13 |
Firmware | 1.0.6 |
Flash | Off, Did not fire |
FlashCompensation | 0 |
FlashFired | False |
FlashFunction | False |
FlashMode | Off |
FlashRedEyeMode | False |
FlashReturn | No return detection |
FNumber | 20.0 |
FocalLength | 17.0 mm |
FocalLength35efl | 17.0 mm |
Format | image/tiff |
GrainAmount | 0 |
GrayMixerAqua | 0 |
GrayMixerBlue | 0 |
GrayMixerGreen | 0 |
GrayMixerMagenta | 0 |
GrayMixerOrange | 0 |
GrayMixerPurple | 0 |
GrayMixerRed | 0 |
GrayMixerYellow | 0 |
GreenHue | 0 |
GreenSaturation | 0 |
HasCrop | False |
HasSettings | True |
Highlights2012 | -34 |
ICCProfileName | ProPhoto |
ImageHeight (1) | 296 |
ImageHeight (2) | 148 |
ImageHeight (3) | 74 |
ImageHeight (4) | 2392 |
ImageHeight | 592 |
ImageNumber | 0 |
ImageSize | 1252x592 |
ImageWidth (1) | 626 |
ImageWidth (2) | 313 |
ImageWidth (3) | 157 |
ImageWidth (4) | 5029 |
ImageWidth | 1252 |
IncrementalTemperature | 0 |
IncrementalTint | 0 |
ISO | 400 |
Label | Purple |
LayerBlendModes | Normal, Normal |
LayerCount | 2 |
LayerModifyDates | 2023:01:10 02:10:11+01:00, 2023:01:10 02:10:11+01:00 |
LayerNames | Bakgrunn, VIGGO STRAND K |
LayerOpacities | 100%, 100% |
LayerRectangles | 0 0 592 1252, 618 557 627 659 |
LayerUnicodeNames | Bakgrunn, VIGGO STRAND K |
Lens | 12-24mm |
LensID (1) | 137 |
LensID | Sigma 12-24mm f/4.5-5.6 DG HSM II |
LensInfo (1) | 12 |
LensInfo (2) | 12-24mm f/? |
LensInfo | 12-24mm f/0 |
LensManualDistortionAmount | 0 |
LensModel | 12-24mm |
LensProfileEnable | 0 |
LightValue | 2.9 |
LuminanceSmoothing | 0 |
Make | Canon |
MaxApertureValue | 4.6 |
Megapixels | 0.741 |
MeteringMode | Center-weighted average |
Model | Canon EOS 5D Mark II |
ModifyDate (1) | 2023:01:10 02:10:08+01:00 |
ModifyDate | 2023:01:10 02:10:08 |
Orientation | Horizontal (normal) |
OverrideLookVignette | False |
ParametricDarks | 0 |
ParametricHighlights | 0 |
ParametricHighlightSplit | 75 |
ParametricLights | 0 |
ParametricMidtoneSplit | 50 |
ParametricShadows | 0 |
ParametricShadowSplit | 25 |
PerspectiveAspect | 0 |
PerspectiveHorizontal | 0 |
PerspectiveRotate | 0.0 |
PerspectiveScale | 100 |
PerspectiveUpright | 0 |
PerspectiveVertical | 0 |
PerspectiveX | 0.00 |
PerspectiveY | 0.00 |
PhotometricInterpretation | RGB |
PlanarConfiguration | Chunky |
PostCropVignetteAmount | 0 |
PreservedFileName | untitled-7294.JPG |
ProcessVersion | 11.0 |
ProfileDescription | ProPhoto |
Rating | 5 |
RawFileName | |
RedHue | 0 |
RedSaturation | 0 |
RowsPerStrip (1) | 296 |
RowsPerStrip (2) | 148 |
RowsPerStrip (3) | 74 |
RowsPerStrip | 592 |
SamplesPerPixel | 3 |
SceneCaptureType | Standard |
SerialNumber | 130101597 |
Shadows2012 | 0 |
ShadowTint | 0 |
Sharpness | 0 |
ShutterSpeed | 13 |
ShutterSpeedValue | 13 |
Software | Adobe Photoshop 23.4 (Macintosh) |
SplitToningBalance | 0 |
SplitToningHighlightHue | 0 |
SplitToningHighlightSaturation | 0 |
SplitToningShadowHue | 0 |
SplitToningShadowSaturation | 0 |
StripByteCounts (1) | 4447104 |
StripByteCounts (2) | 555888 |
StripByteCounts (3) | 138972 |
StripByteCounts | 34854 |
StripOffsets (1) | 47486 |
StripOffsets (2) | 8918836 |
StripOffsets (3) | 9474932 |
StripOffsets | 9614112 |
SubfileType (1) | Full-resolution Image |
SubfileType | Reduced-resolution image |
Texture | 0 |
This work is licensed under the Creative Commons Attribution-Share Alike 3.0 United States License. To view a copy of this license, visit http://creativecommons.org/licenses/by-sa/3.0/us/ or send a letter to Creative Commons, 171 Second Street, Suite 300, San Francisco, California, 94105, USA. |
ToneCurveName2012 | Linear |
ToneCurvePV2012 | 0, 0, 255, 255 |
ToneCurvePV2012Blue | 0, 0, 255, 255 |
ToneCurvePV2012Green | 0, 0, 255, 255 |
ToneCurvePV2012Red | 0, 0, 255, 255 |
URL_List | |
Version | 14.3 |
VignetteAmount | 0 |
WhiteBalance (2) | Auto |
WhiteBalance | As Shot |
Whites2012 | +40 |