Felt | Verdi |
AlreadyApplied | True |
Aperture | 11.0 |
ApertureValue | 11.0 |
Artist | Ulf Robet Stromme |
AutoLateralCA | 0 |
BitsPerSample (1) | 16, 16, 16 |
BitsPerSample | 16 16 16 |
Blacks2012 | +20 |
BlueHue | 0 |
BlueSaturation | 0 |
By-line | Ulf Robet Stromme |
CameraProfile | Adobe Standard |
CFAPattern | [Red,Green][Green,Blue] |
CircleOfConfusion | 0.030 mm |
Clarity2012 | -6 |
ColorGradeBlending | 50 |
ColorGradeGlobalHue | 0 |
ColorGradeGlobalLum | 0 |
ColorGradeGlobalSat | 0 |
ColorGradeHighlightLum | 0 |
ColorGradeMidtoneHue | 0 |
ColorGradeMidtoneLum | 0 |
ColorGradeMidtoneSat | 0 |
ColorGradeShadowLum | 0 |
ColorMode | RGB |
ColorNoiseReduction | 59 |
ColorNoiseReductionDetail | 50 |
ColorNoiseReductionSmoothness | 50 |
ColorSpace | Uncalibrated |
ColorTemperature | 4875 |
Contrast | Normal |
Contrast2012 | -12 |
ConvertToGrayscale | False |
CreateDate | 2015:05:29 21:17:14 |
Creator | Ulf Robet Stromme |
CreatorTool | Adobe Lightroom 6.2 (Macintosh) |
CropAngle | 0 |
CropBottom | 0.8773 |
CropConstrainToWarp | 0 |
CropLeft | 0.160305 |
CropRight | 0.966418 |
CropTop | 0.090159 |
CustomRendered | Normal |
DateCreated (1) | 2015:05:29 21:17:14.009 |
DateCreated | 2015:05:29 |
DateTimeOriginal | 2015:05:29 21:17:14 |
DefringeGreenAmount | 0 |
DefringeGreenHueHi | 60 |
DefringeGreenHueLo | 40 |
DefringePurpleAmount | 0 |
DefringePurpleHueHi | 70 |
DefringePurpleHueLo | 30 |
Dehaze | +16 |
DigitalZoomRatio | 1 |
ExifImageHeight | 5933 |
ExifImageWidth | 3866 |
Exposure2012 | -0.94 |
ExposureCompensation | +1/2 |
ExposureMode | Manual |
ExposureProgram | Manual |
ExposureTime | 1/250 |
Flash | On, Return not detected |
FlashFired | True |
FlashFunction | False |
FlashMode | On |
FlashRedEyeMode | False |
FlashReturn | Return not detected |
FNumber | 11.0 |
FocalLength | 35.0 mm |
FocalLength35efl | 35.0 mm (35 mm equivalent: 35.0 mm) |
FocalLengthIn35mmFormat | 35 mm |
Format | image/tiff |
FOV | 54.4 deg |
GainControl | None |
GrainAmount | 0 |
GreenHue | 0 |
GreenSaturation | 0 |
HasCrop | True |
HasSettings | True |
Highlights2012 | -17 |
HueAdjustmentAqua | 0 |
HueAdjustmentBlue | 0 |
HueAdjustmentGreen | +38 |
HueAdjustmentMagenta | +34 |
HueAdjustmentOrange | 0 |
HueAdjustmentPurple | 0 |
HueAdjustmentRed | 0 |
HueAdjustmentYellow | 0 |
HyperfocalDistance | 3.71 m |
ICCProfileName | ProPhoto RGB |
ImageHeight | 5933 |
ImageNumber | 9002 |
ImageSize | 3866x5933 |
ImageWidth | 3866 |
ISO | 50 |
Lens | Zeiss Distagon T* 2/35 ZF.2 |
LensInfo (1) | 35 |
LensInfo | 35mm f/2 |
LensManualDistortionAmount | 0 |
LensModel | Zeiss Distagon T* 2/35 ZF.2 |
LensProfileEnable | 0 |
LightSource | Unknown |
LightValue | 15.9 |
LuminanceAdjustmentAqua | +39 |
LuminanceAdjustmentBlue | 0 |
LuminanceAdjustmentGreen | -53 |
LuminanceAdjustmentMagenta | -6 |
LuminanceAdjustmentOrange | 0 |
LuminanceAdjustmentPurple | +7 |
LuminanceAdjustmentRed | 0 |
LuminanceAdjustmentYellow | 0 |
LuminanceNoiseReductionContrast | 59 |
LuminanceNoiseReductionDetail | 50 |
LuminanceSmoothing | 57 |
Make | NIKON CORPORATION |
MaxApertureValue | 2.0 |
Megapixels | 22.9 |
MeteringMode | Multi-segment |
Model | NIKON D800 |
ModifyDate (1) | 2023:02:22 11:27:32+01:00 |
ModifyDate | 2023:02:22 11:27:32 |
Orientation | Horizontal (normal) |
OverrideLookVignette | False |
ParametricDarks | 0 |
ParametricHighlights | 0 |
ParametricHighlightSplit | 75 |
ParametricLights | 0 |
ParametricMidtoneSplit | 50 |
ParametricShadows | 0 |
ParametricShadowSplit | 25 |
PerspectiveAspect | 0 |
PerspectiveHorizontal | 0 |
PerspectiveRotate | 0.0 |
PerspectiveScale | 100 |
PerspectiveUpright | 0 |
PerspectiveVertical | 0 |
PerspectiveX | 0.00 |
PerspectiveY | 0.00 |
PhotometricInterpretation | RGB |
PlanarConfiguration | Chunky |
PostCropVignetteAmount | +3 |
PostCropVignetteFeather | 50 |
PostCropVignetteMidpoint | 50 |
PostCropVignetteRoundness | 0 |
PostCropVignetteStyle | 1 |
ProcessVersion | 11.0 |
ProfileDescription | ProPhoto RGB |
RawFileName | _DSC8999.NEF |
RedHue | 0 |
RedSaturation | 0 |
RowsPerStrip | 45 |
SamplesPerPixel | 3 |
Saturation (2) | 0 |
Saturation | Normal |
SaturationAdjustmentAqua | 0 |
SaturationAdjustmentBlue | 0 |
SaturationAdjustmentGreen | +15 |
SaturationAdjustmentMagenta | +29 |
SaturationAdjustmentOrange | 0 |
SaturationAdjustmentPurple | 0 |
SaturationAdjustmentRed | 0 |
SaturationAdjustmentYellow | 0 |
ScaleFactor35efl | 1.0 |
SceneCaptureType | Standard |
SceneType | Directly photographed |
SensingMethod | One-chip color area |
SensitivityType (1) | 2 |
SensitivityType | Recommended Exposure Index |
SerialNumber | 6086450 |
Shadows2012 | +71 |
ShadowTint | 0 |
SharpenDetail | 56 |
SharpenEdgeMasking | 56 |
SharpenRadius | +2.1 |
Sharpness (2) | 100 |
Sharpness | Normal |
ShutterSpeed | 1/250 |
ShutterSpeedValue | 1/250 |
Software | Adobe Photoshop 24.1 (Macintosh) |
SplitToningBalance | 0 |
SplitToningHighlightHue | 0 |
SplitToningHighlightSaturation | 0 |
SplitToningShadowHue | 0 |
SplitToningShadowSaturation | 0 |
SubfileType | Full-resolution Image |
SubjectDistanceRange | Unknown |
Texture | +35 |
Tint | +26 |
ToneCurveName2012 | Linear |
ToneCurvePV2012 | 0, 0, 255, 255 |
ToneCurvePV2012Blue | 0, 0, 255, 255 |
ToneCurvePV2012Green | 0, 0, 255, 255 |
ToneCurvePV2012Red | 0, 0, 255, 255 |
URL_List | |
Version | 15.2 |
Vibrance | 0 |
VignetteAmount | 0 |
WhiteBalance (1) | Auto |
WhiteBalance | Custom |
Whites2012 | +7 |