Felt | Verdi |
AlreadyApplied | True |
Aperture | 16.0 |
ApertureValue | 16.0 |
ApproximateFocusDistance | 4294967295 |
Artist | Morten Eriksen |
AutoLateralCA | 1 |
BitsPerSample | 8 |
Blacks2012 | 0 |
BlueHue | 0 |
BlueSaturation | 0 |
By-line | Morten Eriksen
CameraProfile | Adobe Standard |
CircleOfConfusion | 0.030 mm |
Clarity2012 | 0 |
ColorComponents | 3 |
ColorGradeBlending | 50 |
ColorGradeGlobalHue | 0 |
ColorGradeGlobalLum | 0 |
ColorGradeGlobalSat | 0 |
ColorGradeHighlightLum | 0 |
ColorGradeMidtoneHue | 0 |
ColorGradeMidtoneLum | 0 |
ColorGradeMidtoneSat | 0 |
ColorGradeShadowLum | 0 |
ColorMode | RGB |
ColorNoiseReduction | 50 |
ColorNoiseReductionDetail | 50 |
ColorNoiseReductionSmoothness | 50 |
ColorSpace | Uncalibrated |
ColorTemperature | 5800 |
ColorTransform | YCbCr |
Contrast2012 | +61 |
Copyright | Morten Eriksen
CopyrightNotice | Morten Eriksen
CreateDate | 2023:04:30 06:23:02 |
Creator | Morten Eriksen
CustomRendered | Normal |
DateCreated (1) | 2023:04:30 |
DateCreated | 2023:04:30 06:23:02 |
DateTimeOriginal | 2023:04:30 06:23:02 |
DefringeGreenAmount | 0 |
DefringeGreenHueHi | 60 |
DefringeGreenHueLo | 40 |
DefringePurpleAmount | 0 |
DefringePurpleHueHi | 70 |
DefringePurpleHueLo | 30 |
Dehaze | +54 |
DistortionCorrectionAlreadyApplied | True |
DOF | inf (1.20 m - inf) |
ExifImageHeight | 5322 |
ExifImageWidth | 8080 |
Exposure2012 | +0.20 |
ExposureCompensation | 0 |
ExposureMode | Manual |
ExposureProgram | Manual |
ExposureTime | 1/60 |
Firmware | 1.8.1 |
Flash | No Flash |
FlashCompensation | 0 |
FNumber | 16.0 |
FocalLength | 24.0 mm |
FocalLength35efl | 24.0 mm (35 mm equivalent: 24.0 mm) |
Format | image/jpeg |
FOV | 73.8 deg |
GrainAmount | 0 |
GreenHue | 0 |
GreenSaturation | 0 |
HasCrop | False |
HasSettings | True |
Highlights2012 | -74 |
HueAdjustmentAqua | 0 |
HueAdjustmentBlue | 0 |
HueAdjustmentGreen | 0 |
HueAdjustmentMagenta | 0 |
HueAdjustmentOrange | 0 |
HueAdjustmentPurple | 0 |
HueAdjustmentRed | 0 |
HueAdjustmentYellow | 0 |
HyperfocalDistance | 1.20 m |
ICCProfileName | Adobe RGB (1998) |
ImageHeight | 5322 |
ImageNumber | 0 |
ImageSize | 8080x5322 |
ImageWidth | 8080 |
ISO | 160 |
LateralChromaticAberrationCorrectionAlreadyApplied | True |
Lens | RF24-70mm F2.8 L IS USM |
LensID (1) | 61182 |
LensID | Canon RF 24-70mm F2.8 L IS USM |
LensInfo | 24-70mm f/? |
LensManualDistortionAmount | 0 |
LensModel | RF24-70mm F2.8 L IS USM |
LensProfileDistortionScale | 100 |
LensProfileEnable | 1 |
LensProfileFilename | Canon (Canon RF 24-70mm F2.8 L IS USM) - RAW.lcp |
LensProfileIsEmbedded | False |
LensProfileName | Adobe (Canon RF 24-70mm F2.8 L IS USM) |
LensProfileSetup | LensDefaults |
LensProfileVignettingScale | 100 |
LensSerialNumber | 2124001793 |
LightValue | 13.2 |
LookAmount | 1 |
LookCopyright | © 2018 Adobe Systems, Inc. |
LookGroup | Profiles |
LookName | Adobe Color |
LookParametersCameraProfile | Adobe Standard |
LookParametersConvertToGrayscale | False |
LookParametersLookTable | E1095149FDB39D7A057BAB208837E2E1 |
LookParametersProcessVersion | 11.0 |
LookParametersToneCurvePV2012 | 0, 0, 22, 16, 40, 35, 127, 127, 224, 230, 240, 246, 255, 255 |
LookParametersToneCurvePV2012Blue | 0, 0, 255, 255 |
LookParametersToneCurvePV2012Green | 0, 0, 255, 255 |
LookParametersToneCurvePV2012Red | 0, 0, 255, 255 |
LookParametersVersion | 15.3 |
LookSupportsAmount | false |
LookSupportsMonochrome | false |
LookSupportsOutputReferred | false |
LuminanceAdjustmentAqua | 0 |
LuminanceAdjustmentBlue | 0 |
LuminanceAdjustmentGreen | 0 |
LuminanceAdjustmentMagenta | 0 |
LuminanceAdjustmentOrange | 0 |
LuminanceAdjustmentPurple | 0 |
LuminanceAdjustmentRed | 0 |
LuminanceAdjustmentYellow | 0 |
LuminanceNoiseReductionContrast | 0 |
LuminanceNoiseReductionDetail | 50 |
LuminanceSmoothing | 56 |
Make | Canon |
MaxApertureValue | 2.8 |
Megapixels | 43.0 |
MeteringMode | Multi-segment |
Model | Canon EOS R5 |
ModifyDate (1) | 2023:04:30 12:51:38+02:00 |
ModifyDate | 2023:04:30 12:51:38 |
Orientation | Horizontal (normal) |
OverrideLookVignette | False |
ParametricDarks | +13 |
ParametricHighlights | -3 |
ParametricHighlightSplit | 75 |
ParametricLights | -4 |
ParametricMidtoneSplit | 50 |
ParametricShadows | +18 |
ParametricShadowSplit | 25 |
PerspectiveAspect | 0 |
PerspectiveHorizontal | 0 |
PerspectiveRotate | 0.0 |
PerspectiveScale | 100 |
PerspectiveUpright | 0 |
PerspectiveVertical | 0 |
PerspectiveX | 0.00 |
PerspectiveY | 0.00 |
PostCropVignetteAmount | 0 |
ProcessVersion | 11.0 |
ProfileDescription | Adobe RGB (1998) |
Rating | 0 |
RecommendedExposureIndex | 160 |
RedHue | 0 |
RedSaturation | 0 |
Rights | Morten Eriksen
Saturation | 0 |
SaturationAdjustmentAqua | 0 |
SaturationAdjustmentBlue | 0 |
SaturationAdjustmentGreen | 0 |
SaturationAdjustmentMagenta | 0 |
SaturationAdjustmentOrange | 0 |
SaturationAdjustmentPurple | 0 |
SaturationAdjustmentRed | 0 |
SaturationAdjustmentYellow | 0 |
ScaleFactor35efl | 1.0 |
SceneCaptureType | Standard |
SensitivityType | Recommended Exposure Index |
SerialNumber | 243026000306 |
Shadows2012 | +85 |
ShadowTint | 0 |
SharpenDetail | 25 |
SharpenEdgeMasking | 0 |
SharpenRadius | +1.0 |
Sharpness | 40 |
ShutterSpeed | 1/60 |
ShutterSpeedValue | 1/60 |
Software | Adobe Photoshop 24.4 (Windows) |
SplitToningBalance | 0 |
SplitToningHighlightHue | 0 |
SplitToningHighlightSaturation | 0 |
SplitToningShadowHue | 0 |
SplitToningShadowSaturation | 0 |
Texture | 0 |
Tint | +7 |
ToneCurveName2012 | Linear |
ToneCurvePV2012 | 0, 0, 255, 255 |
ToneCurvePV2012Blue | 0, 0, 255, 255 |
ToneCurvePV2012Green | 0, 0, 255, 255 |
ToneCurvePV2012Red | 0, 0, 255, 255 |
URL_List | |
Version | 15.3 |
Vibrance | 0 |
VignetteAmount | 0 |
VignetteCorrectionAlreadyApplied | True |
WhiteBalance (1) | As Shot |
WhiteBalance | Auto |
Whites2012 | -18 |