Felt | Verdi |
AlreadyApplied | True |
Aperture | 1.8 |
ApertureValue | 1.8 |
AutoLateralCA | 0 |
BitDepth | 16 |
Blacks2012 | +9 |
BlueHue | 0 |
BlueSaturation | 0 |
BrightnessValue | 10.6597403609996 |
CameraProfile | Apple Embedded Color Profile |
CircleOfConfusion | 0.009 mm |
Clarity2012 | +13 |
ColorGradeBlending | 50 |
ColorGradeGlobalHue | 0 |
ColorGradeGlobalLum | 0 |
ColorGradeGlobalSat | 0 |
ColorGradeHighlightLum | 0 |
ColorGradeMidtoneHue | 0 |
ColorGradeMidtoneLum | 0 |
ColorGradeMidtoneSat | 0 |
ColorGradeShadowLum | 0 |
ColorMode | RGB |
ColorNoiseReduction | 25 |
ColorNoiseReductionDetail | 50 |
ColorNoiseReductionSmoothness | 50 |
ColorTemperature | 5150 |
ColorType | RGB |
Contrast2012 | +8 |
CreateDate | 2023:05:09 11:35:36 |
CreatorTool | 16.4.1 |
DateCreated | 2023:05:09 11:35:36.904+02:00 |
DateTimeOriginal | 2023:05:09 11:35:36 |
DefringeGreenAmount | 0 |
DefringeGreenHueHi | 60 |
DefringeGreenHueLo | 40 |
DefringePurpleAmount | 0 |
DefringePurpleHueHi | 70 |
DefringePurpleHueLo | 30 |
Dehaze | +12 |
ExifImageHeight | 8064 |
ExifImageWidth | 6048 |
Exposure2012 | +0.15 |
ExposureCompensation | +0.335 |
ExposureMode | Auto |
ExposureProgram | Program AE |
ExposureTime | 1/5500 |
Filter | Adaptive |
Flash | Off, Did not fire |
FlashFired | False |
FlashFunction | False |
FlashMode | Off |
FlashRedEyeMode | False |
FlashReturn | No return detection |
FNumber | 1.8 |
FocalLength | 6.9 mm |
FocalLength35efl | 6.9 mm (35 mm equivalent: 24.0 mm) |
FocalLengthIn35mmFormat | 24 mm |
Format | image/png |
FOV | 73.7 deg |
GPSAltitude (1) | 6.79687673053494 m |
GPSAltitude | 6.7 m Above Sea Level |
GPSAltitudeRef | Above Sea Level |
GPSDestBearing | 4.73669672173868 |
GPSDestBearingRef | True North |
GPSHPositioningError | 3.07996172045297 m |
GPSImgDirection | 4.73669672173868 |
GPSImgDirectionRef | True North |
GPSLatitude | 67 deg 18' 37.06" N |
GPSLatitudeRef | North |
GPSLongitude | 14 deg 26' 10.85" E |
GPSLongitudeRef | East |
GPSPosition | 67 deg 18' 37.06" N, 14 deg 26' 10.85" E |
GPSSpeed | 0.187527775786682 |
GPSSpeedRef | km/h |
GrainAmount | 0 |
GreenHue | 0 |
GreenSaturation | 0 |
HasCrop | False |
HasSettings | True |
Highlights2012 | -35 |
HueAdjustmentAqua | 0 |
HueAdjustmentBlue | 0 |
HueAdjustmentGreen | 0 |
HueAdjustmentMagenta | 0 |
HueAdjustmentOrange | 0 |
HueAdjustmentPurple | 0 |
HueAdjustmentRed | 0 |
HueAdjustmentYellow | 0 |
HyperfocalDistance | 3.04 m |
ImageHeight | 6838 |
ImageSize | 5386x6838 |
ImageWidth | 5386 |
Interlace | Noninterlaced |
ISO | 100 |
Lens | iPhone 14 Pro Max back triple camera 6.86mm f/1.78 |
LensInfo (1) | 2.22000002861193 |
LensInfo | 2.22000002861193-9mm f/1.77999997138807-2.8 |
LensMake | Apple |
LensManualDistortionAmount | 0 |
LensModel | iPhone 14 Pro Max back triple camera 6.86mm f/1.78 |
LensProfileEnable | 0 |
LightValue | 14.1 |
LookAmount | 1 |
LookCopyright | © 2021 Adobe Systems, Inc. |
LookGroup | Profiles |
LookName | Apple ProRaw |
LookParametersCameraProfile | Apple Embedded Color Profile |
LookParametersConvertToGrayscale | False |
LookParametersProcessVersion | 11.0 |
LookParametersProfileGainTableMap | 100 |
LookParametersVersion | 15.3 |
LookSupportsMonochrome | false |
LookSupportsOutputReferred | false |
LuminanceAdjustmentAqua | 0 |
LuminanceAdjustmentBlue | 0 |
LuminanceAdjustmentGreen | 0 |
LuminanceAdjustmentMagenta | 0 |
LuminanceAdjustmentOrange | 0 |
LuminanceAdjustmentPurple | 0 |
LuminanceAdjustmentRed | 0 |
LuminanceAdjustmentYellow | 0 |
LuminanceSmoothing | 0 |
Make | Apple |
Megapixels | 36.8 |
MeteringMode | Multi-segment |
Model | iPhone 14 Pro Max |
ModifyDate | 2023:05:13 11:47:22+02:00 |
OverrideLookVignette | False |
ParametricDarks | 0 |
ParametricHighlights | 0 |
ParametricHighlightSplit | 75 |
ParametricLights | 0 |
ParametricMidtoneSplit | 50 |
ParametricShadows | 0 |
ParametricShadowSplit | 25 |
PerspectiveAspect | 0 |
PerspectiveHorizontal | 0 |
PerspectiveRotate | 0.0 |
PerspectiveScale | 100 |
PerspectiveUpright | 0 |
PerspectiveVertical | 0 |
PerspectiveX | 0.00 |
PerspectiveY | 0.00 |
PixelsPerUnitX | 11811 |
PixelsPerUnitY | 11811 |
PixelUnits | meters |
PostCropVignetteAmount | 0 |
ProcessVersion | 11.0 |
RedHue | 0 |
RedSaturation | 0 |
Saturation | +12 |
SaturationAdjustmentAqua | 0 |
SaturationAdjustmentBlue | 0 |
SaturationAdjustmentGreen | 0 |
SaturationAdjustmentMagenta | 0 |
SaturationAdjustmentOrange | 0 |
SaturationAdjustmentPurple | 0 |
SaturationAdjustmentRed | 0 |
SaturationAdjustmentYellow | 0 |
ScaleFactor35efl | 3.5 |
SceneType | Directly photographed |
SensingMethod | One-chip color area |
Shadows2012 | +1 |
ShadowTint | 0 |
SharpenDetail | 25 |
SharpenEdgeMasking | 40 |
SharpenRadius | +1.4 |
Sharpness | 50 |
ShutterSpeed | 1/5500 |
ShutterSpeedValue | 1/5500 |
SplitToningBalance | 0 |
SplitToningHighlightHue | 0 |
SplitToningHighlightSaturation | 0 |
SplitToningShadowHue | 0 |
SplitToningShadowSaturation | 0 |
SubjectArea | 4018, 3011, 4418, 2649 |
Texture | +16 |
Tint | +4 |
ToneCurveName2012 | Linear |
ToneCurvePV2012 | 0, 0, 255, 255 |
ToneCurvePV2012Blue | 0, 0, 255, 255 |
ToneCurvePV2012Green | 0, 0, 255, 255 |
ToneCurvePV2012Red | 0, 0, 255, 255 |
Version | 15.3 |
Vibrance | +12 |
VignetteAmount | 0 |
WhiteBalance (1) | Auto |
WhiteBalance | As Shot |
Whites2012 | +3 |